BEGIN:VCALENDAR
VERSION:2.0
PRODID:-//NGK Hoogezand-Sappemeer - ECPv6.3.7//NONSGML v1.0//EN
CALSCALE:GREGORIAN
METHOD:PUBLISH
X-WR-CALNAME:NGK Hoogezand-Sappemeer
X-ORIGINAL-URL:https://ngk-hoogezand-sappemeer.nl
X-WR-CALDESC:Evenementen voor NGK Hoogezand-Sappemeer
REFRESH-INTERVAL;VALUE=DURATION:PT1H
X-Robots-Tag:noindex
X-PUBLISHED-TTL:PT1H
BEGIN:VTIMEZONE
TZID:UTC
BEGIN:STANDARD
TZOFFSETFROM:+0000
TZOFFSETTO:+0000
TZNAME:UTC
DTSTART:20190101T000000
END:STANDARD
END:VTIMEZONE
BEGIN:VEVENT
DTSTART;TZID=UTC:20200524T100000
DTEND;TZID=UTC:20200524T100000
DTSTAMP:20260421T181013
CREATED:20200402T131049Z
LAST-MODIFIED:20200523T134230Z
UID:1509-1590314400-1590314400@ngk-hoogezand-sappemeer.nl
SUMMARY:Ds. J. Plug - luisterdienst
DESCRIPTION:Deze dienst is niet openbaar toegankelijk maar te beluisteren via Kerkomroep \nDe dienst is (met een klein voorbehoud) hieronder live te zien of eventueel via YouTube\n\n \nLiturgie\nVóór de dienst: Wacht op de Heer – (Psalm 27) The Psalm Project\nStil gebed\, votum en groet:\nLied: God van liefde\, God van trouw – The Psalm Project\nWij erkennen schuld\, God belooft vergeving\nLied: Opwekking 717\nGebed\nLied: Echo’s van vroeger – Noorderlicht\nOnderwijs uit de Bijbel: De Klevenkleef\nLezen: Prediker 6: 10 – 7: 4 (BGT)\nTekst: Prediker 7: 1b (BGT)\nLied: Opwekking 687\nGods regels voor een goed leven\nWe danken God en bidden voor elkaar en\nvoor alle mensen\nLied: Opwekking 710\nZegen\n\nCollecte 1e kerk 2e Zending en Hulpverlening\n\nU kunt uw bijdrage in de collecte voor kerk en zending&hulpverlening overmaken op NL 51 RABO 0329 1113 10 onder vermelding van “collecte luisterdiensten”. De CvB zorgt dan voor de verdeling over de collectedoelen. \nKlik hier voor de liturgie met teksten\nEen goede dienst gewenst in verbondenheid
URL:https://ngk-hoogezand-sappemeer.nl/activiteit/ds-j-plug-luisterdienst-2/
LOCATION:De Ark\, Rembrandtlaan 194\, Hoogezand\, Groningen\, 9601 XD\, Nederland
CATEGORIES:Kerkdienst
END:VEVENT
BEGIN:VEVENT
DTSTART;TZID=UTC:20191124T100000
DTEND;TZID=UTC:20191124T100000
DTSTAMP:20260421T181013
CREATED:20191026T104242Z
LAST-MODIFIED:20191122T205608Z
UID:1138-1574589600-1574589600@ngk-hoogezand-sappemeer.nl
SUMMARY:br. G. van der Worp - gedenkzondag
DESCRIPTION:Votum + zegengroet\nLied NLB 728 : 1 en 3\n(1 e 8 regels vrouwen\, laatste 4 regels allen)\nGebed\nKindermoment\nKinderlied : Gezang 225 : 1\, 2\, 6 (= GZ. 75)\nSchriftlezing: Habakuk 1 en 2 : 1 – 5\nGezang 34 : 1 – 3\nPreek over Habakuk 2 : 4\nNLb. 766 : 1 en 3\nOpwekking 717\nHerdenken van de overledenen:\nSela: “Als alles duister is\, (Filmpje Pc)\nMoment van stilte\nJohannes Passion 2 (Hans Werkman)\nGebed\nLied LB 267 : 1\, 2\nDe tien woorden\nCollectes 1 e kerk 2 e Zending en Hulpverlening\nOpwekking 770\nZegen
URL:https://ngk-hoogezand-sappemeer.nl/activiteit/br-g-van-der-worp/
LOCATION:Groningen
CATEGORIES:Kerkdienst
END:VEVENT
BEGIN:VEVENT
DTSTART;TZID=UTC:20190609T100000
DTEND;TZID=UTC:20190609T100000
DTSTAMP:20260421T181013
CREATED:20190524T182452Z
LAST-MODIFIED:20190607T185222Z
UID:933-1560074400-1560074400@ngk-hoogezand-sappemeer.nl
SUMMARY:Br. Gerhard van der Worp - Pinksteren
DESCRIPTION:Liedboek 234\nVotum en groet\nNieuw Liedboek 687\nGebed\nPsalm 104 : 8\nLezen: Handelingen 2 : 1 – 13\nIn het Arabisch\nIn het Nederlands\nGezang GK 103 : 1\,2\nLEzen: Johannes 14 : 15 – 22\nGezang GK 103 : 5\, 6\nPreek\nGezang 64\nAls Wetslezing: Kolossenzen 3 : 1 – 17\nOpwekking 754\nGebed\nCollectes 1 e kerk 2 e Emeritering\nGezang 119 : 1\, 2\, 5\nZegen
URL:https://ngk-hoogezand-sappemeer.nl/activiteit/br-geert-bondt-5/
LOCATION:Groningen
CATEGORIES:Kerkdienst
END:VEVENT
BEGIN:VEVENT
DTSTART;TZID=UTC:20190530T100000
DTEND;TZID=UTC:20190530T100000
DTSTAMP:20260421T181013
CREATED:20190427T182912Z
LAST-MODIFIED:20190528T183724Z
UID:901-1559210400-1559210400@ngk-hoogezand-sappemeer.nl
SUMMARY:Br. Jan Schoonbeek - Hemelvaart
DESCRIPTION:Ps. 47: 1\, 3\, 4\nMatteüs 28: 16 – 20\nHandelingen 1: 9 – 11\nLvK 230 : 1\, 2\, 3\nOpenbaring 5: 1 – 14\nPs. 98 : 1\, 2 in de nieuwe psalmberijming.\nNa de preek:\nGz. 68: 1\, 2\, 3\nZondag 18\nLvK 229 : 2\, 3\, 4\nCollecte 1 e kerk 2 e Theologische Universiteit\nGz. 70: 1\, 2\, 3
URL:https://ngk-hoogezand-sappemeer.nl/activiteit/br-beno-munneke-8/
LOCATION:Groningen
CATEGORIES:Kerkdienst
END:VEVENT
END:VCALENDAR