BEGIN:VCALENDAR
VERSION:2.0
PRODID:-//NGK Hoogezand-Sappemeer - ECPv6.3.7//NONSGML v1.0//EN
CALSCALE:GREGORIAN
METHOD:PUBLISH
X-ORIGINAL-URL:https://ngk-hoogezand-sappemeer.nl
X-WR-CALDESC:Evenementen voor NGK Hoogezand-Sappemeer
REFRESH-INTERVAL;VALUE=DURATION:PT1H
X-Robots-Tag:noindex
X-PUBLISHED-TTL:PT1H
BEGIN:VTIMEZONE
TZID:Europe/Amsterdam
BEGIN:DAYLIGHT
TZOFFSETFROM:+0100
TZOFFSETTO:+0200
TZNAME:CEST
DTSTART:20210328T010000
END:DAYLIGHT
BEGIN:STANDARD
TZOFFSETFROM:+0200
TZOFFSETTO:+0100
TZNAME:CET
DTSTART:20211031T010000
END:STANDARD
BEGIN:DAYLIGHT
TZOFFSETFROM:+0100
TZOFFSETTO:+0200
TZNAME:CEST
DTSTART:20220327T010000
END:DAYLIGHT
BEGIN:STANDARD
TZOFFSETFROM:+0200
TZOFFSETTO:+0100
TZNAME:CET
DTSTART:20221030T010000
END:STANDARD
TZID:UTC
BEGIN:STANDARD
TZOFFSETFROM:+0000
TZOFFSETTO:+0000
TZNAME:UTC
DTSTART:20190101T000000
END:STANDARD
END:VTIMEZONE
BEGIN:VEVENT
DTSTART;TZID=Europe/Amsterdam:20220102T100000
DTEND;TZID=Europe/Amsterdam:20220102T113000
DTSTAMP:20260421T164618
CREATED:20211224T105440Z
LAST-MODIFIED:20211229T151359Z
UID:2848-1641117600-1641123000@ngk-hoogezand-sappemeer.nl
SUMMARY:Br. B.R. Munneke
DESCRIPTION:Deze dienst is alleen on-line te volgen via kerkdienstmeebeleven\nof te beluisteren via  kerkomroep \n \nLiturgie\nPreek ds. K. Beiboer \nWelkom en afkondigingen\nStilte\nZingen Opw. 462\nZegenbede en groet\nZingen Ps. 90: 1\, 8\nGebed\nIets voor de kinderen\nZingen E&R Lees je Bijbel\, bidt elke dag\nLezen 2 Koningen 6: 8 – 23\nZingen Gezang 171\nPreek\nZingen Bescherming is er bij de Heer\,\n10 geboden\nZingen LB 481: 2\nGebed\nCollecte 1e kerk 2e Diaconie\nZingen Gezang 161\nZegen \nU kunt uw bijdrage in de collecte overmaken via de Scipio-app of op NL 51 RABO 0329 1113 10 onder vermelding van “collecte on-line diensten”. De Commissie van Beheer zorgt dan voor de verdeling over de collectedoelen. \nKlik hier voor de liturgie met teksten\nEen goede dienst gewenst in verbondenheid
URL:https://ngk-hoogezand-sappemeer.nl/activiteit/br-b-r-munneke-13/
LOCATION:Online Dienst
CATEGORIES:Kerkdienst
END:VEVENT
BEGIN:VEVENT
DTSTART;TZID=Europe/Amsterdam:20211231T193000
DTEND;TZID=Europe/Amsterdam:20211231T203000
DTSTAMP:20260421T164618
CREATED:20211224T105338Z
LAST-MODIFIED:20211229T151025Z
UID:2846-1640979000-1640982600@ngk-hoogezand-sappemeer.nl
SUMMARY:Br. P. Braam - oudjaar
DESCRIPTION:Deze dienst is alleen on-line te volgen via kerkdienstmeebeleven\nof te beluisteren via  kerkomroep \n \nLiturgie\nBr. P. Braam\nVotum en groet\nPsalm 91\nGebed\nLezen Hebreeën 1: 1 – 2 : 4\nNLB 513\nPreek\nPsalm 90 medley\nGebed\nCollecte 1e kerk 2e Zending en Hulpverlening\nNLB 245: 1\, 3\nZegen \nU kunt uw bijdrage in de collecte overmaken via de Scipio-app of op NL 51 RABO 0329 1113 10 onder vermelding van “collecte on-line diensten”. De Commissie van Beheer zorgt dan voor de verdeling over de collectedoelen. \nKlik hier voor de liturgie met teksten\nEen goede dienst gewenst in verbondenheid
URL:https://ngk-hoogezand-sappemeer.nl/activiteit/br-p-braam-oudjaar-2/
LOCATION:Online Dienst
CATEGORIES:Kerkdienst
END:VEVENT
BEGIN:VEVENT
DTSTART;TZID=Europe/Amsterdam:20211203T110000
DTEND;TZID=Europe/Amsterdam:20211203T123000
DTSTAMP:20260421T164618
CREATED:20211128T205855Z
LAST-MODIFIED:20211203T083551Z
UID:2772-1638529200-1638534600@ngk-hoogezand-sappemeer.nl
SUMMARY:Dankdienst voor het leven van Hendericus (Rieks) West
DESCRIPTION:Klik hier om de dienst online te volgen\nU kunt de dienst ook beluisteren via  kerkomroep \n \nLiturgie \nVoorganger: Anne-Maaike Pathuis\nBegeleiding: Jan Leemhuis \nWelkom\nZingen: Psalm 121:1 en 3\nGebed\nLuisterlied: ‘Er is een stad’\nBijdrage namens de familie door Thea West\nLuisterlied: Ede Staal – ’t Hogelaand\nSchriftlezing: Psalm 91\nZingen: Psalm 18:9\nOverdenking over Psalm 37:39\nZingen: Opwekking 770\nGebed\nZingen: Opwekking 733\nZegenbede\nZingen: Opwekking 320\nMuziek bij het uitdragen van Rieks: ‘U zij de glorie’ \nKlik HIER voor de liturgie met teksten  
URL:https://ngk-hoogezand-sappemeer.nl/activiteit/dankdienst-voor-het-leven-van-rieks-west/
LOCATION:De Ark\, Rembrandtlaan 194\, Hoogezand\, Groningen\, 9601 XD\, Nederland
CATEGORIES:Kerkdienst
END:VEVENT
BEGIN:VEVENT
DTSTART;TZID=Europe/Amsterdam:20211003T163000
DTEND;TZID=Europe/Amsterdam:20211003T170000
DTSTAMP:20260421T164618
CREATED:20210927T155337Z
LAST-MODIFIED:20211001T133401Z
UID:2557-1633278600-1633280400@ngk-hoogezand-sappemeer.nl
SUMMARY:Ds J. Plug -Vesperdienst
DESCRIPTION:Deze dienst is on-line te volgen of te bezoeken na aanmelding\n\n\n\n\nDe dienst met beeld kan hieronder gevolgd worden of via kerkdienstmeebeleven\nU kunt de dienst ook beluisteren via  kerkomroep \n\n\n\n\n\n\n\n\n\n\n\n \nLiturgie\n\n\n\n\nVotum en Zegengroet\nNieuwe Psalm Berijming 130\nGebed\nOverdenking psalm 130: 1\,2\nLied Hij en Zij\nOverdenking psalm 130: 3\, 4\nPsalm 130 Abayadayu\nOverdenking psalm 130: 5\, 6\nLied Shane and Shane\nOverdenking psalm 130: 7\,8\nPsalmen voor nu 130\nGebed\nCollecte 1e kerk 2e Theologische universiteit\nPsalm 130:4\nZegen \nU kunt uw bijdrage in de collecte overmaken via de Scipio-app of op NL 51 RABO 0329 1113 10 onder vermelding van “collecte on-line diensten”. De Commissie van Beheer zorgt dan voor de verdeling over de collectedoelen. \nKlik hier voor de liturgie met teksten\n \nEen goede dienst gewenst in verbondenheid
URL:https://ngk-hoogezand-sappemeer.nl/activiteit/ds-j-plug-vesperdienst/
LOCATION:De Ark\, Rembrandtlaan 194\, Hoogezand\, Groningen\, 9601 XD\, Nederland
CATEGORIES:Kerkdienst
END:VEVENT
BEGIN:VEVENT
DTSTART;TZID=Europe/Amsterdam:20210930T130000
DTEND;TZID=Europe/Amsterdam:20210930T143000
DTSTAMP:20260421T164618
CREATED:20210927T161059Z
LAST-MODIFIED:20210929T154751Z
UID:2576-1633006800-1633012200@ngk-hoogezand-sappemeer.nl
SUMMARY:Dankdienst voor het leven van Gré Ouwinga
DESCRIPTION:De dienst met beeld kan hieronder gevolgd worden of via kerkdienstmeebeleven\n\n\n\n\nU kunt de dienst ook beluisteren via  kerkomroep \n\n\n\n\n\n\n\n\n\n\n\n \nLiturgie\nVoorganger: Anne-Maaike Pathuis \nWelkom \n\n\n\n\nPsalm 25: 2\, 3\nIn memoriam door familie\nOpwekking 518\nGebed\nLezen: Psalm 121\nLied 640\nOverdenking\nGebed\nPsalm 43: 3 – 5\nOpwekking 832\nDankwoord\nOpwekking 733 \nEen goede dienst gewenst in verbondenheid
URL:https://ngk-hoogezand-sappemeer.nl/activiteit/dankdienst-voor-het-leven-van-gre-ouwinga/
LOCATION:Online Dienst
CATEGORIES:Kerkdienst
END:VEVENT
BEGIN:VEVENT
DTSTART;TZID=Europe/Amsterdam:20210926T163000
DTEND;TZID=Europe/Amsterdam:20210926T170000
DTSTAMP:20260421T164618
CREATED:20210816T075923Z
LAST-MODIFIED:20210925T081226Z
UID:2459-1632673800-1632675600@ngk-hoogezand-sappemeer.nl
SUMMARY:Ds. J. Plug - Vesperdienst
DESCRIPTION:Deze dienst is on-line te volgen of te bezoeken na aanmelding\n\n\n\n\nDe dienst met beeld kan hieronder gevolgd worden of via kerkdienstmeebeleven\nU kunt de dienst ook beluisteren via  kerkomroep \n\n\n\n\n\n\n\n\n\n\n\n \nLiturgie\n\n\n\n\nLuisterlied: Opwekking 710\nGebed\nOverdenking bij psalm 107\nLied: Opwekking 717\nGebed: Onze Vader\nCollecte 1e kerk 2e Emeritering\nLied: Ps. 107: 1 (Liedboek)\nZegen \n  \n  \nU kunt uw bijdrage in de collecte overmaken via de Scipio-app of op NL 51 RABO 0329 1113 10 onder vermelding van “collecte on-line diensten”. De Commissie van Beheer zorgt dan voor de verdeling over de collectedoelen. \nKlik hier voor de liturgie met teksten\n \nEen goede dienst gewenst in verbondenheid
URL:https://ngk-hoogezand-sappemeer.nl/activiteit/ds-j-plug-23/
LOCATION:De Ark\, Rembrandtlaan 194\, Hoogezand\, Groningen\, 9601 XD\, Nederland
CATEGORIES:Kerkdienst
END:VEVENT
BEGIN:VEVENT
DTSTART;TZID=Europe/Amsterdam:20210919T163000
DTEND;TZID=Europe/Amsterdam:20210919T170000
DTSTAMP:20260421T164618
CREATED:20210816T075634Z
LAST-MODIFIED:20210918T202800Z
UID:2455-1632069000-1632070800@ngk-hoogezand-sappemeer.nl
SUMMARY:Ds. J. Plug -vesperdienst
DESCRIPTION:Deze dienst is on-line te volgen of te bezoeken na aanmelding\n\n\n\n\nDe dienst met beeld kan hieronder gevolgd worden of via kerkdienstmeebeleven\nU kunt de dienst ook beluisteren via  kerkomroep \n\n\n\n\n\n\n\n\n\n\n\n \nLiturgie\n\n\n\n\nVotum en zegengroet\nLied: Psalm 103\nGebed\nLied: Psalm Project 51\nOverdenking bij psalm 51\nLuisterlied: Matthijn Buwalda Littekens\nGebed: Onze Vader\nCollecte 1 e kerk 2 e Zending en Hulpverlening\nLied: Psalm 117\nZegen \n  \nU kunt uw bijdrage in de collecte overmaken via de Scipio-app of op NL 51 RABO 0329 1113 10 onder vermelding van “collecte on-line diensten”. De Commissie van Beheer zorgt dan voor de verdeling over de collectedoelen. \nKlik hier voor de liturgie met teksten\n \nEen goede dienst gewenst in verbondenheid
URL:https://ngk-hoogezand-sappemeer.nl/activiteit/ds-j-plug-21/
LOCATION:De Ark\, Rembrandtlaan 194\, Hoogezand\, Groningen\, 9601 XD\, Nederland
CATEGORIES:Kerkdienst
END:VEVENT
BEGIN:VEVENT
DTSTART;TZID=Europe/Amsterdam:20210910T133000
DTEND;TZID=Europe/Amsterdam:20210910T150000
DTSTAMP:20260421T164618
CREATED:20210908T184934Z
LAST-MODIFIED:20210908T185929Z
UID:2504-1631280600-1631286000@ngk-hoogezand-sappemeer.nl
SUMMARY:Dankdienst voor het leven van Kees Sander
DESCRIPTION:De dienst met beeld kan hieronder gevolgd worden of via kerkdienstmeebeleven\n\n\n\n\nU kunt de dienst ook beluisteren via  kerkomroep \n\n\n\n\n\n\n\n\n\n\n\n \nVoorganger : ds. H. Zeilstra\nLiturgie\n\n\n\n\nJohannes de Heer 523\nWelkom\nBijdrage familie\nOpwekking 790\nLezen 1 Korintiërs 13: 1 – 13\nLiedboek 293\nOverdenking\nJohannes de Heer 213\nBijdrage van familie\nNieuw liedboek 416\nGezang 141\nDankwoord\nJohannes de Heer 523
URL:https://ngk-hoogezand-sappemeer.nl/activiteit/dankdienst-voor-het-leven-van-kees-sander/
LOCATION:Online Dienst
CATEGORIES:Kerkdienst
END:VEVENT
BEGIN:VEVENT
DTSTART;TZID=Europe/Amsterdam:20210820T193000
DTEND;TZID=Europe/Amsterdam:20210820T210000
DTSTAMP:20260421T164618
CREATED:20210816T084552Z
LAST-MODIFIED:20210820T080222Z
UID:2461-1629487800-1629493200@ngk-hoogezand-sappemeer.nl
SUMMARY:Trouwdienst Roelof van der Zwaag en Nicole Suithoff
DESCRIPTION:Deze dienst is alleen te bezoeken door genodigden.\n\n\n\n\nDe dienst met beeld kan hieronder gevolgd worden of via kerkdienstmeebeleven\nU kunt de dienst ook beluisteren via  kerkomroep \n\n\n\n\n\n\n\n\n\n\n\n \n\nLiturgie – voorganger ds. L.G. Boonstra\n\n\n\n\nVooraf en tijdens binnenlopen: Here’s my heart Lord.\nVotum en vredegroet\nZingen: Sela ‘Breng ons samen’\nLezen: Kolossenzen 3: 12 – 17 BGT\nZingen: Opwekking 488\nTekst: Kolossenzen 3: 12 – 14 BGT\nOverdenking\nZingen: Ten Thousand Reasens\nHuwelijksformulier\nZingen: Opwekking 167\nBelofte\, zegen en gebed\nZingen: Opwekking 194\nGebed\nCollecte\nApostolische geloofsbelijdenis\nZingen: Ere zij God ‘In gedachten bij opa Bob Suithoff’\nGods zegen \nDe collecte is bestemd voor MIND\, een organisatie die zich inzet voor verbeteren van psychische gezondheid.\nU kunt uw bijdrage in de collecte overmaken via de Scipio-app of op NL 51 RABO 0329 1113 10 onder vermelding van “collecte trouwdienst “. 
URL:https://ngk-hoogezand-sappemeer.nl/activiteit/trouwdienst-roelof-van-der-zwaag-en-nicole-suithoff/
LOCATION:Online Dienst
CATEGORIES:Kerkdienst
ATTACH;FMTTYPE=image/jpeg:https://ngk-hoogezand-sappemeer.nl/wp-content/uploads/2021/08/vdZwaag.jpg
END:VEVENT
BEGIN:VEVENT
DTSTART;TZID=Europe/Amsterdam:20210220T140000
DTEND;TZID=Europe/Amsterdam:20210220T153000
DTSTAMP:20260421T164618
CREATED:20210219T232630Z
LAST-MODIFIED:20210219T232630Z
UID:2127-1613829600-1613835000@ngk-hoogezand-sappemeer.nl
SUMMARY:Dankdienst voor het leven van Hensen Vegter
DESCRIPTION:Deze dienst is alleen on-line te volgen\n\n\n\n\nDe dienst met beeld kan hieronder gevolgd worden of HIER via kerkdienstmeebeleven\nU kunt de dienst ook beluisteren via  Kerkomroep \n\n\n\n \nLiturgie\nBinnenkomst – Opwekking 733 – Tienduizend redenen \nWelkom en Gebed \nGedeelte uit het oratorium ‘Paulus’ van F. Mendelssohn \nHerinneringen \nLuisterlied –  Ik zal er zijn – Sela \nLezen 2 Korintiërs 5 : 1- 10 \nVerlangen om bij de Heer te wonen \nKorte overdenking door ds. Arjen van der Scheer \nOpwekking 585 – Er is een dag \nHerinneringen door de kleinkinderen \nVoorlezen –  Opwekking 123 – Groot is uw trouw o Heer \nZegen \nBij het uitdragen – Opwekking 213 –  U zij de glorie \nKlik hier voor de liturgie met teksten\n \n\n\n\n\n\n  \n  \n 
URL:https://ngk-hoogezand-sappemeer.nl/activiteit/dankdienst-voor-het-leven-van-hensen-vegter/
LOCATION:Online Dienst
CATEGORIES:Kerkdienst
END:VEVENT
BEGIN:VEVENT
DTSTART;TZID=UTC:20200524T100000
DTEND;TZID=UTC:20200524T100000
DTSTAMP:20260421T164618
CREATED:20200402T131049Z
LAST-MODIFIED:20200523T134230Z
UID:1509-1590314400-1590314400@ngk-hoogezand-sappemeer.nl
SUMMARY:Ds. J. Plug - luisterdienst
DESCRIPTION:Deze dienst is niet openbaar toegankelijk maar te beluisteren via Kerkomroep \nDe dienst is (met een klein voorbehoud) hieronder live te zien of eventueel via YouTube\n\n \nLiturgie\nVóór de dienst: Wacht op de Heer – (Psalm 27) The Psalm Project\nStil gebed\, votum en groet:\nLied: God van liefde\, God van trouw – The Psalm Project\nWij erkennen schuld\, God belooft vergeving\nLied: Opwekking 717\nGebed\nLied: Echo’s van vroeger – Noorderlicht\nOnderwijs uit de Bijbel: De Klevenkleef\nLezen: Prediker 6: 10 – 7: 4 (BGT)\nTekst: Prediker 7: 1b (BGT)\nLied: Opwekking 687\nGods regels voor een goed leven\nWe danken God en bidden voor elkaar en\nvoor alle mensen\nLied: Opwekking 710\nZegen\n\nCollecte 1e kerk 2e Zending en Hulpverlening\n\nU kunt uw bijdrage in de collecte voor kerk en zending&hulpverlening overmaken op NL 51 RABO 0329 1113 10 onder vermelding van “collecte luisterdiensten”. De CvB zorgt dan voor de verdeling over de collectedoelen. \nKlik hier voor de liturgie met teksten\nEen goede dienst gewenst in verbondenheid
URL:https://ngk-hoogezand-sappemeer.nl/activiteit/ds-j-plug-luisterdienst-2/
LOCATION:De Ark\, Rembrandtlaan 194\, Hoogezand\, Groningen\, 9601 XD\, Nederland
CATEGORIES:Kerkdienst
END:VEVENT
BEGIN:VEVENT
DTSTART;TZID=UTC:20191124T100000
DTEND;TZID=UTC:20191124T100000
DTSTAMP:20260421T164618
CREATED:20191026T104242Z
LAST-MODIFIED:20191122T205608Z
UID:1138-1574589600-1574589600@ngk-hoogezand-sappemeer.nl
SUMMARY:br. G. van der Worp - gedenkzondag
DESCRIPTION:Votum + zegengroet\nLied NLB 728 : 1 en 3\n(1 e 8 regels vrouwen\, laatste 4 regels allen)\nGebed\nKindermoment\nKinderlied : Gezang 225 : 1\, 2\, 6 (= GZ. 75)\nSchriftlezing: Habakuk 1 en 2 : 1 – 5\nGezang 34 : 1 – 3\nPreek over Habakuk 2 : 4\nNLb. 766 : 1 en 3\nOpwekking 717\nHerdenken van de overledenen:\nSela: “Als alles duister is\, (Filmpje Pc)\nMoment van stilte\nJohannes Passion 2 (Hans Werkman)\nGebed\nLied LB 267 : 1\, 2\nDe tien woorden\nCollectes 1 e kerk 2 e Zending en Hulpverlening\nOpwekking 770\nZegen
URL:https://ngk-hoogezand-sappemeer.nl/activiteit/br-g-van-der-worp/
LOCATION:Groningen
CATEGORIES:Kerkdienst
END:VEVENT
BEGIN:VEVENT
DTSTART;TZID=UTC:20190609T100000
DTEND;TZID=UTC:20190609T100000
DTSTAMP:20260421T164618
CREATED:20190524T182452Z
LAST-MODIFIED:20190607T185222Z
UID:933-1560074400-1560074400@ngk-hoogezand-sappemeer.nl
SUMMARY:Br. Gerhard van der Worp - Pinksteren
DESCRIPTION:Liedboek 234\nVotum en groet\nNieuw Liedboek 687\nGebed\nPsalm 104 : 8\nLezen: Handelingen 2 : 1 – 13\nIn het Arabisch\nIn het Nederlands\nGezang GK 103 : 1\,2\nLEzen: Johannes 14 : 15 – 22\nGezang GK 103 : 5\, 6\nPreek\nGezang 64\nAls Wetslezing: Kolossenzen 3 : 1 – 17\nOpwekking 754\nGebed\nCollectes 1 e kerk 2 e Emeritering\nGezang 119 : 1\, 2\, 5\nZegen
URL:https://ngk-hoogezand-sappemeer.nl/activiteit/br-geert-bondt-5/
LOCATION:Groningen
CATEGORIES:Kerkdienst
END:VEVENT
BEGIN:VEVENT
DTSTART;TZID=UTC:20190530T100000
DTEND;TZID=UTC:20190530T100000
DTSTAMP:20260421T164618
CREATED:20190427T182912Z
LAST-MODIFIED:20190528T183724Z
UID:901-1559210400-1559210400@ngk-hoogezand-sappemeer.nl
SUMMARY:Br. Jan Schoonbeek - Hemelvaart
DESCRIPTION:Ps. 47: 1\, 3\, 4\nMatteüs 28: 16 – 20\nHandelingen 1: 9 – 11\nLvK 230 : 1\, 2\, 3\nOpenbaring 5: 1 – 14\nPs. 98 : 1\, 2 in de nieuwe psalmberijming.\nNa de preek:\nGz. 68: 1\, 2\, 3\nZondag 18\nLvK 229 : 2\, 3\, 4\nCollecte 1 e kerk 2 e Theologische Universiteit\nGz. 70: 1\, 2\, 3
URL:https://ngk-hoogezand-sappemeer.nl/activiteit/br-beno-munneke-8/
LOCATION:Groningen
CATEGORIES:Kerkdienst
END:VEVENT
END:VCALENDAR