BEGIN:VCALENDAR
VERSION:2.0
PRODID:-//NGK Hoogezand-Sappemeer - ECPv6.3.7//NONSGML v1.0//EN
CALSCALE:GREGORIAN
METHOD:PUBLISH
X-ORIGINAL-URL:https://ngk-hoogezand-sappemeer.nl
X-WR-CALDESC:Evenementen voor NGK Hoogezand-Sappemeer
REFRESH-INTERVAL;VALUE=DURATION:PT1H
X-Robots-Tag:noindex
X-PUBLISHED-TTL:PT1H
BEGIN:VTIMEZONE
TZID:Europe/Amsterdam
BEGIN:DAYLIGHT
TZOFFSETFROM:+0100
TZOFFSETTO:+0200
TZNAME:CEST
DTSTART:20260329T010000
END:DAYLIGHT
BEGIN:STANDARD
TZOFFSETFROM:+0200
TZOFFSETTO:+0100
TZNAME:CET
DTSTART:20261025T010000
END:STANDARD
END:VTIMEZONE
BEGIN:VEVENT
DTSTART;TZID=Europe/Amsterdam:20260405T100000
DTEND;TZID=Europe/Amsterdam:20260405T113000
DTSTAMP:20260425T162041
CREATED:20260402T090328Z
LAST-MODIFIED:20260404T110035Z
UID:5850-1775383200-1775388600@ngk-hoogezand-sappemeer.nl
SUMMARY:Ds. A.M. Pathuis - Pasen en Heilig Avondmaal
DESCRIPTION:Deze dienst is on-line of later te volgen via Kerkdienstgemist\n\nLiturgie\nZingen: Sela – ‘Het nieuwe leven’\nWelkom\nVotum en Paasgroet\nZingen: Sela – ‘Opgestaan’\nLezen: Johannes 20:1-10 (BGT) \nZingen: MSNK – ‘Happy Pasen’ \nAfkondigingen \nZingen: Sela – ‘Raak mijn wonden aan’\nGebed\nLezen: 1 Korintiërs 15:3-5\, 20-23 en 35-49\nPreek\nZingen: Opwekking 799 ‘In eeuwigheid’\nDankgebed\nViering Avondmaal\no Collecte\no Zingen: Opwekking 810 ‘Onze God roept ons aan tafel’\no Korte uitleg bij het Avondmaal\no Gebed\no Apostolische geloofsbelijdenis\no Zingen: Liedboek 641:1\, 2\, 4 ‘Jezus leeft en ik met Hem’\no Nodiging en viering\no Luisterlied: Sela ‘We gedenken’ (wel tekst beamen)\no Afsluitende woorden: Romeinen 8:32-34 en 38-39\nZingen: Opwekking 213 ‘U zij de glorie’\nZegen \nBegeleiding Menorah \nKlik hier voor de liturgie met teksten\nU kunt uw bijdrage in de collecte overmaken via de Scipio-app of op NL 51 RABO 0329 1113 10 onder vermelding van “collecte on-line diensten”. De Commissie van Beheer zorgt dan voor de verdeling over de collectedoelen. \nEen goede dienst gewenst in verbondenheid
URL:https://ngk-hoogezand-sappemeer.nl/activiteit/ds-a-m-pathuis-pasen-en-heilig-avondmaal-2/
LOCATION:De Ark\, Rembrandtlaan 194\, Hoogezand\, Groningen\, 9601 XD\, Nederland
CATEGORIES:Kerkdienst
END:VEVENT
BEGIN:VEVENT
DTSTART;TZID=Europe/Amsterdam:20260412T100000
DTEND;TZID=Europe/Amsterdam:20260412T113000
DTSTAMP:20260425T162041
CREATED:20260402T090434Z
LAST-MODIFIED:20260402T090434Z
UID:5852-1775988000-1775993400@ngk-hoogezand-sappemeer.nl
SUMMARY:Br. K. Braam
DESCRIPTION:Deze dienst is on-line of later te volgen via Kerkdienstgemist\n\nLiturgie\nVOLGT ZODRA BEKEND \nKlik hier voor de liturgie met teksten\nU kunt uw bijdrage in de collecte overmaken via de Scipio-app of op NL 51 RABO 0329 1113 10 onder vermelding van “collecte on-line diensten”. De Commissie van Beheer zorgt dan voor de verdeling over de collectedoelen. \nEen goede dienst gewenst in verbondenheid
URL:https://ngk-hoogezand-sappemeer.nl/activiteit/br-k-braam/
LOCATION:De Ark\, Rembrandtlaan 194\, Hoogezand\, Groningen\, 9601 XD\, Nederland
CATEGORIES:Kerkdienst
END:VEVENT
BEGIN:VEVENT
DTSTART;TZID=Europe/Amsterdam:20260417T103000
DTEND;TZID=Europe/Amsterdam:20260417T120000
DTSTAMP:20260425T162041
CREATED:20260416T172306Z
LAST-MODIFIED:20260416T172306Z
UID:5873-1776421800-1776427200@ngk-hoogezand-sappemeer.nl
SUMMARY:Dankdienst voor het leven van Aja de Haas
DESCRIPTION:Deze dienst is on-line of later te volgen via Kerkdienstgemist\n\nLiturgie\nLuisterlied bij het binnendragen: ‘You raise me up’\nWoord van welkom\nZingen: Opwekking 123 ‘Groot is uw trouw\, o Heer’\nGebed\nZingen: Opwekking 281 ‘Als een hert dat verlangt naar water’\nLezen: Psalm 139:1-18 (BGT)\nOverdenking over Psalm 139:1 (NBV21): ‘Heer\, U kent mij\, U doorgrondt mij’\nZingen: Opwekking 599 ‘Nog voordat je bestond’\nDankgebed\nZingen: Opwekking 717 ‘Stil\, mijn ziel\, wees stil’\nZegen\nZingen tijdens het uitdragen: Liedboek 231:1\, 2\, 4 ‘Wat de toekomst brengen moge’ \nVoorganger  ds. A.M. Pathuis\nMuzikale begeleiding  Jan de Roos \nKlik hier voor de liturgie met teksten
URL:https://ngk-hoogezand-sappemeer.nl/activiteit/dankdienst-voor-het-leven-van-aja-de-haas/
LOCATION:De Ark\, Rembrandtlaan 194\, Hoogezand\, Groningen\, 9601 XD\, Nederland
CATEGORIES:Kerkdienst
END:VEVENT
BEGIN:VEVENT
DTSTART;TZID=Europe/Amsterdam:20260419T100000
DTEND;TZID=Europe/Amsterdam:20260419T113000
DTSTAMP:20260425T162041
CREATED:20260402T090528Z
LAST-MODIFIED:20260425T121250Z
UID:5854-1776592800-1776598200@ngk-hoogezand-sappemeer.nl
SUMMARY:Ds. A.M. Pathuis - Doop Jelte Moedt en br. F. Pathuis
DESCRIPTION:Deze dienst is on-line of later te volgen via Kerkdienstgemist\n\nLiturgie\nVotum en groet\nZingen: Opwekking 733\nDoop van Jelte Moedt\n– Uitleg bij de doop\n– Zingen: Sela ‘Doop’\n– Gebed\n– Kindermoment\n– Doopbediening\n– Zingen: Sela ‘Zegen voor de kinderen’\nDankgebed voor de doop en voorbeden\nZingen: Liedboek 348: 1\, 2\, 4\nSchriftlezing: Johannes 12: 20 – 26 Zingen: Liedboek 348: 6\, 8\, 9\nPreek\nZingen: GKB (2017) Gezang 215: 1\, 2\, 5\nDankgebed\nCollecte Kerk en Zending & Hulpverlening\nZingen: Opwekking 789\nZegen \nBegeleiding: Jan Leemhuis\nSchriftlezing: Tea Snip \nKlik hier voor de liturgie met teksten\nU kunt uw bijdrage in de collecte overmaken via de Scipio-app of op NL 51 RABO 0329 1113 10 onder vermelding van “collecte on-line diensten”. De Commissie van Beheer zorgt dan voor de verdeling over de collectedoelen. \nEen goede dienst gewenst in verbondenheid
URL:https://ngk-hoogezand-sappemeer.nl/activiteit/ds-a-m-pathuis-51/
LOCATION:De Ark\, Rembrandtlaan 194\, Hoogezand\, Groningen\, 9601 XD\, Nederland
CATEGORIES:Kerkdienst
END:VEVENT
BEGIN:VEVENT
DTSTART;TZID=Europe/Amsterdam:20260426T100000
DTEND;TZID=Europe/Amsterdam:20260426T113000
DTSTAMP:20260425T162041
CREATED:20260402T090619Z
LAST-MODIFIED:20260425T125840Z
UID:5856-1777197600-1777203000@ngk-hoogezand-sappemeer.nl
SUMMARY:Br. F. Pathuis
DESCRIPTION:Deze dienst is on-line of later te volgen via Kerkdienstgemist\n\nLiturgie\nVotum en zegengroet\nZingen: LB 653: 1\, 6\, 7\nGebed\nKinderlied: Make Some Noise Kids – ‘Van Binnenuit’; \nLezen: Romeinen. 5: 21 – 6: 14 en 7 : 5 – 6\nZingen: Sela – Ik leef\nPreek over Romeinen 5: 13b\nZingen: LB 656 : 1\, 2\, 3\nLeefregels: Romeinen 12: 1 – 2\nZingen: GK Gezang 251: 2\, 3\, 4\nGebed\nCollecte Kerk en Evangelisatie\nGeloofsbelijdenis: Opwekking Lied 575\nZegen \nBegeleiding: Nanno Siertsema\nSchriftlezing: Erna Maring \nKlik hier voor de liturgie met teksten\nU kunt uw bijdrage in de collecte overmaken via de Scipio-app of op NL 51 RABO 0329 1113 10 onder vermelding van “collecte on-line diensten”. De Commissie van Beheer zorgt dan voor de verdeling over de collectedoelen. \nEen goede dienst gewenst in verbondenheid
URL:https://ngk-hoogezand-sappemeer.nl/activiteit/br-f-pathuis-6/
LOCATION:De Ark\, Rembrandtlaan 194\, Hoogezand\, Groningen\, 9601 XD\, Nederland
CATEGORIES:Kerkdienst
END:VEVENT
BEGIN:VEVENT
DTSTART;TZID=Europe/Amsterdam:20260503T100000
DTEND;TZID=Europe/Amsterdam:20260503T113000
DTSTAMP:20260425T162041
CREATED:20260425T130242Z
LAST-MODIFIED:20260425T130242Z
UID:5888-1777802400-1777807800@ngk-hoogezand-sappemeer.nl
SUMMARY:Zr. C.L. Prins
DESCRIPTION:Deze dienst is on-line of later te volgen via Kerkdienstgemist\n\nLiturgie\nVOLGT ZODRA BEKEND \nKlik hier voor de liturgie met teksten\nU kunt uw bijdrage in de collecte overmaken via de Scipio-app of op NL 51 RABO 0329 1113 10 onder vermelding van “collecte on-line diensten”. De Commissie van Beheer zorgt dan voor de verdeling over de collectedoelen. \nEen goede dienst gewenst in verbondenheid
URL:https://ngk-hoogezand-sappemeer.nl/activiteit/zr-c-l-prins-14/
LOCATION:De Ark\, Rembrandtlaan 194\, Hoogezand\, Groningen\, 9601 XD\, Nederland
CATEGORIES:Kerkdienst
END:VEVENT
BEGIN:VEVENT
DTSTART;TZID=Europe/Amsterdam:20260503T163000
DTEND;TZID=Europe/Amsterdam:20260503T180000
DTSTAMP:20260425T162041
CREATED:20260425T130352Z
LAST-MODIFIED:20260425T130352Z
UID:5890-1777825800-1777831200@ngk-hoogezand-sappemeer.nl
SUMMARY:Br. P. Braam - Leer en bidbijeenkomst
DESCRIPTION:Deze dienst is on-line of later te volgen via Kerkdienstgemist\n\nLiturgie\nVOLGT ZODRA BEKEND \nKlik hier voor de liturgie met teksten\nU kunt uw bijdrage in de collecte overmaken via de Scipio-app of op NL 51 RABO 0329 1113 10 onder vermelding van “collecte on-line diensten”. De Commissie van Beheer zorgt dan voor de verdeling over de collectedoelen. \nEen goede dienst gewenst in verbondenheid
URL:https://ngk-hoogezand-sappemeer.nl/activiteit/br-p-braam-leer-en-bidbijeenkomst/
LOCATION:De Ark\, Rembrandtlaan 194\, Hoogezand\, Groningen\, 9601 XD\, Nederland
CATEGORIES:Kerkdienst
END:VEVENT
BEGIN:VEVENT
DTSTART;TZID=Europe/Amsterdam:20260510T100000
DTEND;TZID=Europe/Amsterdam:20260510T113000
DTSTAMP:20260425T162041
CREATED:20260425T130435Z
LAST-MODIFIED:20260425T130435Z
UID:5892-1778407200-1778412600@ngk-hoogezand-sappemeer.nl
SUMMARY:Ds. A.M. Pathuis
DESCRIPTION:Deze dienst is on-line of later te volgen via Kerkdienstgemist\n\nLiturgie\nVOLGT ZODRA BEKEND \nKlik hier voor de liturgie met teksten\nU kunt uw bijdrage in de collecte overmaken via de Scipio-app of op NL 51 RABO 0329 1113 10 onder vermelding van “collecte on-line diensten”. De Commissie van Beheer zorgt dan voor de verdeling over de collectedoelen. \nEen goede dienst gewenst in verbondenheid
URL:https://ngk-hoogezand-sappemeer.nl/activiteit/ds-a-m-pathuis-52/
LOCATION:De Ark\, Rembrandtlaan 194\, Hoogezand\, Groningen\, 9601 XD\, Nederland
CATEGORIES:Kerkdienst
END:VEVENT
BEGIN:VEVENT
DTSTART;TZID=Europe/Amsterdam:20260514T100000
DTEND;TZID=Europe/Amsterdam:20260514T113000
DTSTAMP:20260425T162041
CREATED:20260425T130523Z
LAST-MODIFIED:20260425T130543Z
UID:5894-1778752800-1778758200@ngk-hoogezand-sappemeer.nl
SUMMARY:Ds. A.M. Pathuis - Hemelvaart
DESCRIPTION:Deze dienst is on-line of later te volgen via Kerkdienstgemist\n\nLiturgie\nVOLGT ZODRA BEKEND \nKlik hier voor de liturgie met teksten\nU kunt uw bijdrage in de collecte overmaken via de Scipio-app of op NL 51 RABO 0329 1113 10 onder vermelding van “collecte on-line diensten”. De Commissie van Beheer zorgt dan voor de verdeling over de collectedoelen. \nEen goede dienst gewenst in verbondenheid
URL:https://ngk-hoogezand-sappemeer.nl/activiteit/ds-a-m-pathuis-hemelvaart-3/
LOCATION:De Ark\, Rembrandtlaan 194\, Hoogezand\, Groningen\, 9601 XD\, Nederland
CATEGORIES:Kerkdienst
END:VEVENT
BEGIN:VEVENT
DTSTART;TZID=Europe/Amsterdam:20260524T100000
DTEND;TZID=Europe/Amsterdam:20260524T113000
DTSTAMP:20260425T162041
CREATED:20260425T130614Z
LAST-MODIFIED:20260425T130651Z
UID:5896-1779616800-1779622200@ngk-hoogezand-sappemeer.nl
SUMMARY:Br. H. Dokter
DESCRIPTION:Deze dienst is on-line of later te volgen via Kerkdienstgemist\n\nLiturgie\nVOLGT ZODRA BEKEND \nKlik hier voor de liturgie met teksten\nU kunt uw bijdrage in de collecte overmaken via de Scipio-app of op NL 51 RABO 0329 1113 10 onder vermelding van “collecte on-line diensten”. De Commissie van Beheer zorgt dan voor de verdeling over de collectedoelen. \nEen goede dienst gewenst in verbondenheid
URL:https://ngk-hoogezand-sappemeer.nl/activiteit/br-h-dokter-11/
LOCATION:De Ark\, Rembrandtlaan 194\, Hoogezand\, Groningen\, 9601 XD\, Nederland
CATEGORIES:Kerkdienst
END:VEVENT
BEGIN:VEVENT
DTSTART;TZID=Europe/Amsterdam:20260524T100000
DTEND;TZID=Europe/Amsterdam:20260524T113000
DTSTAMP:20260425T162041
CREATED:20260425T130735Z
LAST-MODIFIED:20260425T130735Z
UID:5898-1779616800-1779622200@ngk-hoogezand-sappemeer.nl
SUMMARY:Ds. A.M. Pathuis - Pinksteren
DESCRIPTION:Deze dienst is on-line of later te volgen via Kerkdienstgemist\n\nLiturgie\nVOLGT ZODRA BEKEND \nKlik hier voor de liturgie met teksten\nU kunt uw bijdrage in de collecte overmaken via de Scipio-app of op NL 51 RABO 0329 1113 10 onder vermelding van “collecte on-line diensten”. De Commissie van Beheer zorgt dan voor de verdeling over de collectedoelen. \nEen goede dienst gewenst in verbondenheid
URL:https://ngk-hoogezand-sappemeer.nl/activiteit/ds-a-m-pathuis-pinksteren-3/
LOCATION:De Ark\, Rembrandtlaan 194\, Hoogezand\, Groningen\, 9601 XD\, Nederland
CATEGORIES:Kerkdienst
END:VEVENT
BEGIN:VEVENT
DTSTART;TZID=Europe/Amsterdam:20260531T100000
DTEND;TZID=Europe/Amsterdam:20260531T113000
DTSTAMP:20260425T162041
CREATED:20260425T130821Z
LAST-MODIFIED:20260425T130821Z
UID:5900-1780221600-1780227000@ngk-hoogezand-sappemeer.nl
SUMMARY:Br. P. Braam
DESCRIPTION:Deze dienst is on-line of later te volgen via Kerkdienstgemist\n\nLiturgie\nVOLGT ZODRA BEKEND \nKlik hier voor de liturgie met teksten\nU kunt uw bijdrage in de collecte overmaken via de Scipio-app of op NL 51 RABO 0329 1113 10 onder vermelding van “collecte on-line diensten”. De Commissie van Beheer zorgt dan voor de verdeling over de collectedoelen. \nEen goede dienst gewenst in verbondenheid
URL:https://ngk-hoogezand-sappemeer.nl/activiteit/br-p-braam-24/
LOCATION:De Ark\, Rembrandtlaan 194\, Hoogezand\, Groningen\, 9601 XD\, Nederland
CATEGORIES:Kerkdienst
END:VEVENT
BEGIN:VEVENT
DTSTART;TZID=Europe/Amsterdam:20260607T100000
DTEND;TZID=Europe/Amsterdam:20260607T103000
DTSTAMP:20260425T162041
CREATED:20260425T131020Z
LAST-MODIFIED:20260425T131020Z
UID:5902-1780826400-1780828200@ngk-hoogezand-sappemeer.nl
SUMMARY:Ds. A.M. Pathuis
DESCRIPTION:Deze dienst is on-line of later te volgen via Kerkdienstgemist\n\nLiturgie\nVOLGT ZODRA BEKEND \nKlik hier voor de liturgie met teksten\nU kunt uw bijdrage in de collecte overmaken via de Scipio-app of op NL 51 RABO 0329 1113 10 onder vermelding van “collecte on-line diensten”. De Commissie van Beheer zorgt dan voor de verdeling over de collectedoelen. \nEen goede dienst gewenst in verbondenheid
URL:https://ngk-hoogezand-sappemeer.nl/activiteit/ds-a-m-pathuis-53/
LOCATION:De Ark\, Rembrandtlaan 194\, Hoogezand\, Groningen\, 9601 XD\, Nederland
CATEGORIES:Kerkdienst
END:VEVENT
BEGIN:VEVENT
DTSTART;TZID=Europe/Amsterdam:20260607T173000
DTEND;TZID=Europe/Amsterdam:20260607T180000
DTSTAMP:20260425T162041
CREATED:20260425T131059Z
LAST-MODIFIED:20260425T131128Z
UID:5904-1780853400-1780855200@ngk-hoogezand-sappemeer.nl
SUMMARY:Ds. A.M. Pathuis - Vesper
DESCRIPTION:Deze dienst is on-line of later te volgen via Kerkdienstgemist\n\nLiturgie\nVOLGT ZODRA BEKEND \nKlik hier voor de liturgie met teksten\nU kunt uw bijdrage in de collecte overmaken via de Scipio-app of op NL 51 RABO 0329 1113 10 onder vermelding van “collecte on-line diensten”. De Commissie van Beheer zorgt dan voor de verdeling over de collectedoelen. \nEen goede dienst gewenst in verbondenheid
URL:https://ngk-hoogezand-sappemeer.nl/activiteit/ds-a-m-pathuis-vesper-2/
LOCATION:De Ark\, Rembrandtlaan 194\, Hoogezand\, Groningen\, 9601 XD\, Nederland
CATEGORIES:Kerkdienst
END:VEVENT
BEGIN:VEVENT
DTSTART;TZID=Europe/Amsterdam:20260614T100000
DTEND;TZID=Europe/Amsterdam:20260614T113000
DTSTAMP:20260425T162041
CREATED:20260425T131211Z
LAST-MODIFIED:20260425T131211Z
UID:5906-1781431200-1781436600@ngk-hoogezand-sappemeer.nl
SUMMARY:Br. B.R. Munneke
DESCRIPTION:Deze dienst is on-line of later te volgen via Kerkdienstgemist\n\nLiturgie\nVOLGT ZODRA BEKEND \nKlik hier voor de liturgie met teksten\nU kunt uw bijdrage in de collecte overmaken via de Scipio-app of op NL 51 RABO 0329 1113 10 onder vermelding van “collecte on-line diensten”. De Commissie van Beheer zorgt dan voor de verdeling over de collectedoelen. \nEen goede dienst gewenst in verbondenheid
URL:https://ngk-hoogezand-sappemeer.nl/activiteit/br-b-r-munneke-21/
LOCATION:De Ark\, Rembrandtlaan 194\, Hoogezand\, Groningen\, 9601 XD\, Nederland
CATEGORIES:Kerkdienst
END:VEVENT
BEGIN:VEVENT
DTSTART;TZID=Europe/Amsterdam:20260621T100000
DTEND;TZID=Europe/Amsterdam:20260621T113000
DTSTAMP:20260425T162041
CREATED:20260425T131302Z
LAST-MODIFIED:20260425T131302Z
UID:5908-1782036000-1782041400@ngk-hoogezand-sappemeer.nl
SUMMARY:Ds. A.M. Pathuis
DESCRIPTION:Deze dienst is on-line of later te volgen via Kerkdienstgemist\n\nLiturgie\nVOLGT ZODRA BEKEND \nKlik hier voor de liturgie met teksten\nU kunt uw bijdrage in de collecte overmaken via de Scipio-app of op NL 51 RABO 0329 1113 10 onder vermelding van “collecte on-line diensten”. De Commissie van Beheer zorgt dan voor de verdeling over de collectedoelen. \nEen goede dienst gewenst in verbondenheid
URL:https://ngk-hoogezand-sappemeer.nl/activiteit/ds-a-m-pathuis-54/
LOCATION:De Ark\, Rembrandtlaan 194\, Hoogezand\, Groningen\, 9601 XD\, Nederland
CATEGORIES:Kerkdienst
END:VEVENT
BEGIN:VEVENT
DTSTART;TZID=Europe/Amsterdam:20260628T100000
DTEND;TZID=Europe/Amsterdam:20260628T113000
DTSTAMP:20260425T162041
CREATED:20260425T131935Z
LAST-MODIFIED:20260425T131935Z
UID:5911-1782640800-1782646200@ngk-hoogezand-sappemeer.nl
SUMMARY:Br. F. Pathuis
DESCRIPTION:Deze dienst is on-line of later te volgen via Kerkdienstgemist\n\nLiturgie\nVOLGT ZODRA BEKEND \nKlik hier voor de liturgie met teksten\nU kunt uw bijdrage in de collecte overmaken via de Scipio-app of op NL 51 RABO 0329 1113 10 onder vermelding van “collecte on-line diensten”. De Commissie van Beheer zorgt dan voor de verdeling over de collectedoelen. \nEen goede dienst gewenst in verbondenheid
URL:https://ngk-hoogezand-sappemeer.nl/activiteit/br-f-pathuis-7/
LOCATION:De Ark\, Rembrandtlaan 194\, Hoogezand\, Groningen\, 9601 XD\, Nederland
CATEGORIES:Kerkdienst
END:VEVENT
END:VCALENDAR