BEGIN:VCALENDAR
VERSION:2.0
PRODID:-//NGK Hoogezand-Sappemeer - ECPv6.3.7//NONSGML v1.0//EN
CALSCALE:GREGORIAN
METHOD:PUBLISH
X-WR-CALNAME:NGK Hoogezand-Sappemeer
X-ORIGINAL-URL:https://ngk-hoogezand-sappemeer.nl
X-WR-CALDESC:Evenementen voor NGK Hoogezand-Sappemeer
REFRESH-INTERVAL;VALUE=DURATION:PT1H
X-Robots-Tag:noindex
X-PUBLISHED-TTL:PT1H
BEGIN:VTIMEZONE
TZID:Europe/Amsterdam
BEGIN:DAYLIGHT
TZOFFSETFROM:+0100
TZOFFSETTO:+0200
TZNAME:CEST
DTSTART:20250330T010000
END:DAYLIGHT
BEGIN:STANDARD
TZOFFSETFROM:+0200
TZOFFSETTO:+0100
TZNAME:CET
DTSTART:20251026T010000
END:STANDARD
END:VTIMEZONE
BEGIN:VEVENT
DTSTART;TZID=Europe/Amsterdam:20250622T100000
DTEND;TZID=Europe/Amsterdam:20250622T110000
DTSTAMP:20260419T171156
CREATED:20250420T141744Z
LAST-MODIFIED:20250621T083729Z
UID:5328-1750586400-1750590000@ngk-hoogezand-sappemeer.nl
SUMMARY:Ds. A.M. Pathuis - Heilig Avondmaal
DESCRIPTION:Deze dienst is on-line of later te volgen via Kerkdienstgemist\n\nLiturgie\n– Votum en groet\n– Zingen: GKB (2006) Gezang 132 ‘Dank u voor deze nieuwe morgen’\n– Kindermoment\n– Zingen: Opwekking 518 ‘Heer\, u doorgrondt en kent mij’\n– Gebed\n– Lezen: Genesis 16:1-6\n– Zingen: DNP Psalm 43:1\, 3 ‘Heer\, doe mij recht; kom tussenbeide’\n– Lezen: Genesis 16:7-16\n– Preek\n– Zingen: Opwekking 710 ‘Zegen mij op de weg die ik moet gaan’\n– Dankgebed en voorbede\n– Viering Heilig Avondmaal\n  o Collecte\n  o Uitleg bij het Avondmaal \n  o Gebed\n  o Apostolische Geloofsbelijdenis\n  o Zingen: Liedboek 653:2\, 5\, 7 ‘Gij zijt het brood van God gegeven’\n  o Opwekking en uitnodiging\, viering\n  o Zingen: Liedboek 413 ‘Grote God\, wij loven U’\n– Zegen \n– Toelichting bij het vervolg van de slotzondag \nKlik hier voor de liturgie met teksten\nU kunt uw bijdrage in de collecte overmaken via de Scipio-app of op NL 51 RABO 0329 1113 10 onder vermelding van “collecte on-line diensten”. De Commissie van Beheer zorgt dan voor de verdeling over de collectedoelen. \nEen goede dienst gewenst in verbondenheid
URL:https://ngk-hoogezand-sappemeer.nl/activiteit/ds-a-m-pathuis-heilig-avondmaal-12/
LOCATION:De Ark\, Rembrandtlaan 194\, Hoogezand\, Groningen\, 9601 XD\, Nederland
CATEGORIES:Kerkdienst
END:VEVENT
BEGIN:VEVENT
DTSTART;TZID=Europe/Amsterdam:20250622T163000
DTEND;TZID=Europe/Amsterdam:20250622T180000
DTSTAMP:20260419T171156
CREATED:20250420T141822Z
LAST-MODIFIED:20250420T141822Z
UID:5330-1750609800-1750615200@ngk-hoogezand-sappemeer.nl
SUMMARY:Geen middagdienst
DESCRIPTION:
URL:https://ngk-hoogezand-sappemeer.nl/activiteit/geen-middagdienst-3/
LOCATION:Groningen
CATEGORIES:Kerkdienst
END:VEVENT
END:VCALENDAR