BEGIN:VCALENDAR
VERSION:2.0
PRODID:-//NGK Hoogezand-Sappemeer - ECPv6.3.7//NONSGML v1.0//EN
CALSCALE:GREGORIAN
METHOD:PUBLISH
X-WR-CALNAME:NGK Hoogezand-Sappemeer
X-ORIGINAL-URL:https://ngk-hoogezand-sappemeer.nl
X-WR-CALDESC:Evenementen voor NGK Hoogezand-Sappemeer
REFRESH-INTERVAL;VALUE=DURATION:PT1H
X-Robots-Tag:noindex
X-PUBLISHED-TTL:PT1H
BEGIN:VTIMEZONE
TZID:Europe/Amsterdam
BEGIN:DAYLIGHT
TZOFFSETFROM:+0100
TZOFFSETTO:+0200
TZNAME:CEST
DTSTART:20250330T010000
END:DAYLIGHT
BEGIN:STANDARD
TZOFFSETFROM:+0200
TZOFFSETTO:+0100
TZNAME:CET
DTSTART:20251026T010000
END:STANDARD
END:VTIMEZONE
BEGIN:VEVENT
DTSTART;TZID=Europe/Amsterdam:20250615T100000
DTEND;TZID=Europe/Amsterdam:20250615T113000
DTSTAMP:20260419T171156
CREATED:20250420T140158Z
LAST-MODIFIED:20250613T214713Z
UID:5303-1749981600-1749987000@ngk-hoogezand-sappemeer.nl
SUMMARY:Ds. H.J.J. Pomp
DESCRIPTION:Deze dienst is on-line of later te volgen via Kerkdienstgemist\n\nLiturgie\nVotum en groet\nPsalm 68: 8\nGebed\nLezen Hebreeën 12: 1 – 13\nLb. 912: 1 – 6\nVraag en antwoord 77 (gewone catechismus)\nPreek\nLiedboek 675: 1\, 2\nGezang 175a\nGebed\nCollecte Kerk en Emeritering\nDNP 66: 1\, 4\, 5\nZegen \nBegeleiding: Jan Leemhuis\nSchriftlezing: Alco Huttenga \nKlik hier voor de liturgie met teksten\nU kunt uw bijdrage in de collecte overmaken via de Scipio-app of op NL 51 RABO 0329 1113 10 onder vermelding van “collecte on-line diensten”. De Commissie van Beheer zorgt dan voor de verdeling over de collectedoelen. \nEen goede dienst gewenst in verbondenheid
URL:https://ngk-hoogezand-sappemeer.nl/activiteit/ds-h-j-j-pomp-2/
LOCATION:De Ark\, Rembrandtlaan 194\, Hoogezand\, Groningen\, 9601 XD\, Nederland
CATEGORIES:Kerkdienst
END:VEVENT
BEGIN:VEVENT
DTSTART;TZID=Europe/Amsterdam:20250615T163000
DTEND;TZID=Europe/Amsterdam:20250615T180000
DTSTAMP:20260419T171156
CREATED:20250420T141059Z
LAST-MODIFIED:20250613T214914Z
UID:5318-1750005000-1750010400@ngk-hoogezand-sappemeer.nl
SUMMARY:Ds. T.J. van Dijk
DESCRIPTION:Deze dienst is on-line of later te volgen via Kerkdienstgemist\n\nLiturgie\nSela: Votum en groet\nOpeningslied Opwekking 488\nGebed\nBijbellezen Johannes 3: 1 – 16 NBV21\nTekst: Johannes 3: 8\nZingen Gezang 172: 2\, 4\, 5 (GK2017)\nPreek\nGeloof belijden Gezang 177: 1\, 4 (GK2017)\nGebed\nSlotlied Gezang 167: 1 – 3 (GK2006)\nZegen\nCollecte Kerk en Emeritering \nKlik hier voor de liturgie met teksten\nU kunt uw bijdrage in de collecte overmaken via de Scipio-app of op NL 51 RABO 0329 1113 10 onder vermelding van “collecte on-line diensten”. De Commissie van Beheer zorgt dan voor de verdeling over de collectedoelen. \nEen goede dienst gewenst in verbondenheid
URL:https://ngk-hoogezand-sappemeer.nl/activiteit/ds-t-j-van-dijk/
LOCATION:De Ark\, Rembrandtlaan 194\, Hoogezand\, Groningen\, 9601 XD\, Nederland
CATEGORIES:Kerkdienst
END:VEVENT
END:VCALENDAR