BEGIN:VCALENDAR
VERSION:2.0
PRODID:-//NGK Hoogezand-Sappemeer - ECPv6.3.7//NONSGML v1.0//EN
CALSCALE:GREGORIAN
METHOD:PUBLISH
X-ORIGINAL-URL:https://ngk-hoogezand-sappemeer.nl
X-WR-CALDESC:Evenementen voor NGK Hoogezand-Sappemeer
REFRESH-INTERVAL;VALUE=DURATION:PT1H
X-Robots-Tag:noindex
X-PUBLISHED-TTL:PT1H
BEGIN:VTIMEZONE
TZID:Europe/Amsterdam
BEGIN:DAYLIGHT
TZOFFSETFROM:+0100
TZOFFSETTO:+0200
TZNAME:CEST
DTSTART:20250330T010000
END:DAYLIGHT
BEGIN:STANDARD
TZOFFSETFROM:+0200
TZOFFSETTO:+0100
TZNAME:CET
DTSTART:20251026T010000
END:STANDARD
END:VTIMEZONE
BEGIN:VEVENT
DTSTART;TZID=Europe/Amsterdam:20250608T100000
DTEND;TZID=Europe/Amsterdam:20250608T113000
DTSTAMP:20260419T171234
CREATED:20250420T141208Z
LAST-MODIFIED:20250606T215737Z
UID:5320-1749376800-1749382200@ngk-hoogezand-sappemeer.nl
SUMMARY:Ds. A.M. Pathuis - Pinksteren
DESCRIPTION:Deze dienst is on-line of later te volgen via Kerkdienstgemist\n\nLiturgie\nVotum en groet\nZingen: Opwekking 754\nZingen: Opwekking 623\nGebed\nKindermoment\nZingen: Kinderopwekking 205\nLezen: Handelingen 2: 1 – 21\nPreek\nZingen: Opwekking 898\nBevestiging ambtsdragers en benoeming pastoraal-diaconaal bezoekers\nZingen: DNP Psalm 134\nOpdrachten\nZingen: Opwekking 602\nDankgebed en voorbeden\nCollecte Kerk en Evangelisatie\nZingen: Opwekking 789\nZegen \nBegeleiding: Jan Leemhuis\nSchriftlezing: Geert Bondt \nKlik hier voor de liturgie met teksten\nU kunt uw bijdrage in de collecte overmaken via de Scipio-app of op NL 51 RABO 0329 1113 10 onder vermelding van “collecte on-line diensten”. De Commissie van Beheer zorgt dan voor de verdeling over de collectedoelen. \nEen goede dienst gewenst in verbondenheid
URL:https://ngk-hoogezand-sappemeer.nl/activiteit/ds-a-m-pathuis-pinksteren-2/
LOCATION:De Ark\, Rembrandtlaan 194\, Hoogezand\, Groningen\, 9601 XD\, Nederland
CATEGORIES:Kerkdienst
END:VEVENT
BEGIN:VEVENT
DTSTART;TZID=Europe/Amsterdam:20250608T163000
DTEND;TZID=Europe/Amsterdam:20250608T180000
DTSTAMP:20260419T171234
CREATED:20250420T141249Z
LAST-MODIFIED:20250606T215923Z
UID:5322-1749400200-1749405600@ngk-hoogezand-sappemeer.nl
SUMMARY:Ds. H. van Noort - Pinksteren
DESCRIPTION:Deze dienst is on-line of later te volgen via Kerkdienstgemist\n\nLiturgie\nStilte\nVotum en groet\nZingen GK Psalm 103: 1 en 3\nGebed\nLezen HC zondag 29 – 30\nVerkondiging\nZingen Opwekking 710\nGebed\nBelijdenis (zingen) Opwekking 347\nCollecte Kerk en Evangelisatie\nZingen GK Psalm 103: 5 en 7\nZegen \nKlik hier voor de liturgie met teksten\nU kunt uw bijdrage in de collecte overmaken via de Scipio-app of op NL 51 RABO 0329 1113 10 onder vermelding van “collecte on-line diensten”. De Commissie van Beheer zorgt dan voor de verdeling over de collectedoelen. \nEen goede dienst gewenst in verbondenheid
URL:https://ngk-hoogezand-sappemeer.nl/activiteit/ds-h-van-noort-pinksteren/
LOCATION:De Ark\, Rembrandtlaan 194\, Hoogezand\, Groningen\, 9601 XD\, Nederland
CATEGORIES:Kerkdienst
END:VEVENT
END:VCALENDAR