BEGIN:VCALENDAR
VERSION:2.0
PRODID:-//NGK Hoogezand-Sappemeer - ECPv6.3.7//NONSGML v1.0//EN
CALSCALE:GREGORIAN
METHOD:PUBLISH
X-ORIGINAL-URL:https://ngk-hoogezand-sappemeer.nl
X-WR-CALDESC:Evenementen voor NGK Hoogezand-Sappemeer
REFRESH-INTERVAL;VALUE=DURATION:PT1H
X-Robots-Tag:noindex
X-PUBLISHED-TTL:PT1H
BEGIN:VTIMEZONE
TZID:Europe/Amsterdam
BEGIN:DAYLIGHT
TZOFFSETFROM:+0100
TZOFFSETTO:+0200
TZNAME:CEST
DTSTART:20250330T010000
END:DAYLIGHT
BEGIN:STANDARD
TZOFFSETFROM:+0200
TZOFFSETTO:+0100
TZNAME:CET
DTSTART:20251026T010000
END:STANDARD
END:VTIMEZONE
BEGIN:VEVENT
DTSTART;TZID=Europe/Amsterdam:20250601T100000
DTEND;TZID=Europe/Amsterdam:20250601T113000
DTSTAMP:20260419T171234
CREATED:20250420T135535Z
LAST-MODIFIED:20250531T200059Z
UID:5293-1748772000-1748777400@ngk-hoogezand-sappemeer.nl
SUMMARY:Zr. C.L. Prins
DESCRIPTION:Deze dienst is on-line of later te volgen via Kerkdienstgemist\n\nLiturgie\nWelkom en mededelingen\nGezongen votum en groet\nZingen: Gkb. (2017) Gezang 211\nZingen: Ldb. (2013) Lied 314\nGebed\nKindermoment\nKinderen naar de kidsclub\nLezen: Johannes 14: 15 – 21\nPreek: Ik kom bij jullie terug!\nZingen: Opw. 832\nZingen: DNP Psalm 121\nDankgebed en voorbeden\nLeefregel 1 Johannes 4: 7 – 21\nZingen: Sela – Ik zal er zijn\nZingen: Sela – Een toekomst vol van hoop\nCollecte: Kerk en Theologische Universiteit\n(Kinderen weer uit de kidsclub)\nZingen: Opw. 710\nZegen \nBegeleiding: Nano Siertsema\nSchriftlezing: Francien Venhuizen \nKlik hier voor de liturgie met teksten\nU kunt uw bijdrage in de collecte overmaken via de Scipio-app of op NL 51 RABO 0329 1113 10 onder vermelding van “collecte on-line diensten”. De Commissie van Beheer zorgt dan voor de verdeling over de collectedoelen. \nEen goede dienst gewenst in verbondenheid
URL:https://ngk-hoogezand-sappemeer.nl/activiteit/zr-c-l-prins-9/
LOCATION:De Ark\, Rembrandtlaan 194\, Hoogezand\, Groningen\, 9601 XD\, Nederland
CATEGORIES:Kerkdienst
END:VEVENT
BEGIN:VEVENT
DTSTART;TZID=Europe/Amsterdam:20250601T163000
DTEND;TZID=Europe/Amsterdam:20250601T180000
DTSTAMP:20260419T171234
CREATED:20250420T140755Z
LAST-MODIFIED:20250531T200340Z
UID:5315-1748795400-1748800800@ngk-hoogezand-sappemeer.nl
SUMMARY:Ds. F. Rinkema
DESCRIPTION:Deze dienst is on-line of later te volgen via Kerkdienstgemist\n\nLiturgie\nVotum\, groet\nDNP Psalm. 103: 1\nGebed\nLezen: Deuteronomium 6: 4 – 9\nDNP Psalm 8\nLeerpreek – Wereldwijd geloven\nGeloofsbelijdenis van Nicea (gezongen)\nGebed\nCollecte: Kerk en Theologische Universiteit\nDNP Psalm 73: 7\, 8\nZegen \nKlik hier voor de liturgie met teksten\nU kunt uw bijdrage in de collecte overmaken via de Scipio-app of op NL 51 RABO 0329 1113 10 onder vermelding van “collecte on-line diensten”. De Commissie van Beheer zorgt dan voor de verdeling over de collectedoelen. \nEen goede dienst gewenst in verbondenheid
URL:https://ngk-hoogezand-sappemeer.nl/activiteit/ds-f-rinkema-9/
LOCATION:Groningen
CATEGORIES:Kerkdienst
END:VEVENT
END:VCALENDAR