BEGIN:VCALENDAR
VERSION:2.0
PRODID:-//NGK Hoogezand-Sappemeer - ECPv6.3.7//NONSGML v1.0//EN
CALSCALE:GREGORIAN
METHOD:PUBLISH
X-ORIGINAL-URL:https://ngk-hoogezand-sappemeer.nl
X-WR-CALDESC:Evenementen voor NGK Hoogezand-Sappemeer
REFRESH-INTERVAL;VALUE=DURATION:PT1H
X-Robots-Tag:noindex
X-PUBLISHED-TTL:PT1H
BEGIN:VTIMEZONE
TZID:Europe/Amsterdam
BEGIN:DAYLIGHT
TZOFFSETFROM:+0100
TZOFFSETTO:+0200
TZNAME:CEST
DTSTART:20250330T010000
END:DAYLIGHT
BEGIN:STANDARD
TZOFFSETFROM:+0200
TZOFFSETTO:+0100
TZNAME:CET
DTSTART:20251026T010000
END:STANDARD
END:VTIMEZONE
BEGIN:VEVENT
DTSTART;TZID=Europe/Amsterdam:20250525T100000
DTEND;TZID=Europe/Amsterdam:20250525T113000
DTSTAMP:20260419T184937
CREATED:20250420T140456Z
LAST-MODIFIED:20250523T145144Z
UID:5309-1748167200-1748172600@ngk-hoogezand-sappemeer.nl
SUMMARY:Ds. A.M. Pathuis
DESCRIPTION:Deze dienst is on-line of later te volgen via Kerkdienstgemist\n\nLiturgie\nVotum en groet\nZingen: DNP Psalm 33: 1\, 2\, 6\nGebed\nInleiding bij het thema\nWetlezing: Deuteronomium 5: 6 – 21 (BGT)\nZingen: GKB (2006) Gezang 23\nLezen: Deuteronomium 4: 1 – 2 en 9 – 20\nZingen: DNP Psalm 40: 1\, 3\nLezen: Jakobus 1: 16 – 27\nPreek\nZingen: Opwekking 689\nDankgebed\nZingen: Liedboek 1006\nCollecte Kerk en Diaconie\nZingen: Liedboek 413\nZegen \nBegeleiding: Jan Leemhuis\nSchriftlezing: Herman Dokter \nKlik hier voor de liturgie met teksten\nU kunt uw bijdrage in de collecte overmaken via de Scipio-app of op NL 51 RABO 0329 1113 10 onder vermelding van “collecte on-line diensten”. De Commissie van Beheer zorgt dan voor de verdeling over de collectedoelen. \nEen goede dienst gewenst in verbondenheid
URL:https://ngk-hoogezand-sappemeer.nl/activiteit/ds-a-m-pathuis-41/
LOCATION:De Ark\, Rembrandtlaan 194\, Hoogezand\, Groningen\, 9601 XD\, Nederland
CATEGORIES:Kerkdienst
END:VEVENT
BEGIN:VEVENT
DTSTART;TZID=Europe/Amsterdam:20250525T163000
DTEND;TZID=Europe/Amsterdam:20250525T180000
DTSTAMP:20260419T184937
CREATED:20250420T140553Z
LAST-MODIFIED:20250523T145314Z
UID:5311-1748190600-1748196000@ngk-hoogezand-sappemeer.nl
SUMMARY:Br. G.J. Bondt
DESCRIPTION:Deze dienst is on-line of later te volgen via Kerkdienstgemist\n\nLiturgie\nOpw 695\nVotum + begroeting\nOpw 765\nGebed\nLezen Joh 3\, 1-21\nPreek\nOpw 848 (waarschijnlijk als luisterlied)\nGebed\nSela; Maranatha\nCollecte Kerk en Diaconie\nOpw 785\nZegen \nKlik hier voor de liturgie met teksten\nU kunt uw bijdrage in de collecte overmaken via de Scipio-app of op NL 51 RABO 0329 1113 10 onder vermelding van “collecte on-line diensten”. De Commissie van Beheer zorgt dan voor de verdeling over de collectedoelen. \nEen goede dienst gewenst in verbondenheid
URL:https://ngk-hoogezand-sappemeer.nl/activiteit/br-p-braam-19/
LOCATION:De Ark\, Rembrandtlaan 194\, Hoogezand\, Groningen\, 9601 XD\, Nederland
CATEGORIES:Kerkdienst
END:VEVENT
END:VCALENDAR