BEGIN:VCALENDAR
VERSION:2.0
PRODID:-//NGK Hoogezand-Sappemeer - ECPv6.3.7//NONSGML v1.0//EN
CALSCALE:GREGORIAN
METHOD:PUBLISH
X-ORIGINAL-URL:https://ngk-hoogezand-sappemeer.nl
X-WR-CALDESC:Evenementen voor NGK Hoogezand-Sappemeer
REFRESH-INTERVAL;VALUE=DURATION:PT1H
X-Robots-Tag:noindex
X-PUBLISHED-TTL:PT1H
BEGIN:VTIMEZONE
TZID:Europe/Amsterdam
BEGIN:DAYLIGHT
TZOFFSETFROM:+0100
TZOFFSETTO:+0200
TZNAME:CEST
DTSTART:20250330T010000
END:DAYLIGHT
BEGIN:STANDARD
TZOFFSETFROM:+0200
TZOFFSETTO:+0100
TZNAME:CET
DTSTART:20251026T010000
END:STANDARD
END:VTIMEZONE
BEGIN:VEVENT
DTSTART;TZID=Europe/Amsterdam:20250515T133000
DTEND;TZID=Europe/Amsterdam:20250515T150000
DTSTAMP:20260419T185621
CREATED:20250514T201408Z
LAST-MODIFIED:20250514T202400Z
UID:5355-1747315800-1747321200@ngk-hoogezand-sappemeer.nl
SUMMARY:Dankdienst voor het leven van Andries Hogeveen
DESCRIPTION:Deze dienst is on-line of later te volgen via Kerkdienstgemist\n\nLiturgie\nWelkom\nLied: Een toekomst vol van hoop (Sela)\nBijdrage dochters\nLied: Ik zal er zijn (Sela)\nBijdrage kleinkinderen\nGebed\nLezen: Psalm 23\nLied: Wat de toekomst brengen moge\nBijdrage kleinkinderen\nBijbeltekst: Psalm 90: 9b-10a en 17\nOverdenking\nLied: Lichtstad met uw paarlen poorten\nGebed\nSlotlied: Eens als de bazuinen klinken \nVoorganger\n– ds. A.M. Pathuis \nMuzikale begeleiding\n– Jan Leemhuis Orgel\, Piano\n– Onna Vellema-Holwerda Gitaar\n– Andries Holwerda Djembe \nKlik hier voor de liturgie met teksten
URL:https://ngk-hoogezand-sappemeer.nl/activiteit/dankdienst-voor-het-leven-van-andries-hogeveen/
LOCATION:De Ark\, Rembrandtlaan 194\, Hoogezand\, Groningen\, 9601 XD\, Nederland
CATEGORIES:Kerkdienst
END:VEVENT
END:VCALENDAR