BEGIN:VCALENDAR
VERSION:2.0
PRODID:-//NGK Hoogezand-Sappemeer - ECPv6.3.7//NONSGML v1.0//EN
CALSCALE:GREGORIAN
METHOD:PUBLISH
X-ORIGINAL-URL:https://ngk-hoogezand-sappemeer.nl
X-WR-CALDESC:Evenementen voor NGK Hoogezand-Sappemeer
REFRESH-INTERVAL;VALUE=DURATION:PT1H
X-Robots-Tag:noindex
X-PUBLISHED-TTL:PT1H
BEGIN:VTIMEZONE
TZID:Europe/Amsterdam
BEGIN:DAYLIGHT
TZOFFSETFROM:+0100
TZOFFSETTO:+0200
TZNAME:CEST
DTSTART:20250330T010000
END:DAYLIGHT
BEGIN:STANDARD
TZOFFSETFROM:+0200
TZOFFSETTO:+0100
TZNAME:CET
DTSTART:20251026T010000
END:STANDARD
END:VTIMEZONE
BEGIN:VEVENT
DTSTART;TZID=Europe/Amsterdam:20250420T100000
DTEND;TZID=Europe/Amsterdam:20250420T113000
DTSTAMP:20260419T201418
CREATED:20250325T220349Z
LAST-MODIFIED:20250418T151202Z
UID:5254-1745143200-1745148600@ngk-hoogezand-sappemeer.nl
SUMMARY:Ds. A.M. Pathuis - Pasen en Heilig Avondmaal
DESCRIPTION:Deze dienst is on-line of later te volgen via Kerkdienstgemist\n\nLiturgie\nLuisterlied: ‘Heut triumphieret Gottes Sohn’ (J.S. Bach\, zetting P. Zuidhof)\nWelkom\, votum en groet\nZingen: E&R-bundel 100 Wisselzang\nKindermoment\n– De kinderen dragen de Paaskaars de kerk binnen\, toelichting hierbij\n– Lezen: Johannes 20: 1 – 11 (BGT)\n– Filmpje bij de 7e zondag ‘De tuin met het open graf’\n– Lied: MSNK ‘Alles is nieuw’\nGebed\nLezen: Johannes 20: 11 – 18 (NBV21)\nZingen: Liedboek 642: 1\, 2\, 4\, 5\, 6\, 8 Wisselzang\nLezen: Openbaring 21: 1 – 4\, 9 (NBV21)\nLezen: Openbaring 22: 1 – 5 (NBV21)\nPreek\nZingen: Liedboek 654: 1\, 2\, 4\, 6 Wisselzang\nMededelingen\nDankgebed\nViering Avondmaal\n– Collecte Diaconie en Kerk\n– Luisterlied: ‘Agnus Dei’ (Tore W. Aas)\n– Korte uitleg bij het Avondmaal\, gebed\n– Geloofsbelijdenis\n– Zingen: GKB (2006) Gezang 89: 1\, 2\, 3 Wisselzang\n– Nodiging en viering\n– Tijdens de viering als luisterlied: ‘Adoramus te Christe’ (Th. Dubois)\nZingen: GKB (2006) Gezang 89: 4\nZegen\nZingen: Opwekking 213 \nBegeleiding: Piet Zuidhof met Heemser mannenensemble (HME)\nSchriftlezing: Daniek Baar\nSchriftlezing: Tea Snip \nKlik hier voor de liturgie met teksten\nU kunt uw bijdrage in de collecte overmaken via de Scipio-app of op NL 51 RABO 0329 1113 10 onder vermelding van “collecte on-line diensten”. De Commissie van Beheer zorgt dan voor de verdeling over de collectedoelen. \nEen goede dienst gewenst in verbondenheid
URL:https://ngk-hoogezand-sappemeer.nl/activiteit/ds-a-m-pathuis-pasen-en-heilig-avondmaal/
LOCATION:De Ark\, Rembrandtlaan 194\, Hoogezand\, Groningen\, 9601 XD\, Nederland
CATEGORIES:Kerkdienst
END:VEVENT
BEGIN:VEVENT
DTSTART;TZID=Europe/Amsterdam:20250420T163000
DTEND;TZID=Europe/Amsterdam:20250420T180000
DTSTAMP:20260419T201418
CREATED:20250326T222013Z
LAST-MODIFIED:20250326T222013Z
UID:5256-1745166600-1745172000@ngk-hoogezand-sappemeer.nl
SUMMARY:Geen middagdienst
DESCRIPTION:
URL:https://ngk-hoogezand-sappemeer.nl/activiteit/geen-middagdienst-2/
LOCATION:De Ark\, Rembrandtlaan 194\, Hoogezand\, Groningen\, 9601 XD\, Nederland
CATEGORIES:Kerkdienst
END:VEVENT
END:VCALENDAR