BEGIN:VCALENDAR
VERSION:2.0
PRODID:-//NGK Hoogezand-Sappemeer - ECPv6.3.7//NONSGML v1.0//EN
CALSCALE:GREGORIAN
METHOD:PUBLISH
X-WR-CALNAME:NGK Hoogezand-Sappemeer
X-ORIGINAL-URL:https://ngk-hoogezand-sappemeer.nl
X-WR-CALDESC:Evenementen voor NGK Hoogezand-Sappemeer
REFRESH-INTERVAL;VALUE=DURATION:PT1H
X-Robots-Tag:noindex
X-PUBLISHED-TTL:PT1H
BEGIN:VTIMEZONE
TZID:Europe/Amsterdam
BEGIN:DAYLIGHT
TZOFFSETFROM:+0100
TZOFFSETTO:+0200
TZNAME:CEST
DTSTART:20250330T010000
END:DAYLIGHT
BEGIN:STANDARD
TZOFFSETFROM:+0200
TZOFFSETTO:+0100
TZNAME:CET
DTSTART:20251026T010000
END:STANDARD
END:VTIMEZONE
BEGIN:VEVENT
DTSTART;TZID=Europe/Amsterdam:20250419T193000
DTEND;TZID=Europe/Amsterdam:20250419T210000
DTSTAMP:20260419T201340
CREATED:20250325T220247Z
LAST-MODIFIED:20250418T150848Z
UID:5252-1745091000-1745096400@ngk-hoogezand-sappemeer.nl
SUMMARY:Ds. A.M. Pathuis - Stille Zaterdag
DESCRIPTION:Deze dienst is on-line of later te volgen via Kerkdienstgemist\n\nLiturgie\nIn stilte bereiden we ons voor op de vesper\nZingen: PvN Psalm 130\nGebed\nInleiding bij de lezing\nLezing: Marcus 15: 40 – 47\nStilte\nGedicht ‘Voorbereiding’\nMuzikaal moment\nEnkele woorden over en het ont-dekken en weer aansteken van de (oude) kaars\nZingen: DNP Psalm 22: 6\, 7\nGebed\nZingen: Liedboek 598\nStilte\nWe verlaten\, ieder op ons eigen moment\, de kerk in stilte \nBegeleiding: Jan Leemhuis\nSchriftlezing: Elice Scherff\nSchriftlezing: Geert Bondt \nKlik hier voor de liturgie met teksten\nU kunt uw bijdrage in de collecte overmaken via de Scipio-app of op NL 51 RABO 0329 1113 10 onder vermelding van “collecte on-line diensten”. De Commissie van Beheer zorgt dan voor de verdeling over de collectedoelen. \nEen goede dienst gewenst in verbondenheid
URL:https://ngk-hoogezand-sappemeer.nl/activiteit/ds-a-m-pathuis-stille-zaterdag/
LOCATION:De Ark\, Rembrandtlaan 194\, Hoogezand\, Groningen\, 9601 XD\, Nederland
CATEGORIES:Kerkdienst
END:VEVENT
END:VCALENDAR