BEGIN:VCALENDAR
VERSION:2.0
PRODID:-//NGK Hoogezand-Sappemeer - ECPv6.3.7//NONSGML v1.0//EN
CALSCALE:GREGORIAN
METHOD:PUBLISH
X-WR-CALNAME:NGK Hoogezand-Sappemeer
X-ORIGINAL-URL:https://ngk-hoogezand-sappemeer.nl
X-WR-CALDESC:Evenementen voor NGK Hoogezand-Sappemeer
REFRESH-INTERVAL;VALUE=DURATION:PT1H
X-Robots-Tag:noindex
X-PUBLISHED-TTL:PT1H
BEGIN:VTIMEZONE
TZID:Europe/Amsterdam
BEGIN:DAYLIGHT
TZOFFSETFROM:+0100
TZOFFSETTO:+0200
TZNAME:CEST
DTSTART:20250330T010000
END:DAYLIGHT
BEGIN:STANDARD
TZOFFSETFROM:+0200
TZOFFSETTO:+0100
TZNAME:CET
DTSTART:20251026T010000
END:STANDARD
END:VTIMEZONE
BEGIN:VEVENT
DTSTART;TZID=Europe/Amsterdam:20250418T193000
DTEND;TZID=Europe/Amsterdam:20250418T210000
DTSTAMP:20260419T201340
CREATED:20250325T220145Z
LAST-MODIFIED:20250417T122849Z
UID:5250-1745004600-1745010000@ngk-hoogezand-sappemeer.nl
SUMMARY:Ds. A.M. Pathuis - Goede Vrijdag
DESCRIPTION:Deze dienst is on-line of later te volgen via Kerkdienstgemist\n\nLiturgie\nIn stilte bereiden we ons voor op de dienst\nInleiding bij de dienst \nGesproken votum en groet\nZingen: Opwekking 840\nGebed\nLezen: Matteüs 26: 47 – 68\nLuisterlied: Casting Crowns ‘Blessed Redeemer’\nLezen: Matteüs 27: 1 – 2\nLezen: Matteüs 27: 11 – 31\nZingen: Sela ‘Via Dolorosa’\nLezen: Matteüs 27: 32 – 44\nZingen: DNP Psalm 22: 1\, 3\, 4\nLezen: Matteüs 27: 45 – 50\nDoven van de kaars\nStilte\nZingen: Opwekking 774\nLezen: Matteüs 27: 51 – 56\nZingen: Opwekking 706\nLezen: Matteüs 27: 57 – 61\nLuisterlied: Sela ‘Raak mijn wonden aan’\nGebed en zegenbede\nZingen: Opwekking 657\nWe verlaten\, ieder op ons eigen moment\, de kerk in stilte \nBegeleiding: Nano Siertsema met Menorah\nSchriftlezing: Antje Leemhuis\nSchriftlezing: Timo Moedt \nKlik hier voor de liturgie met teksten\nU kunt uw bijdrage in de collecte overmaken via de Scipio-app of op NL 51 RABO 0329 1113 10 onder vermelding van “collecte on-line diensten”. De Commissie van Beheer zorgt dan voor de verdeling over de collectedoelen. \nEen goede dienst gewenst in verbondenheid
URL:https://ngk-hoogezand-sappemeer.nl/activiteit/ds-a-m-pathuis-goede-vrijdag-3/
LOCATION:De Ark\, Rembrandtlaan 194\, Hoogezand\, Groningen\, 9601 XD\, Nederland
CATEGORIES:Kerkdienst
END:VEVENT
END:VCALENDAR