BEGIN:VCALENDAR
VERSION:2.0
PRODID:-//NGK Hoogezand-Sappemeer - ECPv6.3.7//NONSGML v1.0//EN
CALSCALE:GREGORIAN
METHOD:PUBLISH
X-ORIGINAL-URL:https://ngk-hoogezand-sappemeer.nl
X-WR-CALDESC:Evenementen voor NGK Hoogezand-Sappemeer
REFRESH-INTERVAL;VALUE=DURATION:PT1H
X-Robots-Tag:noindex
X-PUBLISHED-TTL:PT1H
BEGIN:VTIMEZONE
TZID:Europe/Amsterdam
BEGIN:DAYLIGHT
TZOFFSETFROM:+0100
TZOFFSETTO:+0200
TZNAME:CEST
DTSTART:20250330T010000
END:DAYLIGHT
BEGIN:STANDARD
TZOFFSETFROM:+0200
TZOFFSETTO:+0100
TZNAME:CET
DTSTART:20251026T010000
END:STANDARD
END:VTIMEZONE
BEGIN:VEVENT
DTSTART;TZID=Europe/Amsterdam:20250413T100000
DTEND;TZID=Europe/Amsterdam:20250413T113000
DTSTAMP:20260419T201417
CREATED:20250325T215756Z
LAST-MODIFIED:20250411T212918Z
UID:5243-1744538400-1744543800@ngk-hoogezand-sappemeer.nl
SUMMARY:Ds. H. Zeilstra
DESCRIPTION:Deze dienst is on-line of later te volgen via Kerkdienstgemist\n\nLiturgie\nPsalm 122: 1\, 3\nWet\nLB 23c: 1\, 2\, 5\nGebed\nLezen: Psalm 118: 22 – 29\nLezen: Zacharia 9: 8 – 10\nLvdK Gezang 42: 1\, 3\nTekst Marcus 11: 1 – 11\nPreek\nEvangelische Liedbundel 408: 1\, 2\, 3\nGebed\nCollecte Kerk en Emeritering\nLvdK Gezang 300: 1\, 2\, 6 \nBegeleiding: Jan Leemhuis\nSchriftlezing: Femke Bondt \nKlik hier voor de liturgie met teksten\nU kunt uw bijdrage in de collecte overmaken via de Scipio-app of op NL 51 RABO 0329 1113 10 onder vermelding van “collecte on-line diensten”. De Commissie van Beheer zorgt dan voor de verdeling over de collectedoelen. \nEen goede dienst gewenst in verbondenheid
URL:https://ngk-hoogezand-sappemeer.nl/activiteit/ds-h-zeilstra-6/
LOCATION:De Ark\, Rembrandtlaan 194\, Hoogezand\, Groningen\, 9601 XD\, Nederland
CATEGORIES:Kerkdienst
END:VEVENT
BEGIN:VEVENT
DTSTART;TZID=Europe/Amsterdam:20250413T163000
DTEND;TZID=Europe/Amsterdam:20250413T180000
DTSTAMP:20260419T201417
CREATED:20250325T215943Z
LAST-MODIFIED:20250411T213034Z
UID:5245-1744561800-1744567200@ngk-hoogezand-sappemeer.nl
SUMMARY:Ds. H. Wijnalda
DESCRIPTION:Deze dienst is on-line of later te volgen via Kerkdienstgemist\n\nLiturgie\nVotum en zegengroet\nZingen Ps. 24: 4\, 5\nGebed\nBijbellezing Matteüs 21: 1 – 11\nZingen Ps. 118: 7\, 8\, 9\nBijbellezing Jesaja 52: 11 – 53 : 12\nZingen LB 562: 1\, 2\, 3\nPreek over Jesaja 53: 6\nZingen LB 575: 1\, 2\, 3\nGeloofsbelijdenis van Nicea\nZingen GK 247: 7\nGebed\nCollecte Kerk en Emeritering\nZingen LB 556: 1 – 5\nZegen \nKlik hier voor de liturgie met teksten\nU kunt uw bijdrage in de collecte overmaken via de Scipio-app of op NL 51 RABO 0329 1113 10 onder vermelding van “collecte on-line diensten”. De Commissie van Beheer zorgt dan voor de verdeling over de collectedoelen. \nEen goede dienst gewenst in verbondenheid
URL:https://ngk-hoogezand-sappemeer.nl/activiteit/ds-h-wijnalda-2/
LOCATION:De Ark\, Rembrandtlaan 194\, Hoogezand\, Groningen\, 9601 XD\, Nederland
CATEGORIES:Kerkdienst
END:VEVENT
END:VCALENDAR