BEGIN:VCALENDAR
VERSION:2.0
PRODID:-//NGK Hoogezand-Sappemeer - ECPv6.3.7//NONSGML v1.0//EN
CALSCALE:GREGORIAN
METHOD:PUBLISH
X-WR-CALNAME:NGK Hoogezand-Sappemeer
X-ORIGINAL-URL:https://ngk-hoogezand-sappemeer.nl
X-WR-CALDESC:Evenementen voor NGK Hoogezand-Sappemeer
REFRESH-INTERVAL;VALUE=DURATION:PT1H
X-Robots-Tag:noindex
X-PUBLISHED-TTL:PT1H
BEGIN:VTIMEZONE
TZID:Europe/Amsterdam
BEGIN:DAYLIGHT
TZOFFSETFROM:+0100
TZOFFSETTO:+0200
TZNAME:CEST
DTSTART:20250330T010000
END:DAYLIGHT
BEGIN:STANDARD
TZOFFSETFROM:+0200
TZOFFSETTO:+0100
TZNAME:CET
DTSTART:20251026T010000
END:STANDARD
END:VTIMEZONE
BEGIN:VEVENT
DTSTART;TZID=Europe/Amsterdam:20250330T100000
DTEND;TZID=Europe/Amsterdam:20250330T113000
DTSTAMP:20260419T201458
CREATED:20250125T114201Z
LAST-MODIFIED:20250328T154851Z
UID:5178-1743328800-1743334200@ngk-hoogezand-sappemeer.nl
SUMMARY:Ds. G.A. Heek
DESCRIPTION:Deze dienst is on-line of later te volgen via Kerkdienstgemist\n\nLiturgie\nVotum/groet\nLied: Opw 462\nGebed\nBijbellezing: Handelingen 10: 44 – 48\nBijbellezing: Handelingen 15: 1 – 21\nLied: NLB 969\nPreek\nLied: Opw 769\nWet: Efeziërs 2\nLied: Opw 767\nGebed\nCollecte: Kerk en Emeritering\nSlotlied: Opw 705\nZegen \nBegeleiding: Jan Leemhuis\nSchriftlezing: Alco Huttenga \nKlik hier voor de liturgie met teksten\nU kunt uw bijdrage in de collecte overmaken via de Scipio-app of op NL 51 RABO 0329 1113 10 onder vermelding van “collecte on-line diensten”. De Commissie van Beheer zorgt dan voor de verdeling over de collectedoelen. \nEen goede dienst gewenst in verbondenheid
URL:https://ngk-hoogezand-sappemeer.nl/activiteit/ds-g-a-heek/
LOCATION:De Ark\, Rembrandtlaan 194\, Hoogezand\, Groningen\, 9601 XD\, Nederland
CATEGORIES:Kerkdienst
END:VEVENT
BEGIN:VEVENT
DTSTART;TZID=Europe/Amsterdam:20250330T163000
DTEND;TZID=Europe/Amsterdam:20250330T180000
DTSTAMP:20260419T201458
CREATED:20250125T114245Z
LAST-MODIFIED:20250328T160019Z
UID:5180-1743352200-1743357600@ngk-hoogezand-sappemeer.nl
SUMMARY:Ds. A.M. Pathuis
DESCRIPTION:Deze dienst is on-line of later te volgen via Kerkdienstgemist\n\nLiturgie\nVotum: GKB Psalm 121: 1 (a capella)\nGroet\nZingen: GKB Psalm 121: 2\, 3\, 4 (a capella)\nGebed\nSchriftlezing: Marcus 8: 29 – 33\nZingen: Liedboek 536 (a capella)\nSchriftlezing: Marcus 9: 2 – 10\nPreek\nZingen: Liedboek 575: 1\, 2\, 5\, 6\nTer inleiding op het gebed als luisterlied: Sela ‘Heer\, we kijken omhoog’\,\nDankgebed en voorbeden\nCollecte: Kerk en Emeritering\nLeefregel en geloofsbelijdenis: Filippenzen 2: 3 – 11\nZingen: Liedboek 835 (a capella)\nZegen \nKlik hier voor de liturgie met teksten\nU kunt uw bijdrage in de collecte overmaken via de Scipio-app of op NL 51 RABO 0329 1113 10 onder vermelding van “collecte on-line diensten”. De Commissie van Beheer zorgt dan voor de verdeling over de collectedoelen. \nEen goede dienst gewenst in verbondenheid
URL:https://ngk-hoogezand-sappemeer.nl/activiteit/ds-a-m-pathuis-38/
LOCATION:De Ark\, Rembrandtlaan 194\, Hoogezand\, Groningen\, 9601 XD\, Nederland
CATEGORIES:Kerkdienst
END:VEVENT
END:VCALENDAR