BEGIN:VCALENDAR
VERSION:2.0
PRODID:-//NGK Hoogezand-Sappemeer - ECPv6.3.7//NONSGML v1.0//EN
CALSCALE:GREGORIAN
METHOD:PUBLISH
X-WR-CALNAME:NGK Hoogezand-Sappemeer
X-ORIGINAL-URL:https://ngk-hoogezand-sappemeer.nl
X-WR-CALDESC:Evenementen voor NGK Hoogezand-Sappemeer
REFRESH-INTERVAL;VALUE=DURATION:PT1H
X-Robots-Tag:noindex
X-PUBLISHED-TTL:PT1H
BEGIN:VTIMEZONE
TZID:Europe/Amsterdam
BEGIN:DAYLIGHT
TZOFFSETFROM:+0100
TZOFFSETTO:+0200
TZNAME:CEST
DTSTART:20250330T010000
END:DAYLIGHT
BEGIN:STANDARD
TZOFFSETFROM:+0200
TZOFFSETTO:+0100
TZNAME:CET
DTSTART:20251026T010000
END:STANDARD
END:VTIMEZONE
BEGIN:VEVENT
DTSTART;TZID=Europe/Amsterdam:20250302T100000
DTEND;TZID=Europe/Amsterdam:20250302T113000
DTSTAMP:20260419T215307
CREATED:20250125T112645Z
LAST-MODIFIED:20250228T165147Z
UID:5160-1740909600-1740915000@ngk-hoogezand-sappemeer.nl
SUMMARY:Ds. H.J.J. Pomp
DESCRIPTION:Deze dienst is on-line of later te volgen via Kerkdienstgemist\n\nLiturgie\nZingen GKB2017 Gezang 228\nZingen Ps. 145: 1\, 2\nWet\nZingen Ps. 25: 4\, 6\nGebed\nLezen: Matteüs 5: 1 – 16\nZingen GKB2017 Gezang 248: 1 – 6\nPreek\nZingen LB2013 Lied 1005: 1 – 5\nGebed\nCollecte Kerk en Emeritering\nZingen LB2013 Lied 1010: 1 – 4\nZegen \nBegeleiding: Jan Leemhuis\nSchriftlezing: Herman Dokter \nKlik hier voor de liturgie met teksten\nU kunt uw bijdrage in de collecte overmaken via de Scipio-app of op NL 51 RABO 0329 1113 10 onder vermelding van “collecte on-line diensten”. De Commissie van Beheer zorgt dan voor de verdeling over de collectedoelen. \nEen goede dienst gewenst in verbondenheid
URL:https://ngk-hoogezand-sappemeer.nl/activiteit/ds-h-j-j-pomp/
LOCATION:De Ark\, Rembrandtlaan 194\, Hoogezand\, Groningen\, 9601 XD\, Nederland
CATEGORIES:Kerkdienst
END:VEVENT
BEGIN:VEVENT
DTSTART;TZID=Europe/Amsterdam:20250302T163000
DTEND;TZID=Europe/Amsterdam:20250302T180000
DTSTAMP:20260419T215307
CREATED:20250125T112925Z
LAST-MODIFIED:20250228T164955Z
UID:5162-1740933000-1740938400@ngk-hoogezand-sappemeer.nl
SUMMARY:Ds. N.W. Dijksterhuis
DESCRIPTION:Deze dienst is on-line of later te volgen via Kerkdienstgemist\n\nLiturgie\nWelkom en mededelingen.\nVotum en groet.\nZingen LB Gezang 654: 1\, 5\, 6.\nGebed voor de opening van het woord.\nLezen / tekst Johannes 3: 14 – 21.\nZingen GKB Gezang 107: 1\, 4.\nVerkondiging.\nZingen Psalm 84: 3\, 4\, 6.\nGeloofsbelijdenis.\nZingen DNP Psalm 145: 1\, 3.\nDankgebed.\nCollecten Kerk en Emeritering.\nSlotlied LB Gezang 418.\nZegen. \nKlik hier voor de liturgie met teksten\nU kunt uw bijdrage in de collecte overmaken via de Scipio-app of op NL 51 RABO 0329 1113 10 onder vermelding van “collecte on-line diensten”. De Commissie van Beheer zorgt dan voor de verdeling over de collectedoelen. \nEen goede dienst gewenst in verbondenheid
URL:https://ngk-hoogezand-sappemeer.nl/activiteit/ds-n-w-dijksterhuis-3/
LOCATION:De Ark\, Rembrandtlaan 194\, Hoogezand\, Groningen\, 9601 XD\, Nederland
CATEGORIES:Kerkdienst
END:VEVENT
END:VCALENDAR