BEGIN:VCALENDAR
VERSION:2.0
PRODID:-//NGK Hoogezand-Sappemeer - ECPv6.3.7//NONSGML v1.0//EN
CALSCALE:GREGORIAN
METHOD:PUBLISH
X-ORIGINAL-URL:https://ngk-hoogezand-sappemeer.nl
X-WR-CALDESC:Evenementen voor NGK Hoogezand-Sappemeer
REFRESH-INTERVAL;VALUE=DURATION:PT1H
X-Robots-Tag:noindex
X-PUBLISHED-TTL:PT1H
BEGIN:VTIMEZONE
TZID:Europe/Amsterdam
BEGIN:DAYLIGHT
TZOFFSETFROM:+0100
TZOFFSETTO:+0200
TZNAME:CEST
DTSTART:20250330T010000
END:DAYLIGHT
BEGIN:STANDARD
TZOFFSETFROM:+0200
TZOFFSETTO:+0100
TZNAME:CET
DTSTART:20251026T010000
END:STANDARD
END:VTIMEZONE
BEGIN:VEVENT
DTSTART;TZID=Europe/Amsterdam:20250216T100000
DTEND;TZID=Europe/Amsterdam:20250216T113000
DTSTAMP:20260419T230331
CREATED:20250125T112149Z
LAST-MODIFIED:20250215T113658Z
UID:5152-1739700000-1739705400@ngk-hoogezand-sappemeer.nl
SUMMARY:Ds. A.M. Pathuis - Heilig Avondmaal
DESCRIPTION:Deze dienst is on-line of later te volgen via Kerkdienstgemist\n\nLiturgie\nZingen: Sela\, Een toekomst vol van hoop\nVotum (gesproken) en groet\nZingen: Opwekking 642\nWetlezing: Deuteronomium 5: 6 – 21\nLuisterlied: Psalmen voor Nu 1\nGebed\nLezen: Jeremia 17: 1 – 11\nZingen: DNP Psalm 125\nLezen: Lucas 6: 17 – 26\nPreek\nZingen: Liedboek 912\nDankgebed en voorbede\nZingen: Liedboek 995\nViering Heilig Avondmaal\n– Collecte Diaconie en kerk\n– Gebed\n– Zingen: Liedboek 381: 1\, 2\, 3\, 4\, 5\n– Opwekking en uitnodiging\, viering\n– Zingen: Liedboek 381: 6\nZingen: DNP Psalm 67\nZegen\nZingen: Lied 416 \nBegeleiding: Jan Leemhuis\nSchriftlezing: Tea Snip \nKlik hier voor de liturgie met teksten\nU kunt uw bijdrage in de collecte overmaken via de Scipio-app of op NL 51 RABO 0329 1113 10 onder vermelding van “collecte on-line diensten”. De Commissie van Beheer zorgt dan voor de verdeling over de collectedoelen. \nEen goede dienst gewenst in verbondenheid
URL:https://ngk-hoogezand-sappemeer.nl/activiteit/ds-a-m-pathuis-heilig-avondmaal-11/
LOCATION:De Ark\, Rembrandtlaan 194\, Hoogezand\, Groningen\, 9601 XD\, Nederland
CATEGORIES:Kerkdienst
END:VEVENT
BEGIN:VEVENT
DTSTART;TZID=Europe/Amsterdam:20250216T163000
DTEND;TZID=Europe/Amsterdam:20250216T180000
DTSTAMP:20260419T230331
CREATED:20250125T112250Z
LAST-MODIFIED:20250215T113844Z
UID:5154-1739723400-1739728800@ngk-hoogezand-sappemeer.nl
SUMMARY:Ds. H. Zeilstra - Heilig Avondmaal
DESCRIPTION:Deze dienst is on-line of later te volgen via Kerkdienstgemist\n\nLiturgie\nVotum en zegengroet\nLvdK Gezang 323: 1\, 2\nViering Avondmaal form 5\nGeloofsbelijdenis\nPsalm 89: 7\nViering\nGebed\nJesaja 57: 14 – 21\nPsalm 103: 9\nMatteüs 11: 20 – 30\nPreek\nLvdK Gezang 436: 1\, 4\,\nGebed\nCollecte diaconie en kerk\nGK06 Gezang 162: 1\, 3\, 4\nZegen \nKlik hier voor de liturgie met teksten\nU kunt uw bijdrage in de collecte overmaken via de Scipio-app of op NL 51 RABO 0329 1113 10 onder vermelding van “collecte on-line diensten”. De Commissie van Beheer zorgt dan voor de verdeling over de collectedoelen. \nEen goede dienst gewenst in verbondenheid
URL:https://ngk-hoogezand-sappemeer.nl/activiteit/ds-h-zeilstra-heilig-avondmaal/
LOCATION:De Ark\, Rembrandtlaan 194\, Hoogezand\, Groningen\, 9601 XD\, Nederland
CATEGORIES:Kerkdienst
END:VEVENT
END:VCALENDAR