BEGIN:VCALENDAR
VERSION:2.0
PRODID:-//NGK Hoogezand-Sappemeer - ECPv6.3.7//NONSGML v1.0//EN
CALSCALE:GREGORIAN
METHOD:PUBLISH
X-ORIGINAL-URL:https://ngk-hoogezand-sappemeer.nl
X-WR-CALDESC:Evenementen voor NGK Hoogezand-Sappemeer
REFRESH-INTERVAL;VALUE=DURATION:PT1H
X-Robots-Tag:noindex
X-PUBLISHED-TTL:PT1H
BEGIN:VTIMEZONE
TZID:Europe/Amsterdam
BEGIN:DAYLIGHT
TZOFFSETFROM:+0100
TZOFFSETTO:+0200
TZNAME:CEST
DTSTART:20250330T010000
END:DAYLIGHT
BEGIN:STANDARD
TZOFFSETFROM:+0200
TZOFFSETTO:+0100
TZNAME:CET
DTSTART:20251026T010000
END:STANDARD
END:VTIMEZONE
BEGIN:VEVENT
DTSTART;TZID=Europe/Amsterdam:20250119T100000
DTEND;TZID=Europe/Amsterdam:20250119T113000
DTSTAMP:20260420T003552
CREATED:20241226T102453Z
LAST-MODIFIED:20250118T140218Z
UID:5083-1737280800-1737286200@ngk-hoogezand-sappemeer.nl
SUMMARY:Ds. A.M. Pathuis
DESCRIPTION:Deze dienst is on-line of later te volgen via Kerkdienstgemist\n\nLiturgie\nVotum en groet\nZingen: Liedboek 212:1\, 2\, 3\, 4\nGebed\nKindermoment\nZingen: MSNK “Uw liefde raakt nooit op”\nLezen: Geloofsbelijdenis van Nicea\, artikel 1\nLezen: Romeinen 8: 1 – 6 en 12 – 30\nZingen: Liedboek 705: 1\, 4\nPreek\nZingen: Opwekking 136\nDankgebed\nZingen: Liedboek 1006\nCollecte Kerk en Emeritering\nZingen: Liedboek 103c: 1\, 2\, 3\nZegen \nBegeleiding: Jan Leemhuis\nSchriftlezing: Jannie Prins \nKlik hier voor de liturgie met teksten\nU kunt uw bijdrage in de collecte overmaken via de Scipio-app of op NL 51 RABO 0329 1113 10 onder vermelding van “collecte on-line diensten”. De Commissie van Beheer zorgt dan voor de verdeling over de collectedoelen. \nEen goede dienst gewenst in verbondenheid
URL:https://ngk-hoogezand-sappemeer.nl/activiteit/ds-a-m-pathuis-32/
LOCATION:De Ark\, Rembrandtlaan 194\, Hoogezand\, Groningen\, 9601 XD\, Nederland
CATEGORIES:Kerkdienst
END:VEVENT
BEGIN:VEVENT
DTSTART;TZID=Europe/Amsterdam:20250119T163000
DTEND;TZID=Europe/Amsterdam:20250119T180000
DTSTAMP:20260420T003552
CREATED:20241226T102546Z
LAST-MODIFIED:20250118T140419Z
UID:5085-1737304200-1737309600@ngk-hoogezand-sappemeer.nl
SUMMARY:Ds. H. Wijnalda
DESCRIPTION:Deze dienst is on-line of later te volgen via Kerkdienstgemist\n\nLiturgie\nVotum en groet\nZingen DNP 105: 1\, 2\nGebed\nBijbellezing: Matteüs 8: 18 – 22\nBijbellezing: Lucas 14: 25 – 35\nZingen Ps. 16: 1\, 3\nPreek over Matteüs 8: 18 – 22\nZingen LB (2013) 835: 1\, 2\, 4 (\nGeloofsbelijdenis van Nicea\nZingen GKB2017 247: 7\nGebed\nCollecte Kerk en Emeritering\nZingen Ps. 84: 3\, 6\nZegen \nKlik hier voor de liturgie met teksten\nU kunt uw bijdrage in de collecte overmaken via de Scipio-app of op NL 51 RABO 0329 1113 10 onder vermelding van “collecte on-line diensten”. De Commissie van Beheer zorgt dan voor de verdeling over de collectedoelen. \nEen goede dienst gewenst in verbondenheid
URL:https://ngk-hoogezand-sappemeer.nl/activiteit/ds-h-wijnalda/
LOCATION:De Ark\, Rembrandtlaan 194\, Hoogezand\, Groningen\, 9601 XD\, Nederland
CATEGORIES:Kerkdienst
END:VEVENT
END:VCALENDAR