BEGIN:VCALENDAR
VERSION:2.0
PRODID:-//NGK Hoogezand-Sappemeer - ECPv6.3.7//NONSGML v1.0//EN
CALSCALE:GREGORIAN
METHOD:PUBLISH
X-ORIGINAL-URL:https://ngk-hoogezand-sappemeer.nl
X-WR-CALDESC:Evenementen voor NGK Hoogezand-Sappemeer
REFRESH-INTERVAL;VALUE=DURATION:PT1H
X-Robots-Tag:noindex
X-PUBLISHED-TTL:PT1H
BEGIN:VTIMEZONE
TZID:Europe/Amsterdam
BEGIN:DAYLIGHT
TZOFFSETFROM:+0100
TZOFFSETTO:+0200
TZNAME:CEST
DTSTART:20250330T010000
END:DAYLIGHT
BEGIN:STANDARD
TZOFFSETFROM:+0200
TZOFFSETTO:+0100
TZNAME:CET
DTSTART:20251026T010000
END:STANDARD
END:VTIMEZONE
BEGIN:VEVENT
DTSTART;TZID=Europe/Amsterdam:20250110T133000
DTEND;TZID=Europe/Amsterdam:20250110T150000
DTSTAMP:20260420T003553
CREATED:20250108T210824Z
LAST-MODIFIED:20250110T085212Z
UID:5112-1736515800-1736521200@ngk-hoogezand-sappemeer.nl
SUMMARY:Dankdienst voor het leven van Enkie Beens
DESCRIPTION:Deze dienst is on-line of later te volgen via Kerkdienstgemist\n\nLiturgie\nBij binnenkomst familie: instrumentaal ‘Groot is uw trouw\, o Heer’\nWoord van welkom \nZingen: Liedboek 885\nGebed\nBijdrage namens de familie \nZingen: Opwekking 687 \nLezen: Klaagliederen 3: 20 – 26 \nZingen: Opwekking 717 \nOverdenking over Klaagliederen 3: 22 – 23 \nZingen: Sela ‘Ik zal er zijn’\nGedicht door familie\nZingen: GKB (2006) Gezang 115 \nDankgebed\nZingen: Liedboek 913 \nZegen\nDankwoord door familie\nBij het uitdragen : instrumentaal ‘Ere zij God’ \nVoorganger: Ds. Anne-Maaike Pathuis\nOrganist:      Jan Leemhuis \nLiturgie volgt \nKlik hier voor de liturgie met teksten
URL:https://ngk-hoogezand-sappemeer.nl/activiteit/dankdienst-voor-het-leven-van-enkie-beens/
LOCATION:De Ark\, Rembrandtlaan 194\, Hoogezand\, Groningen\, 9601 XD\, Nederland
CATEGORIES:Kerkdienst
END:VEVENT
END:VCALENDAR