BEGIN:VCALENDAR
VERSION:2.0
PRODID:-//NGK Hoogezand-Sappemeer - ECPv6.3.7//NONSGML v1.0//EN
CALSCALE:GREGORIAN
METHOD:PUBLISH
X-ORIGINAL-URL:https://ngk-hoogezand-sappemeer.nl
X-WR-CALDESC:Evenementen voor NGK Hoogezand-Sappemeer
REFRESH-INTERVAL;VALUE=DURATION:PT1H
X-Robots-Tag:noindex
X-PUBLISHED-TTL:PT1H
BEGIN:VTIMEZONE
TZID:Europe/Amsterdam
BEGIN:DAYLIGHT
TZOFFSETFROM:+0100
TZOFFSETTO:+0200
TZNAME:CEST
DTSTART:20250330T010000
END:DAYLIGHT
BEGIN:STANDARD
TZOFFSETFROM:+0200
TZOFFSETTO:+0100
TZNAME:CET
DTSTART:20251026T010000
END:STANDARD
END:VTIMEZONE
BEGIN:VEVENT
DTSTART;TZID=Europe/Amsterdam:20250105T100000
DTEND;TZID=Europe/Amsterdam:20250105T113000
DTSTAMP:20260420T003515
CREATED:20241226T102121Z
LAST-MODIFIED:20250104T092724Z
UID:5075-1736071200-1736076600@ngk-hoogezand-sappemeer.nl
SUMMARY:Br. P. Braam
DESCRIPTION:Deze dienst is on-line of later te volgen via Kerkdienstgemist\n\nLiturgie\nVotum – groet\nDNP Psalm 134: 1\, 2\nGebed\nKindermoment\nZingen wet: Jezus zegt dat Hij hier van ons\nverwacht\nLezen Haggai 2: 1 – 9\nDNP Psalm 48: 1\, 3\, 4\nTekst: Haggai 2: 4\nPreek onder thema : Hou vol !\nLdb ‘73 Gezang 380: 1\, 2\, 4\, 7\nDankgebed\nCollecte Kerk en Theologische Universiteit\nOpwekking 798\nZegen \nBegeleiding: Nanno Siertsema\nSchriftlezing: Antje Leemhuis \nKlik hier voor de liturgie met teksten\nU kunt uw bijdrage in de collecte overmaken via de Scipio-app of op NL 51 RABO 0329 1113 10 onder vermelding van “collecte on-line diensten”. De Commissie van Beheer zorgt dan voor de verdeling over de collectedoelen. \nEen goede dienst gewenst in verbondenheid
URL:https://ngk-hoogezand-sappemeer.nl/activiteit/br-p-braam-11/
LOCATION:De Ark\, Rembrandtlaan 194\, Hoogezand\, Groningen\, 9601 XD\, Nederland
CATEGORIES:Kerkdienst
END:VEVENT
BEGIN:VEVENT
DTSTART;TZID=Europe/Amsterdam:20250105T163000
DTEND;TZID=Europe/Amsterdam:20250105T180000
DTSTAMP:20260420T003515
CREATED:20241226T102203Z
LAST-MODIFIED:20250104T092936Z
UID:5077-1736094600-1736100000@ngk-hoogezand-sappemeer.nl
SUMMARY:Br. G.J. Bondt
DESCRIPTION:Deze dienst is on-line of later te volgen via Kerkdienstgemist\n\nLiturgie\nVotum/groet\nPsalm 80: 1\, 10\nGebed;\nOpwekking 840\nLezen: Jesaja 11: 1 – 10\nLezen: Filippenzen 4: 4 – 7\nPreek “Wacht op de Heer”\nDankgebed/voorbede\nLezen: Romeinen 13: 11 – 14\nLezen: stukje uit Dordtse leerregels\nPsalm 130: 3\, 4\nCollecte Kerk en Theologische Universiteit\nZegenlied – De zegen van God onze Vader \nKlik hier voor de liturgie met teksten\nU kunt uw bijdrage in de collecte overmaken via de Scipio-app of op NL 51 RABO 0329 1113 10 onder vermelding van “collecte on-line diensten”. De Commissie van Beheer zorgt dan voor de verdeling over de collectedoelen. \nEen goede dienst gewenst in verbondenheid
URL:https://ngk-hoogezand-sappemeer.nl/activiteit/br-g-j-bondt-20/
LOCATION:De Ark\, Rembrandtlaan 194\, Hoogezand\, Groningen\, 9601 XD\, Nederland
CATEGORIES:Kerkdienst
END:VEVENT
END:VCALENDAR