BEGIN:VCALENDAR
VERSION:2.0
PRODID:-//NGK Hoogezand-Sappemeer - ECPv6.3.7//NONSGML v1.0//EN
CALSCALE:GREGORIAN
METHOD:PUBLISH
X-WR-CALNAME:NGK Hoogezand-Sappemeer
X-ORIGINAL-URL:https://ngk-hoogezand-sappemeer.nl
X-WR-CALDESC:Evenementen voor NGK Hoogezand-Sappemeer
REFRESH-INTERVAL;VALUE=DURATION:PT1H
X-Robots-Tag:noindex
X-PUBLISHED-TTL:PT1H
BEGIN:VTIMEZONE
TZID:Europe/Amsterdam
BEGIN:DAYLIGHT
TZOFFSETFROM:+0100
TZOFFSETTO:+0200
TZNAME:CEST
DTSTART:20240331T010000
END:DAYLIGHT
BEGIN:STANDARD
TZOFFSETFROM:+0200
TZOFFSETTO:+0100
TZNAME:CET
DTSTART:20241027T010000
END:STANDARD
END:VTIMEZONE
BEGIN:VEVENT
DTSTART;TZID=Europe/Amsterdam:20241225T100000
DTEND;TZID=Europe/Amsterdam:20241225T113000
DTSTAMP:20260420T021709
CREATED:20241205T081339Z
LAST-MODIFIED:20241224T142613Z
UID:5032-1735120800-1735126200@ngk-hoogezand-sappemeer.nl
SUMMARY:Ds. A.M Pathuis - Kerst
DESCRIPTION:Deze dienst is on-line of later te volgen via Kerkdienstgemist\n\nLiturgie\nZingen: Liedboek 483: 1\, 3\nVotum en groet\,\nZingen: Liedboek 477: 1\, 2\, 4\nKindermoment\nLezen: Lucas 2: 1 – 7\nGesprekje\nKinderen dansen op MSNK – ‘Licht voor iedereen’\nGebed\nZingen: Sela – ‘Kerstnacht boven Bethlehem’\nLezen: Johannes 1: 1 – 14\nPreek\nZingen: Liedboek 481\nCollectemoment Diaconie\nDankgebed\nMet de kinderen zingen: ‘Vrolijk kerstfeest iedereen’\nZegen\nZingen: GKB (2006) Gezang 50 \nBegeleiding: Jan Leemhuis\nSchriftlezing: José Leemhuis \nKlik hier voor de liturgie met teksten\nU kunt uw bijdrage in de collecte overmaken via de Scipio-app of op NL 51 RABO 0329 1113 10 onder vermelding van “collecte on-line diensten”. De Commissie van Beheer zorgt dan voor de verdeling over de collectedoelen. \nEen goede dienst gewenst in verbondenheid
URL:https://ngk-hoogezand-sappemeer.nl/activiteit/ds-a-m-pathuis-kerst-2/
LOCATION:De Ark\, Rembrandtlaan 194\, Hoogezand\, Groningen\, 9601 XD\, Nederland
CATEGORIES:Kerkdienst
END:VEVENT
END:VCALENDAR