BEGIN:VCALENDAR
VERSION:2.0
PRODID:-//NGK Hoogezand-Sappemeer - ECPv6.3.7//NONSGML v1.0//EN
CALSCALE:GREGORIAN
METHOD:PUBLISH
X-WR-CALNAME:NGK Hoogezand-Sappemeer
X-ORIGINAL-URL:https://ngk-hoogezand-sappemeer.nl
X-WR-CALDESC:Evenementen voor NGK Hoogezand-Sappemeer
REFRESH-INTERVAL;VALUE=DURATION:PT1H
X-Robots-Tag:noindex
X-PUBLISHED-TTL:PT1H
BEGIN:VTIMEZONE
TZID:Europe/Amsterdam
BEGIN:DAYLIGHT
TZOFFSETFROM:+0100
TZOFFSETTO:+0200
TZNAME:CEST
DTSTART:20240331T010000
END:DAYLIGHT
BEGIN:STANDARD
TZOFFSETFROM:+0200
TZOFFSETTO:+0100
TZNAME:CET
DTSTART:20241027T010000
END:STANDARD
END:VTIMEZONE
BEGIN:VEVENT
DTSTART;TZID=Europe/Amsterdam:20241215T100000
DTEND;TZID=Europe/Amsterdam:20241215T113000
DTSTAMP:20260420T021709
CREATED:20241204T125928Z
LAST-MODIFIED:20241213T104101Z
UID:5022-1734256800-1734262200@ngk-hoogezand-sappemeer.nl
SUMMARY:Ds. A.M. Pathuis - Heilig Avondmaal
DESCRIPTION:Deze dienst is on-line of later te volgen via Kerkdienstgemist\n\nLiturgie\nWelkom en afkondigingen\nZingen: Psalm 105: 3\nAdventsmoment\nFilmpje fam. Harmanny\nLied: MSNK – ‘Christmas Time’\nVotum en groet\nLezen: Lucas 1: 39 – 46a\nZingen: Liedboek 157a\nKindermoment\nGebed\nZingen: Liedboek 1010: 1\, 2\nFilmpje bij het bloemstuk\nLezen: Micha 5: 1 – 4a\nPreek\nZingen: Opwekking 268: 1\, 4\nViering Heilig Avondmaal\n– Collecte Diaconie\n– Gebed\n– Zingen: GKB (2017) Gezang 182: 1\, 2\, 3\, 4\n– Opwekking en uitnodiging\, viering\nZingen: Opwekking 595\nZegen \nZingen: Liedboek 444 \nBegeleiding: Jan Leemhuis\nSchriftlezing: Jannie Prins \nKlik hier voor de liturgie met teksten\nU kunt uw bijdrage in de collecte overmaken via de Scipio-app of op NL 51 RABO 0329 1113 10 onder vermelding van “collecte on-line diensten”. De Commissie van Beheer zorgt dan voor de verdeling over de collectedoelen. \nEen goede dienst gewenst in verbondenheid
URL:https://ngk-hoogezand-sappemeer.nl/activiteit/ds-a-m-pathuis-heilig-avondmaal-10/
LOCATION:De Ark\, Rembrandtlaan 194\, Hoogezand\, Groningen\, 9601 XD\, Nederland
CATEGORIES:Kerkdienst
END:VEVENT
BEGIN:VEVENT
DTSTART;TZID=Europe/Amsterdam:20241215T163000
DTEND;TZID=Europe/Amsterdam:20241215T180000
DTSTAMP:20260420T021709
CREATED:20241204T130024Z
LAST-MODIFIED:20241213T091502Z
UID:5024-1734280200-1734285600@ngk-hoogezand-sappemeer.nl
SUMMARY:Ds. R. Tigelaar - Heilig Avondmaal
DESCRIPTION:Deze dienst is on-line of later te volgen via Kerkdienstgemist\n\nLiturgie\nVotum/zegengroet\nDNP 25: 1\, 2\, 3\nGebed\nViering Avondmaal:\nLezing formulier 5\nGeloofsbelijdenis: GK 175b\nViering\nDankzegging\nLB 412: 4\, 5\nGewone Catechismus\, vraag en antwoord 75\nJohannes 8: 12 – 36\nLB 534\nPreek\nGK 198\nGebed\nCollecte Diaconie\nLB 150a\nZegen \nKlik hier voor de liturgie met teksten\nU kunt uw bijdrage in de collecte overmaken via de Scipio-app of op NL 51 RABO 0329 1113 10 onder vermelding van “collecte on-line diensten”. De Commissie van Beheer zorgt dan voor de verdeling over de collectedoelen. \nEen goede dienst gewenst in verbondenheid
URL:https://ngk-hoogezand-sappemeer.nl/activiteit/ds-r-tigelaar-heilig-avondmaal/
LOCATION:De Ark\, Rembrandtlaan 194\, Hoogezand\, Groningen\, 9601 XD\, Nederland
CATEGORIES:Kerkdienst
END:VEVENT
END:VCALENDAR