BEGIN:VCALENDAR
VERSION:2.0
PRODID:-//NGK Hoogezand-Sappemeer - ECPv6.3.7//NONSGML v1.0//EN
CALSCALE:GREGORIAN
METHOD:PUBLISH
X-ORIGINAL-URL:https://ngk-hoogezand-sappemeer.nl
X-WR-CALDESC:Evenementen voor NGK Hoogezand-Sappemeer
REFRESH-INTERVAL;VALUE=DURATION:PT1H
X-Robots-Tag:noindex
X-PUBLISHED-TTL:PT1H
BEGIN:VTIMEZONE
TZID:Europe/Amsterdam
BEGIN:DAYLIGHT
TZOFFSETFROM:+0100
TZOFFSETTO:+0200
TZNAME:CEST
DTSTART:20240331T010000
END:DAYLIGHT
BEGIN:STANDARD
TZOFFSETFROM:+0200
TZOFFSETTO:+0100
TZNAME:CET
DTSTART:20241027T010000
END:STANDARD
END:VTIMEZONE
BEGIN:VEVENT
DTSTART;TZID=Europe/Amsterdam:20241027T100000
DTEND;TZID=Europe/Amsterdam:20241027T113000
DTSTAMP:20260420T035320
CREATED:20241001T133636Z
LAST-MODIFIED:20241026T080125Z
UID:4924-1730023200-1730028600@ngk-hoogezand-sappemeer.nl
SUMMARY:Ds. A.Th.J. van der Scheer
DESCRIPTION:Deze dienst is on-line of later te volgen via Kerkdienstgemist\n\nLiturgie\nVotum en groet\nZingen LB ‘73 Lied 479\nWet door lezen van Romeinen 12: 1 – 3\, 9 – 19\nZingen GK’06 Gezang 157 \nGebed\nLezen Johannes 21: 15 – 19\nZingen Psalm 95: 1 en 3\nTekst Johannes 21: 20 – 22\nPreek\nZingen LB ’73 Lied 488 B \nGebed\nCollecte Kerk en Theologische Universiteit\nZingen LB ’73 Lied 75: 13\, 14 en 15 \nZegen \nBegeleiding: Jan Leemhuis\nSchriftlezing: Wim Harmanny \nKlik hier voor de liturgie met teksten\nU kunt uw bijdrage in de collecte overmaken via de Scipio-app of op NL 51 RABO 0329 1113 10 onder vermelding van “collecte on-line diensten”. De Commissie van Beheer zorgt dan voor de verdeling over de collectedoelen. \nEen goede dienst gewenst in verbondenheid
URL:https://ngk-hoogezand-sappemeer.nl/activiteit/ds-a-th-j-van-der-scheer/
LOCATION:De Ark\, Rembrandtlaan 194\, Hoogezand\, Groningen\, 9601 XD\, Nederland
CATEGORIES:Kerkdienst
END:VEVENT
BEGIN:VEVENT
DTSTART;TZID=Europe/Amsterdam:20241027T163000
DTEND;TZID=Europe/Amsterdam:20241027T180000
DTSTAMP:20260420T035320
CREATED:20241001T133724Z
LAST-MODIFIED:20241026T080357Z
UID:4926-1730046600-1730052000@ngk-hoogezand-sappemeer.nl
SUMMARY:Br. P. Braam
DESCRIPTION:Deze dienst is on-line of later te volgen via Kerkdienstgemist\n\nLiturgie\nVotum en groet\nZingen Psalm 142 : 1 en 2\nGebed\nLezen Psalm 142\nZingen Psalm 142 : 3\nPreek met thema: Loflied op Gods kennis\nZingen Psalm 142: 4 en 5\nDankgebed\nCollecte Kerk en Theologische Universiteit\nGeloofsbelijdenis\nZingen Psalm 142 : 6 en 7\nZegen \nKlik hier voor de liturgie met teksten\nU kunt uw bijdrage in de collecte overmaken via de Scipio-app of op NL 51 RABO 0329 1113 10 onder vermelding van “collecte on-line diensten”. De Commissie van Beheer zorgt dan voor de verdeling over de collectedoelen. \nEen goede dienst gewenst in verbondenheid
URL:https://ngk-hoogezand-sappemeer.nl/activiteit/br-p-braam-10/
LOCATION:De Ark\, Rembrandtlaan 194\, Hoogezand\, Groningen\, 9601 XD\, Nederland
CATEGORIES:Kerkdienst
END:VEVENT
END:VCALENDAR