BEGIN:VCALENDAR
VERSION:2.0
PRODID:-//NGK Hoogezand-Sappemeer - ECPv6.3.7//NONSGML v1.0//EN
CALSCALE:GREGORIAN
METHOD:PUBLISH
X-WR-CALNAME:NGK Hoogezand-Sappemeer
X-ORIGINAL-URL:https://ngk-hoogezand-sappemeer.nl
X-WR-CALDESC:Evenementen voor NGK Hoogezand-Sappemeer
REFRESH-INTERVAL;VALUE=DURATION:PT1H
X-Robots-Tag:noindex
X-PUBLISHED-TTL:PT1H
BEGIN:VTIMEZONE
TZID:Europe/Amsterdam
BEGIN:DAYLIGHT
TZOFFSETFROM:+0100
TZOFFSETTO:+0200
TZNAME:CEST
DTSTART:20240331T010000
END:DAYLIGHT
BEGIN:STANDARD
TZOFFSETFROM:+0200
TZOFFSETTO:+0100
TZNAME:CET
DTSTART:20241027T010000
END:STANDARD
END:VTIMEZONE
BEGIN:VEVENT
DTSTART;TZID=Europe/Amsterdam:20241013T100000
DTEND;TZID=Europe/Amsterdam:20241013T113000
DTSTAMP:20260420T052852
CREATED:20241001T133319Z
LAST-MODIFIED:20241011T150305Z
UID:4916-1728813600-1728819000@ngk-hoogezand-sappemeer.nl
SUMMARY:Ds A.M. Pathuis en br. Asaf Pelled - Yachaddienst
DESCRIPTION:Deze dienst is on-line of later te volgen via Kerkdienstgemist\n\nLiturgie\nWelkom en mededelingen (ouderling)\nVotum en groet\nZingen: Opwekking 125\nGebed\nKindermoment over Numeri 6: 24 – 26\nZingen: Kinderopwekking 185\nLezen: Leviticus 23 (HSV) \nZingen: Psalmen voor Nu 130\nLezen: Leviticus 16: 18 – 24 (HSV) \nPreek \nZingen: Liedboek 103c\nDankgebed en voorbeden\nCollecte Yachad \nZingen: Liedboek 413\nZegen\nZingen: Liedboek 425 \nBegeleiding: Jan Leemhuis\nSchriftlezing: Alco Huttenga \nKlik hier voor de liturgie met teksten\nU kunt uw bijdrage in de collecte overmaken via de Scipio-app of op NL 51 RABO 0329 1113 10 onder vermelding van “Yachad”.  \nEen goede dienst gewenst in verbondenheid
URL:https://ngk-hoogezand-sappemeer.nl/activiteit/br-asaf-pelled-yachaddienst/
LOCATION:De Ark\, Rembrandtlaan 194\, Hoogezand\, Groningen\, 9601 XD\, Nederland
CATEGORIES:Kerkdienst
END:VEVENT
BEGIN:VEVENT
DTSTART;TZID=Europe/Amsterdam:20241013T163000
DTEND;TZID=Europe/Amsterdam:20241013T180000
DTSTAMP:20260420T052852
CREATED:20241001T133358Z
LAST-MODIFIED:20241011T145926Z
UID:4918-1728837000-1728842400@ngk-hoogezand-sappemeer.nl
SUMMARY:Br. G.J. Bondt
DESCRIPTION:Deze dienst is on-line of later te volgen via Kerkdienstgemist\n\nLiturgie\nLuisterlied: Agnus Dei (SELA)\nOpwekking 847\nGroet\n“Met open armen” – Schrijvers voor\nGerechtigheid\nGebed\nLezen: Prediker 9: 1 – 12; 11: 7 – 12: 1\nLezen: Psalm 23\nPreek\nGezang 451\nOpwekking 595\nGebed\nCollecte Yachad\nOpwekking 851\nZegen \nKlik hier voor de liturgie met teksten\nU kunt uw bijdrage in de collecte overmaken via de Scipio-app of op NL 51 RABO 0329 1113 10 onder vermelding van “collecte on-line diensten”. De Commissie van Beheer zorgt dan voor de verdeling over de collectedoelen. \nEen goede dienst gewenst in verbondenheid
URL:https://ngk-hoogezand-sappemeer.nl/activiteit/br-g-j-bondt-17/
LOCATION:De Ark\, Rembrandtlaan 194\, Hoogezand\, Groningen\, 9601 XD\, Nederland
CATEGORIES:Kerkdienst
END:VEVENT
END:VCALENDAR