BEGIN:VCALENDAR
VERSION:2.0
PRODID:-//NGK Hoogezand-Sappemeer - ECPv6.3.7//NONSGML v1.0//EN
CALSCALE:GREGORIAN
METHOD:PUBLISH
X-ORIGINAL-URL:https://ngk-hoogezand-sappemeer.nl
X-WR-CALDESC:Evenementen voor NGK Hoogezand-Sappemeer
REFRESH-INTERVAL;VALUE=DURATION:PT1H
X-Robots-Tag:noindex
X-PUBLISHED-TTL:PT1H
BEGIN:VTIMEZONE
TZID:Europe/Amsterdam
BEGIN:DAYLIGHT
TZOFFSETFROM:+0100
TZOFFSETTO:+0200
TZNAME:CEST
DTSTART:20240331T010000
END:DAYLIGHT
BEGIN:STANDARD
TZOFFSETFROM:+0200
TZOFFSETTO:+0100
TZNAME:CET
DTSTART:20241027T010000
END:STANDARD
END:VTIMEZONE
BEGIN:VEVENT
DTSTART;TZID=Europe/Amsterdam:20240915T100000
DTEND;TZID=Europe/Amsterdam:20240915T113000
DTSTAMP:20260420T070658
CREATED:20240827T201716Z
LAST-MODIFIED:20240913T084138Z
UID:4878-1726394400-1726399800@ngk-hoogezand-sappemeer.nl
SUMMARY:Ds. A.J.Th. van der Scheer
DESCRIPTION:Deze dienst is on-line of later te volgen via Kerkdienstgemist\n\nLiturgie\nVotum en groet\nZingen Psalm 90: 1\, 8\nGebed\nLezen Hosea 1: 1 – 2: 5 en 3: 1 – 5\nZingen Psalm 95: 1 en 3\nTekst Hosea 11\nZingen GK Gezang 160\nPreek\nZingen GK Gezang 161 (Belijdenis)\nVoorbedegebed\nCollecte Kerk en Theologische Universiteit\nZingen LvdK Gezang 481\nZegen \nBegeleiding: Jan Leemhuis\nSchriftlezing: Tea Snip \nU kunt uw bijdrage in de collecte overmaken via de Scipio-app of op NL 51 RABO 0329 1113 10 onder vermelding van “collecte on-line diensten”. De Commissie van Beheer zorgt dan voor de verdeling over de collectedoelen. \nEen goede dienst gewenst in verbondenheid
URL:https://ngk-hoogezand-sappemeer.nl/activiteit/ds-a-j-th-van-der-scheer/
LOCATION:De Ark\, Rembrandtlaan 194\, Hoogezand\, Groningen\, 9601 XD\, Nederland
CATEGORIES:Kerkdienst
END:VEVENT
BEGIN:VEVENT
DTSTART;TZID=Europe/Amsterdam:20240915T163000
DTEND;TZID=Europe/Amsterdam:20240915T180000
DTSTAMP:20260420T070658
CREATED:20240827T201832Z
LAST-MODIFIED:20240913T084302Z
UID:4880-1726417800-1726423200@ngk-hoogezand-sappemeer.nl
SUMMARY:Ds. H. van Noort
DESCRIPTION:Deze dienst is on-line of later te volgen via Kerkdienstgemist\n\nLiturgie\nStilte\nVotum en groet\nZingen GK gezang 8a: 1\, 4\nGebed\nLezen Psalm 8\nZingen Opwekking voor kinderen 301\nVerkondiging\nZingen GK gezang 8a: 2\, 3\nBelijdenis\nZingen NLB 978: 1\, 4\nGebed\nCollecte Kerk en Theologische Universiteit\nZingen Opwekking 407\nZegen \nU kunt uw bijdrage in de collecte overmaken via de Scipio-app of op NL 51 RABO 0329 1113 10 onder vermelding van “collecte on-line diensten”. De Commissie van Beheer zorgt dan voor de verdeling over de collectedoelen. \nEen goede dienst gewenst in verbondenheid
URL:https://ngk-hoogezand-sappemeer.nl/activiteit/ds-h-van-noort-3/
LOCATION:De Ark\, Rembrandtlaan 194\, Hoogezand\, Groningen\, 9601 XD\, Nederland
CATEGORIES:Kerkdienst
END:VEVENT
END:VCALENDAR