BEGIN:VCALENDAR
VERSION:2.0
PRODID:-//NGK Hoogezand-Sappemeer - ECPv6.3.7//NONSGML v1.0//EN
CALSCALE:GREGORIAN
METHOD:PUBLISH
X-WR-CALNAME:NGK Hoogezand-Sappemeer
X-ORIGINAL-URL:https://ngk-hoogezand-sappemeer.nl
X-WR-CALDESC:Evenementen voor NGK Hoogezand-Sappemeer
REFRESH-INTERVAL;VALUE=DURATION:PT1H
X-Robots-Tag:noindex
X-PUBLISHED-TTL:PT1H
BEGIN:VTIMEZONE
TZID:Europe/Amsterdam
BEGIN:DAYLIGHT
TZOFFSETFROM:+0100
TZOFFSETTO:+0200
TZNAME:CEST
DTSTART:20240331T010000
END:DAYLIGHT
BEGIN:STANDARD
TZOFFSETFROM:+0200
TZOFFSETTO:+0100
TZNAME:CET
DTSTART:20241027T010000
END:STANDARD
END:VTIMEZONE
BEGIN:VEVENT
DTSTART;TZID=Europe/Amsterdam:20240707T100000
DTEND;TZID=Europe/Amsterdam:20240707T113000
DTSTAMP:20260420T093639
CREATED:20240615T090610Z
LAST-MODIFIED:20240706T100926Z
UID:4777-1720346400-1720351800@ngk-hoogezand-sappemeer.nl
SUMMARY:Ds. J.C. van der Vecht
DESCRIPTION:Deze dienst is on-line of later te volgen via Kerkdienstgemist\n\nLiturgie\nVotum en zegengroet: \nOpw. 400\nGebed\nGK’06 Gezang 103: 1\, 2\, 4\, 5\nNederlandse Geloofsbelijdenis artikel 2\n1 Johannes 1: 1 – 7 en 4: 7 – 21\nGKB Psalm 103: 1\, 5\nVerkondiging\nOpw. 488\nDankgebed\nLeefregel – Fillipenzen 2: 1 – 11\nNLB 838: 1 – 4\nCollecte: Kerk en Zending & Hulpverlening\nSela – Mag ik jou tot zegen zijn\nZegen \nBegeleiding: Jan Leemhuis \nU kunt uw bijdrage in de collecte overmaken via de Scipio-app of op NL 51 RABO 0329 1113 10 onder vermelding van “collecte on-line diensten”. De Commissie van Beheer zorgt dan voor de verdeling over de collectedoelen. \nEen goede dienst gewenst in verbondenheid
URL:https://ngk-hoogezand-sappemeer.nl/activiteit/ds-j-c-van-der-vecht-5/
LOCATION:De Ark\, Rembrandtlaan 194\, Hoogezand\, Groningen\, 9601 XD\, Nederland
CATEGORIES:Kerkdienst
END:VEVENT
BEGIN:VEVENT
DTSTART;TZID=Europe/Amsterdam:20240707T163000
DTEND;TZID=Europe/Amsterdam:20240707T180000
DTSTAMP:20260420T093639
CREATED:20240615T090709Z
LAST-MODIFIED:20240706T101046Z
UID:4779-1720369800-1720375200@ngk-hoogezand-sappemeer.nl
SUMMARY:Br. H. Dokter
DESCRIPTION:Deze dienst is on-line of later te volgen via Kerkdienstgemist\n\nLiturgie\nVotum en Zegengroet\nZingen: Opwekking 734\nGebed\nBijbellezing: Prediker 2: 17 – 23\nBijbellezing: Prediker 5: 9 – 19\nZingen: Opwekking 705\nPreek\nAmenlied: GK gez. 161\nBelijdenis\nGebed\nCollecte: Kerk en Zending & Hulpverlening\nSlotzang: Opwekking 174\nZegen \nU kunt uw bijdrage in de collecte overmaken via de Scipio-app of op NL 51 RABO 0329 1113 10 onder vermelding van “collecte on-line diensten”. De Commissie van Beheer zorgt dan voor de verdeling over de collectedoelen. \nEen goede dienst gewenst in verbondenheid
URL:https://ngk-hoogezand-sappemeer.nl/activiteit/br-h-dokter-5/
LOCATION:De Ark\, Rembrandtlaan 194\, Hoogezand\, Groningen\, 9601 XD\, Nederland
CATEGORIES:Kerkdienst
END:VEVENT
END:VCALENDAR