BEGIN:VCALENDAR
VERSION:2.0
PRODID:-//NGK Hoogezand-Sappemeer - ECPv6.3.7//NONSGML v1.0//EN
CALSCALE:GREGORIAN
METHOD:PUBLISH
X-WR-CALNAME:NGK Hoogezand-Sappemeer
X-ORIGINAL-URL:https://ngk-hoogezand-sappemeer.nl
X-WR-CALDESC:Evenementen voor NGK Hoogezand-Sappemeer
REFRESH-INTERVAL;VALUE=DURATION:PT1H
X-Robots-Tag:noindex
X-PUBLISHED-TTL:PT1H
BEGIN:VTIMEZONE
TZID:Europe/Amsterdam
BEGIN:DAYLIGHT
TZOFFSETFROM:+0100
TZOFFSETTO:+0200
TZNAME:CEST
DTSTART:20240331T010000
END:DAYLIGHT
BEGIN:STANDARD
TZOFFSETFROM:+0200
TZOFFSETTO:+0100
TZNAME:CET
DTSTART:20241027T010000
END:STANDARD
END:VTIMEZONE
BEGIN:VEVENT
DTSTART;TZID=Europe/Amsterdam:20240630T100000
DTEND;TZID=Europe/Amsterdam:20240630T113000
DTSTAMP:20260420T093600
CREATED:20240523T151433Z
LAST-MODIFIED:20240628T093015Z
UID:4744-1719741600-1719747000@ngk-hoogezand-sappemeer.nl
SUMMARY:Br. B.R. Munneke
DESCRIPTION:Deze dienst is on-line of later te volgen via Kerkdienstgemist\n\nLiturgie\nStil gebed\nVotum: zingen: OPW 640\nVrede-/zegengroet\nZingen: GK06 Gezang 145: 1\, 3\, 4\nKindermoment\nZingen: God is de kunstenaar\nGebed\nLezen/tekst: 2 Samuël 6: 1 – 11\nPreek\nZingen: DNP Psalm 43: 2\, 3\nLeefregels: Efeziërs 4: 17 – 32\nZingen: Liedboek (2013) 912\nGebed\nCollecte Kerk en Emeritering\nZingen: “Mag ik jou tot zegen zijn” – Sela\nZegen \nBegeleiding: Nanno Siertsema\nSchriftlezing: Alco Huttenga \nKlik hier voor de liturgie met teksten\nU kunt uw bijdrage in de collecte overmaken via de Scipio-app of op NL 51 RABO 0329 1113 10 onder vermelding van “collecte on-line diensten”. De Commissie van Beheer zorgt dan voor de verdeling over de collectedoelen. \nEen goede dienst gewenst in verbondenheid
URL:https://ngk-hoogezand-sappemeer.nl/activiteit/br-g-j-bondt-16/
LOCATION:De Ark\, Rembrandtlaan 194\, Hoogezand\, Groningen\, 9601 XD\, Nederland
CATEGORIES:Kerkdienst
END:VEVENT
BEGIN:VEVENT
DTSTART;TZID=Europe/Amsterdam:20240630T163000
DTEND;TZID=Europe/Amsterdam:20240630T180000
DTSTAMP:20260420T093600
CREATED:20240523T151520Z
LAST-MODIFIED:20240628T093448Z
UID:4746-1719765000-1719770400@ngk-hoogezand-sappemeer.nl
SUMMARY:Ds. F. Rinkema
DESCRIPTION:Deze dienst is on-line of later te volgen via Kerkdienstgemist\n\nLiturgie\nVotum en groet\nDNP Ps. 43\nGebed\nZondag 40 HC\nLezen: Genesis 4: 3 – 16\nLezen: 1 Johannes 3: 10 – 15\nLezen: Matteüs 5: 20 – 26\nLB Gez. 1010\nLeerpreek – Pleeg geen moord\nGK17 Gez. 252\nGebed\nCollecte Kerk en Emeritering\nGeloofsbelijdenis\nGK17 Ps. 33: 5 en 8\nZegen \nBegeleiding: Ds. F. Rinkema \nKlik hier voor de liturgie met teksten\nU kunt uw bijdrage in de collecte overmaken via de Scipio-app of op NL 51 RABO 0329 1113 10 onder vermelding van “collecte on-line diensten”. De Commissie van Beheer zorgt dan voor de verdeling over de collectedoelen. \nEen goede dienst gewenst in verbondenheid
URL:https://ngk-hoogezand-sappemeer.nl/activiteit/ds-f-rinkema-5/
LOCATION:De Ark\, Rembrandtlaan 194\, Hoogezand\, Groningen\, 9601 XD\, Nederland
CATEGORIES:Kerkdienst
END:VEVENT
END:VCALENDAR