BEGIN:VCALENDAR
VERSION:2.0
PRODID:-//NGK Hoogezand-Sappemeer - ECPv6.3.7//NONSGML v1.0//EN
CALSCALE:GREGORIAN
METHOD:PUBLISH
X-ORIGINAL-URL:https://ngk-hoogezand-sappemeer.nl
X-WR-CALDESC:Evenementen voor NGK Hoogezand-Sappemeer
REFRESH-INTERVAL;VALUE=DURATION:PT1H
X-Robots-Tag:noindex
X-PUBLISHED-TTL:PT1H
BEGIN:VTIMEZONE
TZID:Europe/Amsterdam
BEGIN:DAYLIGHT
TZOFFSETFROM:+0100
TZOFFSETTO:+0200
TZNAME:CEST
DTSTART:20240331T010000
END:DAYLIGHT
BEGIN:STANDARD
TZOFFSETFROM:+0200
TZOFFSETTO:+0100
TZNAME:CET
DTSTART:20241027T010000
END:STANDARD
END:VTIMEZONE
BEGIN:VEVENT
DTSTART;TZID=Europe/Amsterdam:20240609T100000
DTEND;TZID=Europe/Amsterdam:20240609T113000
DTSTAMP:20260420T105611
CREATED:20240523T150816Z
LAST-MODIFIED:20240608T091333Z
UID:4732-1717927200-1717932600@ngk-hoogezand-sappemeer.nl
SUMMARY:Zr. C.L. Prins
DESCRIPTION:Deze dienst is on-line of later te volgen via Kerkdienstgemist\n\nLiturgie\nWelkom en mededelingen\nGezongen votum en groet\nZingen: Psalm 122\nZingen: Opwekking 464\nGebed\nKindermoment\nLezen: 1 Korintiërs 12: 12 – 27\nPreek: Gemeente zijn!\nZingen: Gezang 233 (2017)\nZingen: Sela-Laat ons samen een zijn\nDankgebed en voorbeden\nLeefregel\nZingen: Nieuwe psalmberijming Psalm 100\nZingen: Opwekking 194\nCollecteaankondiging Kerk en Zending & Hulpverlening\nZingen: Gezang (2017) 177\nZegen en amen \nBegeleiding: Jan Leemhuis\nSchriftlezing: Francien Venhuizen \nKlik hier voor de liturgie met teksten\nU kunt uw bijdrage in de collecte overmaken via de Scipio-app of op NL 51 RABO 0329 1113 10 onder vermelding van “collecte on-line diensten”. De Commissie van Beheer zorgt dan voor de verdeling over de collectedoelen. \nEen goede dienst gewenst in verbondenheid
URL:https://ngk-hoogezand-sappemeer.nl/activiteit/zr-c-l-prins-4/
LOCATION:De Ark\, Rembrandtlaan 194\, Hoogezand\, Groningen\, 9601 XD\, Nederland
CATEGORIES:Kerkdienst
END:VEVENT
BEGIN:VEVENT
DTSTART;TZID=Europe/Amsterdam:20240609T163000
DTEND;TZID=Europe/Amsterdam:20240609T180000
DTSTAMP:20260420T105611
CREATED:20240523T150937Z
LAST-MODIFIED:20240608T091628Z
UID:4734-1717950600-1717956000@ngk-hoogezand-sappemeer.nl
SUMMARY:Ds. G. Meijer
DESCRIPTION:Deze dienst is on-line of later te volgen via Kerkdienstgemist\n\nLiturgie\nkomen\nDNP 124 (= votum)\nGroet\nhoren\nGebed\nPsalmen 124\nAls het net even anders was gegaan\n(verkondiging vanuit Psalmen 124)\nGk06 119: 1\, 3\, 4\ngeven\nNicenum\nPs 72: 7\, 10\nGebed\nCollecte Kerk en Zending & Hulpverlening\ngaan\nLvk 769: 1\, 2\, 6\nZegen \nKlik hier voor de liturgie met teksten\nU kunt uw bijdrage in de collecte overmaken via de Scipio-app of op NL 51 RABO 0329 1113 10 onder vermelding van “collecte on-line diensten”. De Commissie van Beheer zorgt dan voor de verdeling over de collectedoelen. \nEen goede dienst gewenst in verbondenheid
URL:https://ngk-hoogezand-sappemeer.nl/activiteit/ds-g-meijer/
LOCATION:De Ark\, Rembrandtlaan 194\, Hoogezand\, Groningen\, 9601 XD\, Nederland
CATEGORIES:Kerkdienst
END:VEVENT
END:VCALENDAR