BEGIN:VCALENDAR
VERSION:2.0
PRODID:-//NGK Hoogezand-Sappemeer - ECPv6.3.7//NONSGML v1.0//EN
CALSCALE:GREGORIAN
METHOD:PUBLISH
X-WR-CALNAME:NGK Hoogezand-Sappemeer
X-ORIGINAL-URL:https://ngk-hoogezand-sappemeer.nl
X-WR-CALDESC:Evenementen voor NGK Hoogezand-Sappemeer
REFRESH-INTERVAL;VALUE=DURATION:PT1H
X-Robots-Tag:noindex
X-PUBLISHED-TTL:PT1H
BEGIN:VTIMEZONE
TZID:Europe/Amsterdam
BEGIN:DAYLIGHT
TZOFFSETFROM:+0100
TZOFFSETTO:+0200
TZNAME:CEST
DTSTART:20240331T010000
END:DAYLIGHT
BEGIN:STANDARD
TZOFFSETFROM:+0200
TZOFFSETTO:+0100
TZNAME:CET
DTSTART:20241027T010000
END:STANDARD
END:VTIMEZONE
BEGIN:VEVENT
DTSTART;TZID=Europe/Amsterdam:20240602T100000
DTEND;TZID=Europe/Amsterdam:20240602T113000
DTSTAMP:20260420T105517
CREATED:20240523T150519Z
LAST-MODIFIED:20240531T092141Z
UID:4728-1717322400-1717327800@ngk-hoogezand-sappemeer.nl
SUMMARY:Ds. J. Th. Rozemuller
DESCRIPTION:Deze dienst is on-line of later te volgen via Kerkdienstgemist\n\nLiturgie\nKlik hier voor de liturgie met teksten\nVotum en groet\nLied: LB (2013) 216: 1\, 2\, 3\nLezen van Gods geboden\nLied: LB (2013) 859: 1\, 2\, 4\nGebed\nLezen: Matteüs 4: 12 – 17\nLezen: Matteüs 25: 14 – 30\nLied Opw. 595\nPreek over Matteüs 4: 17\nLied: LB (2013) 753: 1 – 6\nDankgebed\nCollecte Kerk en Emeritering\nLied: LB (2013) 871: 1 – 4\nZegen \nBegeleiding: Nanno Siertsema\nSchriftlezing: Tonny Prins \nU kunt uw bijdrage in de collecte overmaken via de Scipio-app of op NL 51 RABO 0329 1113 10 onder vermelding van “collecte on-line diensten”. De Commissie van Beheer zorgt dan voor de verdeling over de collectedoelen. \nEen goede dienst gewenst in verbondenheid
URL:https://ngk-hoogezand-sappemeer.nl/activiteit/ds-j-th-rozemuller/
LOCATION:De Ark\, Rembrandtlaan 194\, Hoogezand\, Groningen\, 9601 XD\, Nederland
CATEGORIES:Kerkdienst
END:VEVENT
BEGIN:VEVENT
DTSTART;TZID=Europe/Amsterdam:20240602T163000
DTEND;TZID=Europe/Amsterdam:20240602T180000
DTSTAMP:20260420T105517
CREATED:20240523T150634Z
LAST-MODIFIED:20240531T092415Z
UID:4730-1717345800-1717351200@ngk-hoogezand-sappemeer.nl
SUMMARY:Ds. A.M. de Hullu
DESCRIPTION:Deze dienst is on-line of later te volgen via Kerkdienstgemist\n\nLiturgie\nKlik hier voor de liturgie met teksten\nI. Opening\nOpeningsbelijdenis en groet (gesproken)\nPsalm 87\nGebed\nPsalm 133\nII. Dienst van het woord\nLeviticus 10: 1 – 3\nHandelingen 4: 32 – 5: 11\nPreek\nOpwekking 464: 1\, 2\nPsalm 19: 4\, 6\nGeloofsbelijdenis: GK 175b (Wisselzang)\nIII. Dienst der dankbaarheid\nGebed\nCollecten Kerk en Emeritering\nIV. Heenzending\nOpwekking 354\nZegen en gesproken Amen \nU kunt uw bijdrage in de collecte overmaken via de Scipio-app of op NL 51 RABO 0329 1113 10 onder vermelding van “collecte on-line diensten”. De Commissie van Beheer zorgt dan voor de verdeling over de collectedoelen. \nEen goede dienst gewenst in verbondenheid
URL:https://ngk-hoogezand-sappemeer.nl/activiteit/ds-a-m-de-hullu/
LOCATION:De Ark\, Rembrandtlaan 194\, Hoogezand\, Groningen\, 9601 XD\, Nederland
CATEGORIES:Kerkdienst
END:VEVENT
END:VCALENDAR