BEGIN:VCALENDAR
VERSION:2.0
PRODID:-//NGK Hoogezand-Sappemeer - ECPv6.3.7//NONSGML v1.0//EN
CALSCALE:GREGORIAN
METHOD:PUBLISH
X-ORIGINAL-URL:https://ngk-hoogezand-sappemeer.nl
X-WR-CALDESC:Evenementen voor NGK Hoogezand-Sappemeer
REFRESH-INTERVAL;VALUE=DURATION:PT1H
X-Robots-Tag:noindex
X-PUBLISHED-TTL:PT1H
BEGIN:VTIMEZONE
TZID:Europe/Amsterdam
BEGIN:DAYLIGHT
TZOFFSETFROM:+0100
TZOFFSETTO:+0200
TZNAME:CEST
DTSTART:20240331T010000
END:DAYLIGHT
BEGIN:STANDARD
TZOFFSETFROM:+0200
TZOFFSETTO:+0100
TZNAME:CET
DTSTART:20241027T010000
END:STANDARD
END:VTIMEZONE
BEGIN:VEVENT
DTSTART;TZID=Europe/Amsterdam:20240324T100000
DTEND;TZID=Europe/Amsterdam:20240324T113000
DTSTAMP:20260420T145255
CREATED:20240228T161705Z
LAST-MODIFIED:20240323T092923Z
UID:4569-1711274400-1711279800@ngk-hoogezand-sappemeer.nl
SUMMARY:Zr. C.L. Prins
DESCRIPTION:Deze dienst is on-line of later te volgen via Kerkdienstgemist\n\nLiturgie\nWelkom en mededelingen\nGezongen votum en groet\nZingen: Opwekking 805\nZingen: Gezang 168\nGebed\nKindermoment\nProjectlied: Ja\, ja\, ja Petrus\nLezen: Matteüs 26: 57 – 75\nPreek: Jezelf tegenvallen\nZingen: Opwekking 629\nDankgebed en voorbeden\nLeefregel\nZingen: Liedboek 51b\nZingen: Gezang 167\nCollecteaankondiging Kerk en Theologische Universiteit\nZingen: Psalm 25: 2\, 3\, 4\nZegen en amen \nBegeleiding: Nanno Siertsema\nSchriftlezing: Geert Bondt \nU kunt uw bijdrage in de collecte overmaken via de Scipio-app of op NL 51 RABO 0329 1113 10 onder vermelding van “collecte on-line diensten”. De Commissie van Beheer zorgt dan voor de verdeling over de collectedoelen. \nKlik hier voor de liturgie met teksten\nEen goede dienst gewenst in verbondenheid
URL:https://ngk-hoogezand-sappemeer.nl/activiteit/zr-c-l-prins-3/
LOCATION:De Ark\, Rembrandtlaan 194\, Hoogezand\, Groningen\, 9601 XD\, Nederland
CATEGORIES:Kerkdienst
END:VEVENT
BEGIN:VEVENT
DTSTART;TZID=Europe/Amsterdam:20240324T163000
DTEND;TZID=Europe/Amsterdam:20240324T180000
DTSTAMP:20260420T145255
CREATED:20240228T161816Z
LAST-MODIFIED:20240323T093150Z
UID:4571-1711297800-1711303200@ngk-hoogezand-sappemeer.nl
SUMMARY:Ds. H. van Noort
DESCRIPTION:Deze dienst is on-line of later te volgen via Kerkdienstgemist\n\nLiturgie\nVotum en groet\nZingen GK Psalm 86: 3\, 4\nGebed\nLezen doopformulier 3 (alleen: laatste vraag\ndoopouders en &#39;oproep gemeente&#39;)\nZingen DNP Psalm 78: 1\, 2\nVerkondiging\nApostolische geloofsbelijdenis\nVerkondiging\nZingen NLB 653: 1\, 5\, 7\nGebed (zingen) NLB 1006\nCollecte Kerk en Theologische Universiteit\nZingen GK Psalm 89: 1\, 6\, 7\nZegen \nU kunt uw bijdrage in de collecte overmaken via de Scipio-app of op NL 51 RABO 0329 1113 10 onder vermelding van “collecte on-line diensten”. De Commissie van Beheer zorgt dan voor de verdeling over de collectedoelen. \nKlik hier voor de liturgie met teksten\nEen goede dienst gewenst in verbondenheid
URL:https://ngk-hoogezand-sappemeer.nl/activiteit/ds-h-van-noort-2/
LOCATION:De Ark\, Rembrandtlaan 194\, Hoogezand\, Groningen\, 9601 XD\, Nederland
CATEGORIES:Kerkdienst
END:VEVENT
END:VCALENDAR