BEGIN:VCALENDAR
VERSION:2.0
PRODID:-//NGK Hoogezand-Sappemeer - ECPv6.3.7//NONSGML v1.0//EN
CALSCALE:GREGORIAN
METHOD:PUBLISH
X-WR-CALNAME:NGK Hoogezand-Sappemeer
X-ORIGINAL-URL:https://ngk-hoogezand-sappemeer.nl
X-WR-CALDESC:Evenementen voor NGK Hoogezand-Sappemeer
REFRESH-INTERVAL;VALUE=DURATION:PT1H
X-Robots-Tag:noindex
X-PUBLISHED-TTL:PT1H
BEGIN:VTIMEZONE
TZID:Europe/Amsterdam
BEGIN:DAYLIGHT
TZOFFSETFROM:+0100
TZOFFSETTO:+0200
TZNAME:CEST
DTSTART:20240331T010000
END:DAYLIGHT
BEGIN:STANDARD
TZOFFSETFROM:+0200
TZOFFSETTO:+0100
TZNAME:CET
DTSTART:20241027T010000
END:STANDARD
END:VTIMEZONE
BEGIN:VEVENT
DTSTART;TZID=Europe/Amsterdam:20240317T100000
DTEND;TZID=Europe/Amsterdam:20240317T113000
DTSTAMP:20260420T145135
CREATED:20240228T161323Z
LAST-MODIFIED:20240315T163703Z
UID:4565-1710669600-1710675000@ngk-hoogezand-sappemeer.nl
SUMMARY:Ds. A.M. Pathuis
DESCRIPTION:Deze dienst is on-line of later te volgen via Kerkdienstgemist\n\nLiturgie\nVotum en groet\nZingen: DNP Psalm 33: 1\,6\nGebed\nKindermoment\nKinderlied: Kinderopwekking 159\nKinderen naar de kidsclub\nZingen: DNP Psalm 62: 2\, 3\, 5\, 6\nLezen: Matteüs 26: 46 – 56\nPreek\nZingen: DNP Psalm 139: 1\, 7\, 8\nDankgebed\nZingen: Liedboek 1010: 1\, 3\, 4\nCollecte Kerk en Zending & Hulpverlening\nZingen: Liedboek 838: 1\, 3\, 4\nZegen \nBegeleiding: Jan Leemhuis\nSchriftlezing: Francien Venhuizen \nU kunt uw bijdrage in de collecte overmaken via de Scipio-app of op NL 51 RABO 0329 1113 10 onder vermelding van “collecte on-line diensten”. De Commissie van Beheer zorgt dan voor de verdeling over de collectedoelen. \nKlik hier voor de liturgie met teksten\nEen goede dienst gewenst in verbondenheid
URL:https://ngk-hoogezand-sappemeer.nl/activiteit/ds-a-m-pathuis-20/
LOCATION:De Ark\, Rembrandtlaan 194\, Hoogezand\, Groningen\, 9601 XD\, Nederland
CATEGORIES:Kerkdienst
END:VEVENT
BEGIN:VEVENT
DTSTART;TZID=Europe/Amsterdam:20240317T163000
DTEND;TZID=Europe/Amsterdam:20240317T180000
DTSTAMP:20260420T145135
CREATED:20240228T161424Z
LAST-MODIFIED:20240315T164025Z
UID:4567-1710693000-1710698400@ngk-hoogezand-sappemeer.nl
SUMMARY:Br. B.R. Munneke
DESCRIPTION:Deze dienst is on-line of later te volgen via Kerkdienstgemist\n\nLiturgie\nVotum/groet:\nZingen: Opw 124\nGebed om de opening van het Woord\nSchriftlezing: Lukas 4: 1 – 13\nZingen DNP 116: 1\, 3\, 8\nPrediking\nZingen: Gez 164\nGebed\nCollecten Kerk en Zending & Hulpverlening\nZingen: Geloofsbelijdenis Gez. 161\nZegen \nU kunt uw bijdrage in de collecte overmaken via de Scipio-app of op NL 51 RABO 0329 1113 10 onder vermelding van “collecte on-line diensten”. De Commissie van Beheer zorgt dan voor de verdeling over de collectedoelen. \nKlik hier voor de liturgie met teksten\nEen goede dienst gewenst in verbondenheid
URL:https://ngk-hoogezand-sappemeer.nl/activiteit/br-b-r-munneke-6/
LOCATION:De Ark\, Rembrandtlaan 194\, Hoogezand\, Groningen\, 9601 XD\, Nederland
CATEGORIES:Kerkdienst
END:VEVENT
END:VCALENDAR