BEGIN:VCALENDAR
VERSION:2.0
PRODID:-//NGK Hoogezand-Sappemeer - ECPv6.3.7//NONSGML v1.0//EN
CALSCALE:GREGORIAN
METHOD:PUBLISH
X-WR-CALNAME:NGK Hoogezand-Sappemeer
X-ORIGINAL-URL:https://ngk-hoogezand-sappemeer.nl
X-WR-CALDESC:Evenementen voor NGK Hoogezand-Sappemeer
REFRESH-INTERVAL;VALUE=DURATION:PT1H
X-Robots-Tag:noindex
X-PUBLISHED-TTL:PT1H
BEGIN:VTIMEZONE
TZID:Europe/Amsterdam
BEGIN:DAYLIGHT
TZOFFSETFROM:+0100
TZOFFSETTO:+0200
TZNAME:CEST
DTSTART:20240331T010000
END:DAYLIGHT
BEGIN:STANDARD
TZOFFSETFROM:+0200
TZOFFSETTO:+0100
TZNAME:CET
DTSTART:20241027T010000
END:STANDARD
END:VTIMEZONE
BEGIN:VEVENT
DTSTART;TZID=Europe/Amsterdam:20240303T100000
DTEND;TZID=Europe/Amsterdam:20240303T113000
DTSTAMP:20260420T145149
CREATED:20240228T160703Z
LAST-MODIFIED:20240302T155117Z
UID:4555-1709460000-1709465400@ngk-hoogezand-sappemeer.nl
SUMMARY:Ds. A.M. Pathuis
DESCRIPTION:Deze dienst is on-line of later te volgen via Kerkdienstgemist\n\nLiturgie\nOpw. 770 n.a.v. overlijden br. Egbert Prins \nVotum en groet\nZingen: DNP Psalm 118: 1\, 2 \nLeefregel\nZingen: DNP Psalm 119: 1\, 3\nGebed\nKinderlied: Kinderopwekking 46 \nLezen: Matteüs 26: 26 – 30 \nZingen: Liedboek 536: 1\, 4\nLezen: Matteüs 26: 31 – 35 \nPreek\nLuisterlied: ‘Gebed om vergeving’ (Sela)\nZingen: DNP Psalm 80: 1 \,6\nDankgebed\nCollecte Hulpreis Israël\, Yad Lami & Lema Ancha\nZingen: Liedboek 909 \nZegen \nBegeleiding: Jan Leemhuis\nSchriftlezing: Beno Munneke \nU kunt uw bijdrage in de collecte overmaken via de Scipio-app of op NL 51 RABO 0329 1113 10 onder vermelding van “collecte on-line diensten”. De Commissie van Beheer zorgt dan voor de verdeling over de collectedoelen. \nKlik hier voor de liturgie met teksten\nEen goede dienst gewenst in verbondenheid
URL:https://ngk-hoogezand-sappemeer.nl/activiteit/ds-a-m-pathuis-19/
LOCATION:De Ark\, Rembrandtlaan 194\, Hoogezand\, Groningen\, 9601 XD\, Nederland
CATEGORIES:Kerkdienst
END:VEVENT
BEGIN:VEVENT
DTSTART;TZID=Europe/Amsterdam:20240303T163000
DTEND;TZID=Europe/Amsterdam:20240303T180000
DTSTAMP:20260420T145149
CREATED:20240228T160933Z
LAST-MODIFIED:20240302T155854Z
UID:4557-1709483400-1709488800@ngk-hoogezand-sappemeer.nl
SUMMARY:Ds. R. Tigelaar
DESCRIPTION:Deze dienst is on-line of later te volgen via Kerkdienstgemist\n\nLiturgie\nVotum/zegengroet\nGK 168 \nGebed\nGewone Catechismus 51 – 54\nPs. 51: 1\, 2 \nJesaja 53\nPs. 51: 4\, 5 \nPreek\nGK 201 (wie zal voor God verschijnen?)\nBelijdenis\nGK 205 \nGebed\nCollecte Hulpreis Israël\, Yad Lami & Lema Ancha\nGK06 89 \nZegen \nU kunt uw bijdrage in de collecte overmaken via de Scipio-app of op NL 51 RABO 0329 1113 10 onder vermelding van “collecte on-line diensten”. De Commissie van Beheer zorgt dan voor de verdeling over de collectedoelen. \nKlik hier voor de liturgie met teksten\nEen goede dienst gewenst in verbondenheid
URL:https://ngk-hoogezand-sappemeer.nl/activiteit/ds-r-tigelaar/
LOCATION:De Ark\, Rembrandtlaan 194\, Hoogezand\, Groningen\, 9601 XD\, Nederland
CATEGORIES:Kerkdienst
END:VEVENT
END:VCALENDAR