BEGIN:VCALENDAR
VERSION:2.0
PRODID:-//NGK Hoogezand-Sappemeer - ECPv6.3.7//NONSGML v1.0//EN
CALSCALE:GREGORIAN
METHOD:PUBLISH
X-WR-CALNAME:NGK Hoogezand-Sappemeer
X-ORIGINAL-URL:https://ngk-hoogezand-sappemeer.nl
X-WR-CALDESC:Evenementen voor NGK Hoogezand-Sappemeer
REFRESH-INTERVAL;VALUE=DURATION:PT1H
X-Robots-Tag:noindex
X-PUBLISHED-TTL:PT1H
BEGIN:VTIMEZONE
TZID:Europe/Amsterdam
BEGIN:DAYLIGHT
TZOFFSETFROM:+0100
TZOFFSETTO:+0200
TZNAME:CEST
DTSTART:20240331T010000
END:DAYLIGHT
BEGIN:STANDARD
TZOFFSETFROM:+0200
TZOFFSETTO:+0100
TZNAME:CET
DTSTART:20241027T010000
END:STANDARD
END:VTIMEZONE
BEGIN:VEVENT
DTSTART;TZID=Europe/Amsterdam:20240218T100000
DTEND;TZID=Europe/Amsterdam:20240218T113000
DTSTAMP:20260420T161538
CREATED:20240118T140545Z
LAST-MODIFIED:20240216T164530Z
UID:4496-1708250400-1708255800@ngk-hoogezand-sappemeer.nl
SUMMARY:Br. P. Braam
DESCRIPTION:Deze dienst is on-line of later te volgen via Kerkdienstgemist\n\nLiturgie\nVotum en groet\nDNP Psalm 96: 1\, 2\nGebed\nKindermoment\nLied: Ja\, ja\, ja Petrus\nLezen: Matteüs 16 : 13 – 28 (tekst 16: 21 – 25)\nDNP psalm 25 : 2\, 8\nPreek – thema “Kruisdragen achter Christus aan”\nLiedboek 177: 1\, 2\, 7\nLeefregels\nGebed\nCollecte Kerk en Zending & Hulpverlening\nOpwekking 706\nZegen\nBegeleiding: Jan Leemhuis\nSchriftlezing: Tea Snip \nU kunt uw bijdrage in de collecte overmaken via de Scipio-app of op NL 51 RABO 0329 1113 10 onder vermelding van “collecte on-line diensten”. De Commissie van Beheer zorgt dan voor de verdeling over de collectedoelen. \nKlik hier voor de liturgie met teksten\nEen goede dienst gewenst in verbondenheid
URL:https://ngk-hoogezand-sappemeer.nl/activiteit/br-g-j-bondt-13/
LOCATION:De Ark\, Rembrandtlaan 194\, Hoogezand\, Groningen\, 9601 XD\, Nederland
CATEGORIES:Kerkdienst
END:VEVENT
BEGIN:VEVENT
DTSTART;TZID=Europe/Amsterdam:20240218T163000
DTEND;TZID=Europe/Amsterdam:20240218T180000
DTSTAMP:20260420T161538
CREATED:20240118T140635Z
LAST-MODIFIED:20240216T164729Z
UID:4498-1708273800-1708279200@ngk-hoogezand-sappemeer.nl
SUMMARY:Ds. A.M. Pathuis
DESCRIPTION:Deze dienst is on-line of later te volgen via Kerkdienstgemist\n\nLiturgie\nVotum en groet\nZingen: GKB Psalm 25: 2\, 5\, 6\nGebed\nLezen: Ezechiël 18: 30 – 32\nLezen: Marcus 1: 12 – 15\nZingen: NLB 51b\nLezen: Gewone Catechismus 12\nPreek\nLuisterlied: Sela ‘Kom tot Hem’\nDankgebed\nZingen: Liedboek 370 (a capella)\nCollecte Kerk en Zending & Hulpverlening\nGeloofsbelijdenis\nZingen: Liedboek 834\nZegen \nU kunt uw bijdrage in de collecte overmaken via de Scipio-app of op NL 51 RABO 0329 1113 10 onder vermelding van “collecte on-line diensten”. De Commissie van Beheer zorgt dan voor de verdeling over de collectedoelen. \nKlik hier voor de liturgie met teksten\nEen goede dienst gewenst in verbondenheid
URL:https://ngk-hoogezand-sappemeer.nl/activiteit/ds-a-m-pathuis-18/
LOCATION:De Ark\, Rembrandtlaan 194\, Hoogezand\, Groningen\, 9601 XD\, Nederland
CATEGORIES:Kerkdienst
END:VEVENT
END:VCALENDAR