BEGIN:VCALENDAR
VERSION:2.0
PRODID:-//NGK Hoogezand-Sappemeer - ECPv6.3.7//NONSGML v1.0//EN
CALSCALE:GREGORIAN
METHOD:PUBLISH
X-WR-CALNAME:NGK Hoogezand-Sappemeer
X-ORIGINAL-URL:https://ngk-hoogezand-sappemeer.nl
X-WR-CALDESC:Evenementen voor NGK Hoogezand-Sappemeer
REFRESH-INTERVAL;VALUE=DURATION:PT1H
X-Robots-Tag:noindex
X-PUBLISHED-TTL:PT1H
BEGIN:VTIMEZONE
TZID:Europe/Amsterdam
BEGIN:DAYLIGHT
TZOFFSETFROM:+0100
TZOFFSETTO:+0200
TZNAME:CEST
DTSTART:20230326T010000
END:DAYLIGHT
BEGIN:STANDARD
TZOFFSETFROM:+0200
TZOFFSETTO:+0100
TZNAME:CET
DTSTART:20231029T010000
END:STANDARD
END:VTIMEZONE
BEGIN:VEVENT
DTSTART;TZID=Europe/Amsterdam:20231231T100000
DTEND;TZID=Europe/Amsterdam:20231231T113000
DTSTAMP:20260420T174010
CREATED:20231107T152358Z
LAST-MODIFIED:20231230T212011Z
UID:4380-1704016800-1704022200@ngk-hoogezand-sappemeer.nl
SUMMARY:Br. G.J. Bondt
DESCRIPTION:Deze dienst in on-line of later te volgen via Kerkdienstgemist\n\nLiturgie\nVotum en groet;\nGK 254\nOpwekking 797\nWet\nGebed\nLezen: Prediker 2\nLezen: Matteüs 6: 25 – 34\nOpwekking 40 – Canon 2 groepen\nPreek\nGK 256\nGebed\nCollecte Kerk en Evangelisatie\nLB 978\nZegen\nAfsluiten met LB 415: 3 \nBegeleiding: Jan Leemhuis\nSchriftlezing: Alco Huttenga \nU kunt uw bijdrage in de collecte overmaken via de Scipio-app of op NL 51 RABO 0329 1113 10 onder vermelding van “collecte on-line diensten”. De Commissie van Beheer zorgt dan voor de verdeling over de collectedoelen. \nKlik hier voor de liturgie met teksten\nEen goede dienst gewenst in verbondenheid
URL:https://ngk-hoogezand-sappemeer.nl/activiteit/br-g-j-bondt-12/
LOCATION:De Ark\, Rembrandtlaan 194\, Hoogezand\, Groningen\, 9601 XD\, Nederland
CATEGORIES:Kerkdienst
END:VEVENT
BEGIN:VEVENT
DTSTART;TZID=Europe/Amsterdam:20231231T193000
DTEND;TZID=Europe/Amsterdam:20231231T210000
DTSTAMP:20260420T174010
CREATED:20231107T152436Z
LAST-MODIFIED:20231230T212121Z
UID:4382-1704051000-1704056400@ngk-hoogezand-sappemeer.nl
SUMMARY:Br. P. Braam - Oudjaar
DESCRIPTION:Deze dienst in on-line of later te volgen via Kerkdienstgemist\n\nLiturgie\nVotum – groet\nPsalm 90 : 1\, 8\nGebed\nLezen: Psalm 103\nLied 444\nTekst: Psalm 103: 2\nPreek\nLied 15 : 1\, 2\nDankgebed\nGeloofsbelijdenis\nCollecte Kerk en Evangelisatie\nGezang 52 : 1\, 2\nZegen \nBegeleiding: Nanno Siertsema \nU kunt uw bijdrage in de collecte overmaken via de Scipio-app of op NL 51 RABO 0329 1113 10 onder vermelding van “collecte on-line diensten”. De Commissie van Beheer zorgt dan voor de verdeling over de collectedoelen. \nKlik hier voor de liturgie met teksten\nEen goede dienst gewenst in verbondenheid
URL:https://ngk-hoogezand-sappemeer.nl/activiteit/ds-a-m-pathuis-14/
LOCATION:De Ark\, Rembrandtlaan 194\, Hoogezand\, Groningen\, 9601 XD\, Nederland
CATEGORIES:Kerkdienst
END:VEVENT
END:VCALENDAR