BEGIN:VCALENDAR
VERSION:2.0
PRODID:-//NGK Hoogezand-Sappemeer - ECPv6.3.7//NONSGML v1.0//EN
CALSCALE:GREGORIAN
METHOD:PUBLISH
X-ORIGINAL-URL:https://ngk-hoogezand-sappemeer.nl
X-WR-CALDESC:Evenementen voor NGK Hoogezand-Sappemeer
REFRESH-INTERVAL;VALUE=DURATION:PT1H
X-Robots-Tag:noindex
X-PUBLISHED-TTL:PT1H
BEGIN:VTIMEZONE
TZID:Europe/Amsterdam
BEGIN:DAYLIGHT
TZOFFSETFROM:+0100
TZOFFSETTO:+0200
TZNAME:CEST
DTSTART:20230326T010000
END:DAYLIGHT
BEGIN:STANDARD
TZOFFSETFROM:+0200
TZOFFSETTO:+0100
TZNAME:CET
DTSTART:20231029T010000
END:STANDARD
END:VTIMEZONE
BEGIN:VEVENT
DTSTART;TZID=Europe/Amsterdam:20231217T100000
DTEND;TZID=Europe/Amsterdam:20231217T113000
DTSTAMP:20260420T190916
CREATED:20231107T151721Z
LAST-MODIFIED:20231216T151848Z
UID:4370-1702807200-1702812600@ngk-hoogezand-sappemeer.nl
SUMMARY:Br. P. Braam - 3e Advent
DESCRIPTION:Deze dienst in on-line of later te volgen via Kerkdienstgemist\n\nLiturgie\nAdventsmoment\nVotum en groet\nOpwekking 527\nGebed\nKindermoment + lied – Alco Huttenga\nLezen: Lucas 1: 39 – 56\nGezang 47: 2\, 4\, 5\nTekst: Lucas 1: 48\nPreek\nSela – God keert alles om\nLeefregels\nOpwekking 805\nGebed\nCollecte Kerk en Zending en Hulpverlening\nLied 126 : 1\, 2\, 3\nZegen \nBegeleiding: Nanno Siertsema\nSchriftlezing: Beno Munneke \nU kunt uw bijdrage in de collecte overmaken via de Scipio-app of op NL 51 RABO 0329 1113 10 onder vermelding van “collecte on-line diensten”. De Commissie van Beheer zorgt dan voor de verdeling over de collectedoelen. \nKlik hier voor de liturgie met teksten\nEen goede dienst gewenst in verbondenheid
URL:https://ngk-hoogezand-sappemeer.nl/activiteit/br-p-braam-5/
LOCATION:De Ark\, Rembrandtlaan 194\, Hoogezand\, Groningen\, 9601 XD\, Nederland
CATEGORIES:Kerkdienst
END:VEVENT
BEGIN:VEVENT
DTSTART;TZID=Europe/Amsterdam:20231217T153000
DTEND;TZID=Europe/Amsterdam:20231217T170000
DTSTAMP:20260420T190916
CREATED:20231107T151826Z
LAST-MODIFIED:20231216T152034Z
UID:4372-1702827000-1702832400@ngk-hoogezand-sappemeer.nl
SUMMARY:Ds. A.M. Pathuis
DESCRIPTION:Deze dienst in on-line of later te volgen via Kerkdienstgemist\n\nLiturgie\nVotum en groet\nZingen: Liedboek 513\nGebed\nZingen: GKB (2017) Gezang 176: 2 a capella\nLezen: Johannes 1: 1 – 18\nPreek\nZingen: Liedboek 488\nDankgebed\nCollecte Kerk en Zending en Hulpverlening\nZingen: Liedboek 444\nZegen \nU kunt uw bijdrage in de collecte overmaken via de Scipio-app of op NL 51 RABO 0329 1113 10 onder vermelding van “collecte on-line diensten”. De Commissie van Beheer zorgt dan voor de verdeling over de collectedoelen. \nKlik hier voor de liturgie met teksten\nEen goede dienst gewenst in verbondenheid
URL:https://ngk-hoogezand-sappemeer.nl/activiteit/ds-a-m-pathuis-13/
LOCATION:De Ark\, Rembrandtlaan 194\, Hoogezand\, Groningen\, 9601 XD\, Nederland
CATEGORIES:Kerkdienst
END:VEVENT
END:VCALENDAR