BEGIN:VCALENDAR
VERSION:2.0
PRODID:-//NGK Hoogezand-Sappemeer - ECPv6.3.7//NONSGML v1.0//EN
CALSCALE:GREGORIAN
METHOD:PUBLISH
X-WR-CALNAME:NGK Hoogezand-Sappemeer
X-ORIGINAL-URL:https://ngk-hoogezand-sappemeer.nl
X-WR-CALDESC:Evenementen voor NGK Hoogezand-Sappemeer
REFRESH-INTERVAL;VALUE=DURATION:PT1H
X-Robots-Tag:noindex
X-PUBLISHED-TTL:PT1H
BEGIN:VTIMEZONE
TZID:Europe/Amsterdam
BEGIN:DAYLIGHT
TZOFFSETFROM:+0100
TZOFFSETTO:+0200
TZNAME:CEST
DTSTART:20230326T010000
END:DAYLIGHT
BEGIN:STANDARD
TZOFFSETFROM:+0200
TZOFFSETTO:+0100
TZNAME:CET
DTSTART:20231029T010000
END:STANDARD
END:VTIMEZONE
BEGIN:VEVENT
DTSTART;TZID=Europe/Amsterdam:20231210T100000
DTEND;TZID=Europe/Amsterdam:20231210T113000
DTSTAMP:20260420T190917
CREATED:20231107T151239Z
LAST-MODIFIED:20231209T154722Z
UID:4364-1702202400-1702207800@ngk-hoogezand-sappemeer.nl
SUMMARY:Ds. A.M. Pathuis - Heilig Avondmaal - 2e Advent
DESCRIPTION:Deze dienst in on-line of later te volgen via Kerkdienstgemist\n\nLiturgie\nAdventsmoment\nFilmpje (met Klaas Noordhuis)\nVotum en groet\nZingen: Liedboek 442\nKindermoment\nKinderlied: MSNK ‘Christmas Time’\nGebed\nZingen: DNP Psalm 80: 1\, 6\nLezen: Lucas 1: 26 – 38\nZingen: Liedboek 157a: 1\, 4\nPreek\nZingen: DNP Psalm 89: 1\, 5\nDankgebed\nCollecte Diaconie\nViering Heilig Avondmaal\nApostolische geloofsbelijdenis\nZingen: Liedboek 91a: 1\, 2\nUitleg over het avondmaal\nGebed\nUitnodiging\nViering (met muzikale begeleiding)\nZingen: Liedboek 868\nZegen \nBegeleiding: Jan Leemhuis\nSchriftlezing: Kathy of Herman Dokter \nU kunt uw bijdrage in de collecte overmaken via de Scipio-app of op NL 51 RABO 0329 1113 10 onder vermelding van “collecte on-line diensten”. De Commissie van Beheer zorgt dan voor de verdeling over de collectedoelen. \nKlik hier voor de liturgie met teksten\nEen goede dienst gewenst in verbondenheid
URL:https://ngk-hoogezand-sappemeer.nl/activiteit/ds-a-m-pathuis-heilig-avondmaal-4/
LOCATION:De Ark\, Rembrandtlaan 194\, Hoogezand\, Groningen\, 9601 XD\, Nederland
CATEGORIES:Kerkdienst
END:VEVENT
BEGIN:VEVENT
DTSTART;TZID=Europe/Amsterdam:20231210T163000
DTEND;TZID=Europe/Amsterdam:20231210T180000
DTSTAMP:20260420T190917
CREATED:20231107T151426Z
LAST-MODIFIED:20231209T154951Z
UID:4366-1702225800-1702231200@ngk-hoogezand-sappemeer.nl
SUMMARY:Ds. G. Meijer - Heilig Avondmaal
DESCRIPTION:Deze dienst in on-line of later te volgen via Kerkdienstgemist\n\nLiturgie\nkomen\nVotum\nGroet\nDNP 36: 2\nhoren\nGebed\n1 Thessalonicenzen 4: 13 – 18\nTroost elkaar met deze woorden (1Thessalonicenzen 4:18)\nLB 769: 1\, 2\nvieren\nUitleg bij het avondmaal\nRondgang (incl. zingen: Gezang 177)\ngeven\nDankgebed\nCollecte Diaconie\ngaan\nDNP 103:4\,7\nZegen \nU kunt uw bijdrage in de collecte overmaken via de Scipio-app of op NL 51 RABO 0329 1113 10 onder vermelding van “collecte on-line diensten”. De Commissie van Beheer zorgt dan voor de verdeling over de collectedoelen. \nKlik hier voor de liturgie met teksten\nEen goede dienst gewenst in verbondenheid
URL:https://ngk-hoogezand-sappemeer.nl/activiteit/ds-g-meijer-heilig-avondmaal-2/
LOCATION:De Ark\, Rembrandtlaan 194\, Hoogezand\, Groningen\, 9601 XD\, Nederland
CATEGORIES:Kerkdienst
END:VEVENT
END:VCALENDAR