BEGIN:VCALENDAR
VERSION:2.0
PRODID:-//NGK Hoogezand-Sappemeer - ECPv6.3.7//NONSGML v1.0//EN
CALSCALE:GREGORIAN
METHOD:PUBLISH
X-ORIGINAL-URL:https://ngk-hoogezand-sappemeer.nl
X-WR-CALDESC:Evenementen voor NGK Hoogezand-Sappemeer
REFRESH-INTERVAL;VALUE=DURATION:PT1H
X-Robots-Tag:noindex
X-PUBLISHED-TTL:PT1H
BEGIN:VTIMEZONE
TZID:Europe/Amsterdam
BEGIN:DAYLIGHT
TZOFFSETFROM:+0100
TZOFFSETTO:+0200
TZNAME:CEST
DTSTART:20230326T010000
END:DAYLIGHT
BEGIN:STANDARD
TZOFFSETFROM:+0200
TZOFFSETTO:+0100
TZNAME:CET
DTSTART:20231029T010000
END:STANDARD
END:VTIMEZONE
BEGIN:VEVENT
DTSTART;TZID=Europe/Amsterdam:20231119T100000
DTEND;TZID=Europe/Amsterdam:20231119T113000
DTSTAMP:20260420T203402
CREATED:20231010T123353Z
LAST-MODIFIED:20231118T221541Z
UID:4295-1700388000-1700393400@ngk-hoogezand-sappemeer.nl
SUMMARY:Br. B.R. Munneke
DESCRIPTION:Deze dienst in on-line of later te volgen via Kerkdienstgemist\n\nLiturgie\nVotum en groet\nZingen GK 163: 1\, 2\, 3\nGebed om opening van het Woord\nWet\nZingen LBK Psalm 111: 1\, 6\nLezen: 1 Korintiërs 1: 18 – 29\nLezen: 2 Korintiërs 12: 1 – 10\nZingen Psalm 27: 7\nTekst: 2 Korintiërs 12: 9\nPreek\nLuisterlied Matthijn Buwalda\nGebed\, voorbede\nCollecten: Kerk en Theologische Universiteit\nZingen HH 548/Opw 331\nZegen \nBegeleiding: Jan Leemhuis\nSchriftlezing: Wim Harmanny \nU kunt uw bijdrage in de collecte overmaken via de Scipio-app of op NL 51 RABO 0329 1113 10 onder vermelding van “collecte on-line diensten”. De Commissie van Beheer zorgt dan voor de verdeling over de collectedoelen. \nKlik hier voor de liturgie met teksten\nEen goede dienst gewenst in verbondenheid
URL:https://ngk-hoogezand-sappemeer.nl/activiteit/br-b-r-munneke-4/
LOCATION:De Ark\, Rembrandtlaan 194\, Hoogezand\, Groningen\, 9601 XD\, Nederland
CATEGORIES:Kerkdienst
END:VEVENT
BEGIN:VEVENT
DTSTART;TZID=Europe/Amsterdam:20231119T163000
DTEND;TZID=Europe/Amsterdam:20231119T180000
DTSTAMP:20260420T203402
CREATED:20231010T123432Z
LAST-MODIFIED:20231119T143810Z
UID:4297-1700411400-1700416800@ngk-hoogezand-sappemeer.nl
SUMMARY:Ds. A.M. Pathuis
DESCRIPTION:Deze dienst in on-line of later te volgen via Kerkdienstgemist\n\nLiturgie\nVotum en groet\nZingen: Opwekking 281 \nLezen: Psalm 42:7-12\nGebed\nZingen: DNP Psalm 77:1\, 2 \nPreek (deel 1)\nZingen: DNP Psalm 42:3 \nLezen: Romeinen 8:18-28\nPreek (deel 2)\nGeloofsbelijdenis: Zingen: Opwekking 575 \nDankgebed\nCollecte Kerk en Theologische Universiteit\nZingen: Liedboek 835 \nZegen \nU kunt uw bijdrage in de collecte overmaken via de Scipio-app of op NL 51 RABO 0329 1113 10 onder vermelding van “collecte on-line diensten”. De Commissie van Beheer zorgt dan voor de verdeling over de collectedoelen. \nEen goede dienst gewenst in verbondenheid
URL:https://ngk-hoogezand-sappemeer.nl/activiteit/ds-a-m-pathuis-12/
LOCATION:De Ark\, Rembrandtlaan 194\, Hoogezand\, Groningen\, 9601 XD\, Nederland
CATEGORIES:Kerkdienst
END:VEVENT
END:VCALENDAR