BEGIN:VCALENDAR
VERSION:2.0
PRODID:-//NGK Hoogezand-Sappemeer - ECPv6.3.7//NONSGML v1.0//EN
CALSCALE:GREGORIAN
METHOD:PUBLISH
X-WR-CALNAME:NGK Hoogezand-Sappemeer
X-ORIGINAL-URL:https://ngk-hoogezand-sappemeer.nl
X-WR-CALDESC:Evenementen voor NGK Hoogezand-Sappemeer
REFRESH-INTERVAL;VALUE=DURATION:PT1H
X-Robots-Tag:noindex
X-PUBLISHED-TTL:PT1H
BEGIN:VTIMEZONE
TZID:Europe/Amsterdam
BEGIN:DAYLIGHT
TZOFFSETFROM:+0100
TZOFFSETTO:+0200
TZNAME:CEST
DTSTART:20230326T010000
END:DAYLIGHT
BEGIN:STANDARD
TZOFFSETFROM:+0200
TZOFFSETTO:+0100
TZNAME:CET
DTSTART:20231029T010000
END:STANDARD
END:VTIMEZONE
BEGIN:VEVENT
DTSTART;TZID=Europe/Amsterdam:20231105T100000
DTEND;TZID=Europe/Amsterdam:20231105T113000
DTSTAMP:20260420T203405
CREATED:20231010T122739Z
LAST-MODIFIED:20231103T103755Z
UID:4287-1699178400-1699183800@ngk-hoogezand-sappemeer.nl
SUMMARY:Br. G.J. Bondt
DESCRIPTION:Deze dienst in on-line of later te volgen via Kerkdienstgemist\n\nLiturgie\nVotum en groet (van Sela)\nZingen: Als ik naar de bergen kijk (Sela)\nZingen: Opwekking 765\nZingen: Here’s my heart (Casting Crowns)\nGebed\nKindermoment – God houdt van je en daarom hoef je niet bang te zijn.\nZingen met de kinderen: Opwekking kids 77\nSamenvatting wet – Levenshouding hart omhoog naar de Here\nLezen: Johannes 19: 23 – 24\nPreek\nGebed\nZingen: Maak ons hart onrustig (Schrijvers voor gerechtigheid)\nCollecte Kerk en Diaconie\nZingen: Who am I (Casting Crowns)\nZingen: Psalm 121 op de berijming van\nOpwekking 640\nZegen \nBegeleiding: Nanno Siertsema\nSchriftlezing: Frederik of José Leemhuis \nU kunt uw bijdrage in de collecte overmaken via de Scipio-app of op NL 51 RABO 0329 1113 10 onder vermelding van “collecte on-line diensten”. De Commissie van Beheer zorgt dan voor de verdeling over de collectedoelen. \nKlik hier voor de liturgie met teksten\nEen goede dienst gewenst in verbondenheid
URL:https://ngk-hoogezand-sappemeer.nl/activiteit/br-g-j-bondt-3/
LOCATION:De Ark\, Rembrandtlaan 194\, Hoogezand\, Groningen\, 9601 XD\, Nederland
CATEGORIES:Kerkdienst
END:VEVENT
BEGIN:VEVENT
DTSTART;TZID=Europe/Amsterdam:20231105T163000
DTEND;TZID=Europe/Amsterdam:20231105T180000
DTSTAMP:20260420T203405
CREATED:20231010T122923Z
LAST-MODIFIED:20231103T104014Z
UID:4289-1699201800-1699207200@ngk-hoogezand-sappemeer.nl
SUMMARY:Ds. W. Jagersma
DESCRIPTION:Deze dienst in on-line of later te volgen via Kerkdienstgemist\n\nLiturgie\nVotum en groet\nSela: U bent hier\nGebed\nLezen: Psalm 29\nZingen Psalm 29: 1 – 2\nPreek\nLied: ‘God en God alleen’\nGebed\nGeloofsbelijdenis + Gezang 165\nCollecte Kerk en Diaconie\nGKB Gezang 108\nZegen \nU kunt uw bijdrage in de collecte overmaken via de Scipio-app of op NL 51 RABO 0329 1113 10 onder vermelding van “collecte on-line diensten”. De Commissie van Beheer zorgt dan voor de verdeling over de collectedoelen. \nKlik hier voor de liturgie met teksten\nEen goede dienst gewenst in verbondenheid
URL:https://ngk-hoogezand-sappemeer.nl/activiteit/ds-w-jagersma/
LOCATION:De Ark\, Rembrandtlaan 194\, Hoogezand\, Groningen\, 9601 XD\, Nederland
CATEGORIES:Kerkdienst
END:VEVENT
END:VCALENDAR