BEGIN:VCALENDAR
VERSION:2.0
PRODID:-//NGK Hoogezand-Sappemeer - ECPv6.3.7//NONSGML v1.0//EN
CALSCALE:GREGORIAN
METHOD:PUBLISH
X-WR-CALNAME:NGK Hoogezand-Sappemeer
X-ORIGINAL-URL:https://ngk-hoogezand-sappemeer.nl
X-WR-CALDESC:Evenementen voor NGK Hoogezand-Sappemeer
REFRESH-INTERVAL;VALUE=DURATION:PT1H
X-Robots-Tag:noindex
X-PUBLISHED-TTL:PT1H
BEGIN:VTIMEZONE
TZID:Europe/Amsterdam
BEGIN:DAYLIGHT
TZOFFSETFROM:+0100
TZOFFSETTO:+0200
TZNAME:CEST
DTSTART:20230326T010000
END:DAYLIGHT
BEGIN:STANDARD
TZOFFSETFROM:+0200
TZOFFSETTO:+0100
TZNAME:CET
DTSTART:20231029T010000
END:STANDARD
END:VTIMEZONE
BEGIN:VEVENT
DTSTART;TZID=Europe/Amsterdam:20231101T193000
DTEND;TZID=Europe/Amsterdam:20231101T210000
DTSTAMP:20260420T203405
CREATED:20231010T122642Z
LAST-MODIFIED:20231102T193439Z
UID:4285-1698867000-1698872400@ngk-hoogezand-sappemeer.nl
SUMMARY:Ds. A.M. Pathuis - Dankdag
DESCRIPTION:Deze dienst in on-line of later te volgen via Kerkdienstgemist\n\nLiturgie\nVotum: DNP Psalm 65: 1\nGroet\nZingen: DNP Psalm 65: 2\, 4\, 5\nGebed\nLezen: Leviticus 23: 33 – 36\nLezen: Leviticus 23: 39 – 43\nLezen: Deuteronomium 16: 13 – 15\nZingen: DNP Psalm 118: 1\, 7\nPreek\nZingen: LvdK Gezang 381\nDankgebed\nZingen: GKB (2017) Gezang 229: 1\, 4\nCollecteaankondiging Diaconie; Dorcas\nZingen: Liedboek 248\nZegen \nBegeleiding: Jan Leemhuis\nSchriftlezing: Jannie Prins \nU kunt uw bijdrage in de collecte overmaken via de Scipio-app of op NL 51 RABO 0329 1113 10 onder vermelding van “collecte on-line diensten”. De Commissie van Beheer zorgt dan voor de verdeling over de collectedoelen. \nKlik hier voor de liturgie met teksten\nEen goede dienst gewenst in verbondenheid
URL:https://ngk-hoogezand-sappemeer.nl/activiteit/ds-a-m-pathuis-dankdag-2/
LOCATION:De Ark\, Rembrandtlaan 194\, Hoogezand\, Groningen\, 9601 XD\, Nederland
CATEGORIES:Kerkdienst
END:VEVENT
END:VCALENDAR