BEGIN:VCALENDAR
VERSION:2.0
PRODID:-//NGK Hoogezand-Sappemeer - ECPv6.3.7//NONSGML v1.0//EN
CALSCALE:GREGORIAN
METHOD:PUBLISH
X-WR-CALNAME:NGK Hoogezand-Sappemeer
X-ORIGINAL-URL:https://ngk-hoogezand-sappemeer.nl
X-WR-CALDESC:Evenementen voor NGK Hoogezand-Sappemeer
REFRESH-INTERVAL;VALUE=DURATION:PT1H
X-Robots-Tag:noindex
X-PUBLISHED-TTL:PT1H
BEGIN:VTIMEZONE
TZID:Europe/Amsterdam
BEGIN:DAYLIGHT
TZOFFSETFROM:+0100
TZOFFSETTO:+0200
TZNAME:CEST
DTSTART:20230326T010000
END:DAYLIGHT
BEGIN:STANDARD
TZOFFSETFROM:+0200
TZOFFSETTO:+0100
TZNAME:CET
DTSTART:20231029T010000
END:STANDARD
END:VTIMEZONE
BEGIN:VEVENT
DTSTART;TZID=Europe/Amsterdam:20231015T100000
DTEND;TZID=Europe/Amsterdam:20231015T113000
DTSTAMP:20260420T215430
CREATED:20230922T152335Z
LAST-MODIFIED:20231014T161726Z
UID:4247-1697364000-1697369400@ngk-hoogezand-sappemeer.nl
SUMMARY:Ds. A.M. Pathuis - Heilig Avondmaal
DESCRIPTION:Deze dienst in on-line of later te volgen via Kerkdienstgemist\n\nLiturgie\nVerwondering\nWelkom en introductie Michazondag\nStilte\, votum en groet\nZingen: DNP Psalm 8 wisselzang\nKindermoment\nZingen: ‘God is in control’ – MSNK\nGebrokenheid en verootmoediging\n– Schuldbelijdenis\n– Zingen: Opwekking 585\n– Gebed\n– Lezen: Joel 1 en Joel 2: 18 – 27\n– Preek\n– Zingen: Schrijvers voor Gerechtigheid\nVernieuwing\nDankgebed\nViering Heilig Avondmaal\nGebed\nZingen: Opwekking 790\nViering\nZingen: Liedboek 23b: 4\, 5\nLeefregel: Micha 6: 8\nCollecte: Micha Nederland\nInteractief moment\nZingen: Opwekking 710\nZegen \nBegeleiding: Nanno Siertsema\nSchriftlezing: Femke Bondt \nU kunt uw bijdrage in de collecte overmaken via de Scipio-app of op NL 51 RABO 0329 1113 10 onder vermelding van “collecte on-line diensten”. De Commissie van Beheer zorgt dan voor de verdeling over de collectedoelen. \nKlik hier voor de liturgie met teksten\nEen goede dienst gewenst in verbondenheid
URL:https://ngk-hoogezand-sappemeer.nl/activiteit/ds-a-m-pathuis-heilig-avondmaal-3/
LOCATION:De Ark\, Rembrandtlaan 194\, Hoogezand\, Groningen\, 9601 XD\, Nederland
CATEGORIES:Kerkdienst
END:VEVENT
BEGIN:VEVENT
DTSTART;TZID=Europe/Amsterdam:20231015T163000
DTEND;TZID=Europe/Amsterdam:20231015T180000
DTSTAMP:20260420T215430
CREATED:20230922T152522Z
LAST-MODIFIED:20231014T161942Z
UID:4249-1697387400-1697392800@ngk-hoogezand-sappemeer.nl
SUMMARY:Ds. Th.J. Havinga - Heilig Avondmaal
DESCRIPTION:Deze dienst in on-line of later te volgen via Kerkdienstgemist\n\nLiturgie\nVotum en groet\nOpw. 277\nGebed\nViering Avondmaal\nOpw. 737\nLB 381: 6\nLezen en tekst: Psalm 63\nPreek\nPs. 63: 1\, 2\nGebed\nGez. 177: 1\, 2\, 3\, 4\nCollecte Micha Nederland\nLB. 416: 1\, 2\, 3\, 4 A capella\nZegen \nU kunt uw bijdrage in de collecte overmaken via de Scipio-app of op NL 51 RABO 0329 1113 10 onder vermelding van “collecte on-line diensten”. De Commissie van Beheer zorgt dan voor de verdeling over de collectedoelen. \nKlik hier voor de liturgie met teksten\nEen goede dienst gewenst in verbondenheid
URL:https://ngk-hoogezand-sappemeer.nl/activiteit/ds-th-j-havinga-heilig-avondmaal/
LOCATION:De Ark\, Rembrandtlaan 194\, Hoogezand\, Groningen\, 9601 XD\, Nederland
CATEGORIES:Kerkdienst
END:VEVENT
END:VCALENDAR