BEGIN:VCALENDAR
VERSION:2.0
PRODID:-//NGK Hoogezand-Sappemeer - ECPv6.3.7//NONSGML v1.0//EN
CALSCALE:GREGORIAN
METHOD:PUBLISH
X-WR-CALNAME:NGK Hoogezand-Sappemeer
X-ORIGINAL-URL:https://ngk-hoogezand-sappemeer.nl
X-WR-CALDESC:Evenementen voor NGK Hoogezand-Sappemeer
REFRESH-INTERVAL;VALUE=DURATION:PT1H
X-Robots-Tag:noindex
X-PUBLISHED-TTL:PT1H
BEGIN:VTIMEZONE
TZID:Europe/Amsterdam
BEGIN:DAYLIGHT
TZOFFSETFROM:+0100
TZOFFSETTO:+0200
TZNAME:CEST
DTSTART:20230326T010000
END:DAYLIGHT
BEGIN:STANDARD
TZOFFSETFROM:+0200
TZOFFSETTO:+0100
TZNAME:CET
DTSTART:20231029T010000
END:STANDARD
END:VTIMEZONE
BEGIN:VEVENT
DTSTART;TZID=Europe/Amsterdam:20230924T100000
DTEND;TZID=Europe/Amsterdam:20230924T113000
DTSTAMP:20260420T232407
CREATED:20230827T110528Z
LAST-MODIFIED:20230924T133702Z
UID:4214-1695549600-1695555000@ngk-hoogezand-sappemeer.nl
SUMMARY:Ds. N.W. Dijksterhuis
DESCRIPTION:Deze dienst in on-line of later te volgen via Kerkdienstgemist\n\nU kunt de dienst ook beluisteren via  kerkomroep \nLiturgie\nWelkom en mededelingen.\nZingen Votum en groet. (Sela)\nWet van God.\nZingen GKB Gezang 156\nGebed voor de opening van het woord\nKorte kinderpreek / kinderen naar Kidsclub\nLezen Genesis 6: 1 – 8 .\nZingen NLB Gezang 654: 1\, 2\, 4\nTekst Genesis 6: 6\nVerkondiging. God heeft spijt?\nZingen DNP Psalm 103: 2\, 3\nDankgebed en voorbede\nAandacht voor collecte kerk en Emeritering\nSlotlied: Opwekking 331\nZegen \nBegeleiding: Nanno Siertsema\nSchriftlezing: Beno Munneke \nU kunt uw bijdrage in de collecte overmaken via de Scipio-app of op NL 51 RABO 0329 1113 10 onder vermelding van “collecte on-line diensten”. De Commissie van Beheer zorgt dan voor de verdeling over de collectedoelen. \nKlik hier voor de liturgie met teksten\nEen goede dienst gewenst in verbondenheid
URL:https://ngk-hoogezand-sappemeer.nl/activiteit/ds-n-w-dijksterhuis/
LOCATION:De Ark\, Rembrandtlaan 194\, Hoogezand\, Groningen\, 9601 XD\, Nederland
CATEGORIES:Kerkdienst
END:VEVENT
BEGIN:VEVENT
DTSTART;TZID=Europe/Amsterdam:20230924T163000
DTEND;TZID=Europe/Amsterdam:20230924T180000
DTSTAMP:20260420T232407
CREATED:20230827T110621Z
LAST-MODIFIED:20230924T134022Z
UID:4216-1695573000-1695578400@ngk-hoogezand-sappemeer.nl
SUMMARY:Ds. A.M. Pathuis
DESCRIPTION:Deze dienst in on-line of later te volgen via Kerkdienstgemist\n\nLiturgie\nVotum en groet\nGeloofsbelijdenis: Zingen: Liedboek 304\nGebed\nLezen: Hosea 11\nZingen: GKB Psalm 77: 3\, 6 \nPreek\nZingen: Opwekking 136\nZingen: GKB Gezang 181: 1 \nDankgebed\nZingen: GKB Gezang 181: 8 \nCollecte Kerk en Emeritering\nZingen: GKB Psalm 103: 1\, 5\, 7 \nZegen \nU kunt uw bijdrage in de collecte overmaken via de Scipio-app of op NL 51 RABO 0329 1113 10 onder vermelding van “collecte on-line diensten”. De Commissie van Beheer zorgt dan voor de verdeling over de collectedoelen. \nKlik hier voor de liturgie met teksten\nEen goede dienst gewenst in verbondenheid
URL:https://ngk-hoogezand-sappemeer.nl/activiteit/ds-a-m-pathuis-9/
LOCATION:De Ark\, Rembrandtlaan 194\, Hoogezand\, Groningen\, 9601 XD\, Nederland
CATEGORIES:Kerkdienst
END:VEVENT
END:VCALENDAR