BEGIN:VCALENDAR
VERSION:2.0
PRODID:-//NGK Hoogezand-Sappemeer - ECPv6.3.7//NONSGML v1.0//EN
CALSCALE:GREGORIAN
METHOD:PUBLISH
X-ORIGINAL-URL:https://ngk-hoogezand-sappemeer.nl
X-WR-CALDESC:Evenementen voor NGK Hoogezand-Sappemeer
REFRESH-INTERVAL;VALUE=DURATION:PT1H
X-Robots-Tag:noindex
X-PUBLISHED-TTL:PT1H
BEGIN:VTIMEZONE
TZID:Europe/Amsterdam
BEGIN:DAYLIGHT
TZOFFSETFROM:+0100
TZOFFSETTO:+0200
TZNAME:CEST
DTSTART:20230326T010000
END:DAYLIGHT
BEGIN:STANDARD
TZOFFSETFROM:+0200
TZOFFSETTO:+0100
TZNAME:CET
DTSTART:20231029T010000
END:STANDARD
END:VTIMEZONE
BEGIN:VEVENT
DTSTART;TZID=Europe/Amsterdam:20230917T100000
DTEND;TZID=Europe/Amsterdam:20230917T113000
DTSTAMP:20260420T232406
CREATED:20230827T110256Z
LAST-MODIFIED:20230916T081653Z
UID:4210-1694944800-1694950200@ngk-hoogezand-sappemeer.nl
SUMMARY:Br. B.R. Munneke
DESCRIPTION:Deze dienst in on-line of later te volgen via Kerkdienstgemist\n\nU kunt de dienst ook beluisteren via  kerkomroep \nLiturgie\nVotum en groet\nZingen Psalm 43: 1 – 3\nGebed om opening van het Woord\nWet\nZingen Gz(2017) 200\nLezen: Johannes 13: 1 – 11\nZingen Opwekking 695\nTekst: Johannes 13: 6 – 13\nPreek\nZingen Lb 569\nGebed\, voorbede\nCollecten Kerk en Evangelisatie\nZingen LB 182: 1\, 4\, 6\nZegen \nBegeleiding: Jan Leemhuis\nSchriftlezing: Herman Dokter \nU kunt uw bijdrage in de collecte overmaken via de Scipio-app of op NL 51 RABO 0329 1113 10 onder vermelding van “collecte on-line diensten”. De Commissie van Beheer zorgt dan voor de verdeling over de collectedoelen. \nKlik hier voor de liturgie met teksten\nEen goede dienst gewenst in verbondenheid
URL:https://ngk-hoogezand-sappemeer.nl/activiteit/ds-j-c-van-der-vecht/
LOCATION:De Ark\, Rembrandtlaan 194\, Hoogezand\, Groningen\, 9601 XD\, Nederland
CATEGORIES:Kerkdienst
END:VEVENT
BEGIN:VEVENT
DTSTART;TZID=Europe/Amsterdam:20230917T163000
DTEND;TZID=Europe/Amsterdam:20230917T180000
DTSTAMP:20260420T232406
CREATED:20230827T110403Z
LAST-MODIFIED:20230916T081925Z
UID:4212-1694968200-1694973600@ngk-hoogezand-sappemeer.nl
SUMMARY:Ds. R. Sietsma
DESCRIPTION:Deze dienst in on-line of later te volgen via Kerkdienstgemist\n\nU kunt de dienst ook beluisteren via  kerkomroep \nLiturgie\nVotum en groet\nLvK 476: 1\, 5\nGebed\nLezen Psalm 96 (God is de God van de\nGeschiedenis)\nOpw. 267\nPreek over PS 96 – Wat doet Geschiedenis met jou?\n– Moment voor vragen – opmerkingen\nLB 90A: 1\, 3\, 4\, 6\nGebed\nCollecte kerk en Evangelisatie\nGeloofsbelijdenis van Nicea\nLB 766: 1\, 2\, 3\nZegen en Amen \nU kunt uw bijdrage in de collecte overmaken via de Scipio-app of op NL 51 RABO 0329 1113 10 onder vermelding van “collecte on-line diensten”. De Commissie van Beheer zorgt dan voor de verdeling over de collectedoelen. \nKlik hier voor de liturgie met teksten\nEen goede dienst gewenst in verbondenheid
URL:https://ngk-hoogezand-sappemeer.nl/activiteit/ds-r-sietsma-7/
LOCATION:De Ark\, Rembrandtlaan 194\, Hoogezand\, Groningen\, 9601 XD\, Nederland
CATEGORIES:Kerkdienst
END:VEVENT
END:VCALENDAR