BEGIN:VCALENDAR
VERSION:2.0
PRODID:-//NGK Hoogezand-Sappemeer - ECPv6.3.7//NONSGML v1.0//EN
CALSCALE:GREGORIAN
METHOD:PUBLISH
X-ORIGINAL-URL:https://ngk-hoogezand-sappemeer.nl
X-WR-CALDESC:Evenementen voor NGK Hoogezand-Sappemeer
REFRESH-INTERVAL;VALUE=DURATION:PT1H
X-Robots-Tag:noindex
X-PUBLISHED-TTL:PT1H
BEGIN:VTIMEZONE
TZID:Europe/Amsterdam
BEGIN:DAYLIGHT
TZOFFSETFROM:+0100
TZOFFSETTO:+0200
TZNAME:CEST
DTSTART:20230326T010000
END:DAYLIGHT
BEGIN:STANDARD
TZOFFSETFROM:+0200
TZOFFSETTO:+0100
TZNAME:CET
DTSTART:20231029T010000
END:STANDARD
END:VTIMEZONE
BEGIN:VEVENT
DTSTART;TZID=Europe/Amsterdam:20230903T100000
DTEND;TZID=Europe/Amsterdam:20230903T113000
DTSTAMP:20260420T232404
CREATED:20230827T105818Z
LAST-MODIFIED:20230902T082041Z
UID:4202-1693735200-1693740600@ngk-hoogezand-sappemeer.nl
SUMMARY:Ds. A.M. Pathuis - huwelijksbevestiging Jitske Renkema en John Kooistra
DESCRIPTION:Deze dienst in on-line of later te volgen via Kerkdienstgemist\n\nU kunt de dienst ook beluisteren via  kerkomroep \nLiturgie\nWelkom\nLezen: Psalm 108: 2 – 5\nZingen: Sela – ‘Breng ons samen’\nVotum en groet (beide gesproken)\nZingen: Opwekking 789\nGebed\nKindermoment\nLuisterlied: Elly & Rikkert ‘Hee wil jij mijn vriendje zijn’\nLezen: Ruth 1: 1 – 19a\nZingen: DNP Psalm 36: 2\nTekst: Psalm 108: 5\nPreek\nZingen: Jenn Johnson ‘Goodness of God’\nHuwelijksbevestiging\nOpwekking 767\nZegen\nZingen: Sela – ‘Mag ik jou tot zegen zijn’\nOverhandiging trouwbijbel (ook aan Matthijs Moedt en Iris Koning)\nDankgebed\nCollecte\nZingen: Opwekking 733\nZegen en gesproken ‘Amen’ \nBegeleiding: Jan Leemhuis\nSchriftlezing: Erna Maring \nU kunt uw bijdrage in de collecte overmaken via de Scipio-app of op NL 51 RABO 0329 1113 10 onder vermelding van “collecte on-line diensten”. De Commissie van Beheer zorgt dan voor de verdeling over de collectedoelen. \nKlik hier voor de liturgie met teksten\nEen goede dienst gewenst in verbondenheid
URL:https://ngk-hoogezand-sappemeer.nl/activiteit/ds-a-m-pathuis-huwelijksbevestiging/
LOCATION:De Ark\, Rembrandtlaan 194\, Hoogezand\, Groningen\, 9601 XD\, Nederland
CATEGORIES:Kerkdienst
END:VEVENT
BEGIN:VEVENT
DTSTART;TZID=Europe/Amsterdam:20230903T163000
DTEND;TZID=Europe/Amsterdam:20230903T180000
DTSTAMP:20260420T232404
CREATED:20230827T105908Z
LAST-MODIFIED:20230902T082531Z
UID:4204-1693758600-1693764000@ngk-hoogezand-sappemeer.nl
SUMMARY:Ds. J. Plug
DESCRIPTION:Deze dienst in on-line of later te volgen via Kerkdienstgemist\n\nU kunt de dienst ook beluisteren via  kerkomroep \nLiturgie\nWelkom en afkondigingen\nVotum en groet\nLied: Ps. 138: 1\, 4\nGebed\nLezen: Genesis 27\nLied: Opwekking 518\nTekst: Genesis 27: 18\nVerkondiging: Wie ben je?\nLied na de preek: Opw 710\nDankzegging en voorbede\nCollecte kerk en Theologische Universiteit\nGeloofsbelijdenis\nLied: LB 416\nZegen \nU kunt uw bijdrage in de collecte overmaken via de Scipio-app of op NL 51 RABO 0329 1113 10 onder vermelding van “collecte on-line diensten”. De Commissie van Beheer zorgt dan voor de verdeling over de collectedoelen. \nKlik hier voor de liturgie met teksten\nEen goede dienst gewenst in verbondenheid
URL:https://ngk-hoogezand-sappemeer.nl/activiteit/ds-j-plug/
LOCATION:De Ark\, Rembrandtlaan 194\, Hoogezand\, Groningen\, 9601 XD\, Nederland
CATEGORIES:Kerkdienst
END:VEVENT
END:VCALENDAR