BEGIN:VCALENDAR
VERSION:2.0
PRODID:-//NGK Hoogezand-Sappemeer - ECPv6.3.7//NONSGML v1.0//EN
CALSCALE:GREGORIAN
METHOD:PUBLISH
X-ORIGINAL-URL:https://ngk-hoogezand-sappemeer.nl
X-WR-CALDESC:Evenementen voor NGK Hoogezand-Sappemeer
REFRESH-INTERVAL;VALUE=DURATION:PT1H
X-Robots-Tag:noindex
X-PUBLISHED-TTL:PT1H
BEGIN:VTIMEZONE
TZID:Europe/Amsterdam
BEGIN:DAYLIGHT
TZOFFSETFROM:+0100
TZOFFSETTO:+0200
TZNAME:CEST
DTSTART:20230326T010000
END:DAYLIGHT
BEGIN:STANDARD
TZOFFSETFROM:+0200
TZOFFSETTO:+0100
TZNAME:CET
DTSTART:20231029T010000
END:STANDARD
END:VTIMEZONE
BEGIN:VEVENT
DTSTART;TZID=Europe/Amsterdam:20230813T100000
DTEND;TZID=Europe/Amsterdam:20230813T113000
DTSTAMP:20260421T005309
CREATED:20230719T080517Z
LAST-MODIFIED:20230812T135634Z
UID:4170-1691920800-1691926200@ngk-hoogezand-sappemeer.nl
SUMMARY:Ds. A.M. Pathuis
DESCRIPTION:Deze dienst in on-line of later te volgen via Kerkdienstgemist\n\nU kunt de dienst ook beluisteren via  kerkomroep \nLiturgie\nZingen: GKB Psalm 92: 1\nVotum en groet\nZingen: GKB Psalm 92: 2\, 7\, 8\nGebed\nLezen: Genesis 1: 1 – 2: 3\nZingen: Opwekking 733\nLezen: Exodus 23: 9 – 19\nLezen: Exodus 20: 8 – 11\nZingen: DNP Psalm 23: 1\, 3\nLezen: Matteüs 11: 28 – 30\nPreek\nZingen: Opwekking 642\nDankgebed\nKinderlied: MSNK – ‘Wat is jouw droom?’\nKindermoment\nCollecte kerk en Emeritering\nZingen: Liedboek 146c: 1\, 3\, 4\, 7\nZegen \nBegeleiding: Nanno Siertsema\nSchriftlezing: Tonny Prins \nU kunt uw bijdrage in de collecte overmaken via de Scipio-app of op NL 51 RABO 0329 1113 10 onder vermelding van “collecte on-line diensten”. De Commissie van Beheer zorgt dan voor de verdeling over de collectedoelen. \nKlik hier voor de liturgie met teksten\nEen goede dienst gewenst in verbondenheid
URL:https://ngk-hoogezand-sappemeer.nl/activiteit/ds-a-m-pathuis-8/
LOCATION:De Ark\, Rembrandtlaan 194\, Hoogezand\, Groningen\, 9601 XD\, Nederland
CATEGORIES:Kerkdienst
END:VEVENT
END:VCALENDAR