BEGIN:VCALENDAR
VERSION:2.0
PRODID:-//NGK Hoogezand-Sappemeer - ECPv6.3.7//NONSGML v1.0//EN
CALSCALE:GREGORIAN
METHOD:PUBLISH
X-ORIGINAL-URL:https://ngk-hoogezand-sappemeer.nl
X-WR-CALDESC:Evenementen voor NGK Hoogezand-Sappemeer
REFRESH-INTERVAL;VALUE=DURATION:PT1H
X-Robots-Tag:noindex
X-PUBLISHED-TTL:PT1H
BEGIN:VTIMEZONE
TZID:Europe/Amsterdam
BEGIN:DAYLIGHT
TZOFFSETFROM:+0100
TZOFFSETTO:+0200
TZNAME:CEST
DTSTART:20230326T010000
END:DAYLIGHT
BEGIN:STANDARD
TZOFFSETFROM:+0200
TZOFFSETTO:+0100
TZNAME:CET
DTSTART:20231029T010000
END:STANDARD
END:VTIMEZONE
BEGIN:VEVENT
DTSTART;TZID=Europe/Amsterdam:20230806T100000
DTEND;TZID=Europe/Amsterdam:20230806T113000
DTSTAMP:20260421T005310
CREATED:20230719T080412Z
LAST-MODIFIED:20230805T141458Z
UID:4168-1691316000-1691321400@ngk-hoogezand-sappemeer.nl
SUMMARY:Br. G.J. Bondt
DESCRIPTION:Deze dienst in on-line of later te volgen via Kerkdienstgemist\n\nLiturgie\nVotum en groet\nZingen: NLB 84a\nZingen: Opwekking 733\nGebed\nKindermoment\nZingen met de kinderen: Gezang 159: 1\, 2\, 3\nLezen: Mattheüs 8: 18 – 20\nLezen: Mattheüs 25: 31 – 40\nPreek\nZingen: Psalm 107: 1\, 2\, 3\nWet\nZingen: Gezang 8: 1\, 2\, 3\nGebed\nZingen: Opwekking 818\nZingen: Sela; Gods zegen voor jou \nBegeleiding: Nanno Siertsema\nSchriftlezing: Jannie Prins\nCollecte: Kerk en Evangelisatie \nU kunt uw bijdrage in de collecte overmaken via de Scipio-app of op NL 51 RABO 0329 1113 10 onder vermelding van “collecte on-line diensten”. De Commissie van Beheer zorgt dan voor de verdeling over de collectedoelen. \nKlik hier voor de liturgie met teksten\nEen goede dienst gewenst in verbondenheid
URL:https://ngk-hoogezand-sappemeer.nl/activiteit/br-g-j-bondt-2/
LOCATION:De Ark\, Rembrandtlaan 194\, Hoogezand\, Groningen\, 9601 XD\, Nederland
CATEGORIES:Kerkdienst
END:VEVENT
END:VCALENDAR