BEGIN:VCALENDAR
VERSION:2.0
PRODID:-//NGK Hoogezand-Sappemeer - ECPv6.3.7//NONSGML v1.0//EN
CALSCALE:GREGORIAN
METHOD:PUBLISH
X-WR-CALNAME:NGK Hoogezand-Sappemeer
X-ORIGINAL-URL:https://ngk-hoogezand-sappemeer.nl
X-WR-CALDESC:Evenementen voor NGK Hoogezand-Sappemeer
REFRESH-INTERVAL;VALUE=DURATION:PT1H
X-Robots-Tag:noindex
X-PUBLISHED-TTL:PT1H
BEGIN:VTIMEZONE
TZID:Europe/Amsterdam
BEGIN:DAYLIGHT
TZOFFSETFROM:+0100
TZOFFSETTO:+0200
TZNAME:CEST
DTSTART:20230326T010000
END:DAYLIGHT
BEGIN:STANDARD
TZOFFSETFROM:+0200
TZOFFSETTO:+0100
TZNAME:CET
DTSTART:20231029T010000
END:STANDARD
END:VTIMEZONE
BEGIN:VEVENT
DTSTART;TZID=Europe/Amsterdam:20230618T100000
DTEND;TZID=Europe/Amsterdam:20230618T113000
DTSTAMP:20260421T033955
CREATED:20230530T205845Z
LAST-MODIFIED:20230617T203133Z
UID:4072-1687082400-1687087800@ngk-hoogezand-sappemeer.nl
SUMMARY:Br. H. Dokter
DESCRIPTION:De dienst is on-line of later te zien via kerkdienstmeebeleven\n \nEn vanaf deze zondag via Kerkdienstgemist\n\nU kunt de dienst ook beluisteren via  kerkomroep \nLiturgie\nVotum en groet\nZingen: GKB2006 Psalm 111: 1\, 4\, 6\nWetslezing\nZingen: GKB2006 Psalm 51: 4\nGebed\nKindermoment\nLezen/tekst: Lucas 4: 14 – 30 \nZingen: GKB Gezang 240: 4\, 5\nPreek\nZingen: Opwekking 461\nDankgebed en voorbeden\nCollecte Kerk en Zending & Hulpverlening\nZingen: GKB Gezang 162: 1\, 4 \nZegen \nBegeleiding: Nanno Siertsema \nU kunt uw bijdrage in de collecte overmaken via de Scipio-app of op NL 51 RABO 0329 1113 10 onder vermelding van “collecte on-line diensten”. De Commissie van Beheer zorgt dan voor de verdeling over de collectedoelen. \nKlik hier voor de liturgie met teksten\nEen goede dienst gewenst in verbondenheid
URL:https://ngk-hoogezand-sappemeer.nl/activiteit/br-h-dokter/
LOCATION:De Ark\, Rembrandtlaan 194\, Hoogezand\, Groningen\, 9601 XD\, Nederland
CATEGORIES:Kerkdienst
END:VEVENT
BEGIN:VEVENT
DTSTART;TZID=Europe/Amsterdam:20230618T163000
DTEND;TZID=Europe/Amsterdam:20230618T180000
DTSTAMP:20260421T033955
CREATED:20230530T205944Z
LAST-MODIFIED:20230617T213656Z
UID:4074-1687105800-1687111200@ngk-hoogezand-sappemeer.nl
SUMMARY:Ds. J. van der Vecht
DESCRIPTION:De dienst is on-line of later te zien via kerkdienstmeebeleven\n \nEn vanaf deze zondag via Kerkdienstgemist\n\nU kunt de dienst ook beluisteren via  kerkomroep \nLiturgie\nWelkom en mededelingen\nStilte\nZingen: DNP 65:1\, 2\nVotum en groet\nZingen: DNP 103: 4\, 6\nGebed\nZingen: LB 317: 1 -3\nSchriftlezing: Genesis 1: 26 – 2: 4\nSchriftlezing: Prediker 4: 1 – 6\nPreek\nZingen: Opwekking 717\nGeloofsbelijdenis\nZingen: Opwekking 277\nGebed\nCollecte Kerk en Zending & Hulpverlening\nZingen: Opwekking 695\nZegen \nU kunt uw bijdrage in de collecte overmaken via de Scipio-app of op NL 51 RABO 0329 1113 10 onder vermelding van “collecte on-line diensten”. De Commissie van Beheer zorgt dan voor de verdeling over de collectedoelen. \nEen goede dienst gewenst in verbondenheid
URL:https://ngk-hoogezand-sappemeer.nl/activiteit/ds-j-w-roosenbrand/
LOCATION:De Ark\, Rembrandtlaan 194\, Hoogezand\, Groningen\, 9601 XD\, Nederland
CATEGORIES:Kerkdienst
END:VEVENT
END:VCALENDAR