BEGIN:VCALENDAR
VERSION:2.0
PRODID:-//NGK Hoogezand-Sappemeer - ECPv6.3.7//NONSGML v1.0//EN
CALSCALE:GREGORIAN
METHOD:PUBLISH
X-ORIGINAL-URL:https://ngk-hoogezand-sappemeer.nl
X-WR-CALDESC:Evenementen voor NGK Hoogezand-Sappemeer
REFRESH-INTERVAL;VALUE=DURATION:PT1H
X-Robots-Tag:noindex
X-PUBLISHED-TTL:PT1H
BEGIN:VTIMEZONE
TZID:Europe/Amsterdam
BEGIN:DAYLIGHT
TZOFFSETFROM:+0100
TZOFFSETTO:+0200
TZNAME:CEST
DTSTART:20230326T010000
END:DAYLIGHT
BEGIN:STANDARD
TZOFFSETFROM:+0200
TZOFFSETTO:+0100
TZNAME:CET
DTSTART:20231029T010000
END:STANDARD
END:VTIMEZONE
BEGIN:VEVENT
DTSTART;TZID=Europe/Amsterdam:20230604T100000
DTEND;TZID=Europe/Amsterdam:20230604T113000
DTSTAMP:20260421T033954
CREATED:20230530T205300Z
LAST-MODIFIED:20230602T200342Z
UID:4064-1685872800-1685878200@ngk-hoogezand-sappemeer.nl
SUMMARY:Br. G.J. Bondt
DESCRIPTION:De dienst is on-line of later te zien via kerkdienstmeebeleven\nU kunt de dienst ook beluisteren via  kerkomroep \n \nLiturgie\nZingen: Opwekking 847\nVotum en groet\nZingen: Opwekking 369\nWet/Kindermoment 1 Petrus 4: 7 – 11 (Bijbel in gewone taal)\nGenadeverkondiging\nKinderlied: Ik was hongerig (Elly en Rikkert)\nKinderen gaan naar de Kidsclub\nZingen: Psalm 63: 1\, 2\, 3\nGebed\nLezen: Mattheüs 25: 31 – 46\nZingen: NLB 838: 1\, 2\, 3\, 4\nPreek (Tijdens de preek een aantal lezingen uit Mattheüs)\nZingen: Opwekking 802\nGebed\nCollecte Kerk en Evangelisatie\nZingen: Opwekking 378\nZingen: Gezang 64: 1\, 2\, 3\, 4\nZegen \nBegeleiding: Nanno Siertsema\nSchriftlezing: Erna Maring \nU kunt uw bijdrage in de collecte overmaken via de Scipio-app of op NL 51 RABO 0329 1113 10 onder vermelding van “collecte on-line diensten”. De Commissie van Beheer zorgt dan voor de verdeling over de collectedoelen. \nKlik hier voor de liturgie met teksten\nEen goede dienst gewenst in verbondenheid
URL:https://ngk-hoogezand-sappemeer.nl/activiteit/br-g-j-bondt/
LOCATION:De Ark\, Rembrandtlaan 194\, Hoogezand\, Groningen\, 9601 XD\, Nederland
CATEGORIES:Kerkdienst
END:VEVENT
BEGIN:VEVENT
DTSTART;TZID=Europe/Amsterdam:20230604T163000
DTEND;TZID=Europe/Amsterdam:20230604T180000
DTSTAMP:20260421T033954
CREATED:20230530T205521Z
LAST-MODIFIED:20230602T200524Z
UID:4066-1685896200-1685901600@ngk-hoogezand-sappemeer.nl
SUMMARY:Br. P. Braam
DESCRIPTION:De dienst is on-line of later te zien via kerkdienstmeebeleven\nU kunt de dienst ook beluisteren via  kerkomroep \n \nLiturgie\nVotum – groet\nGez 457: 1\, 2 \, 3\, 4\nGebed\nLezen 2 Samuel 6 : 1 – 11\nLezen zondag 4 HC\nPsalm 73: 11\nTekst 2 Samuel 6 : 7\nPreek – thema – EERHERSTEL OVER GODS WOEDE\nPsalm 99 : 1\,2\, 4\, 8\nDankgebed\nCollecte Kerk en Evangelisatie\nGez 179a\nZegen \nU kunt uw bijdrage in de collecte overmaken via de Scipio-app of op NL 51 RABO 0329 1113 10 onder vermelding van “collecte on-line diensten”. De Commissie van Beheer zorgt dan voor de verdeling over de collectedoelen. \nKlik hier voor de liturgie met teksten\nEen goede dienst gewenst in verbondenheid
URL:https://ngk-hoogezand-sappemeer.nl/activiteit/br-p-braam/
LOCATION:De Ark\, Rembrandtlaan 194\, Hoogezand\, Groningen\, 9601 XD\, Nederland
CATEGORIES:Kerkdienst
END:VEVENT
END:VCALENDAR