BEGIN:VCALENDAR
VERSION:2.0
PRODID:-//NGK Hoogezand-Sappemeer - ECPv6.3.7//NONSGML v1.0//EN
CALSCALE:GREGORIAN
METHOD:PUBLISH
X-ORIGINAL-URL:https://ngk-hoogezand-sappemeer.nl
X-WR-CALDESC:Evenementen voor NGK Hoogezand-Sappemeer
REFRESH-INTERVAL;VALUE=DURATION:PT1H
X-Robots-Tag:noindex
X-PUBLISHED-TTL:PT1H
BEGIN:VTIMEZONE
TZID:Europe/Amsterdam
BEGIN:DAYLIGHT
TZOFFSETFROM:+0100
TZOFFSETTO:+0200
TZNAME:CEST
DTSTART:20230326T010000
END:DAYLIGHT
BEGIN:STANDARD
TZOFFSETFROM:+0200
TZOFFSETTO:+0100
TZNAME:CET
DTSTART:20231029T010000
END:STANDARD
END:VTIMEZONE
BEGIN:VEVENT
DTSTART;TZID=Europe/Amsterdam:20230319T100000
DTEND;TZID=Europe/Amsterdam:20230319T113000
DTSTAMP:20260421T080222
CREATED:20230209T110735Z
LAST-MODIFIED:20230317T212054Z
UID:3748-1679220000-1679225400@ngk-hoogezand-sappemeer.nl
SUMMARY:Ds. J.W. Roosenbrand
DESCRIPTION:De dienst is on-line of later te zien via kerkdienstmeebeleven\nU kunt de dienst ook beluisteren via  kerkomroep \n \nLiturgie\nVotum en Groet\nLB oud 177: 1\, 2\, 5\, 6\, 7\nGods leefregels: Jacobus 3: 13 – 18\nLB nieuw 841: 1\, 3\, 4\nGebed\n2 Koningen 6: 8 – 23\nLiedboek nieuw 1009: 1\, 2\, 3  \nPreek over Matteüs 5: 9\nLiedboek nieuw 1010: 1\, 2\, 3\, 4\nGebeden\nCollectedoelen Kerk en  Zending en Hulpverlening\nLiedboek nieuw 552: 1\, 2\, 3\nZegen \nBegeleiding: Jan Leemhuis\nSchriftlezing: Jannie Prins \nU kunt uw bijdrage in de collecte overmaken via de Scipio-app of op NL 51 RABO 0329 1113 10 onder vermelding van “collecte on-line diensten”. De Commissie van Beheer zorgt dan voor de verdeling over de collectedoelen. \nKlik hier voor de liturgie met teksten\nEen goede dienst gewenst in verbondenheid
URL:https://ngk-hoogezand-sappemeer.nl/activiteit/ds-j-w-roosenbrandt/
LOCATION:De Ark\, Rembrandtlaan 194\, Hoogezand\, Groningen\, 9601 XD\, Nederland
CATEGORIES:Kerkdienst
END:VEVENT
BEGIN:VEVENT
DTSTART;TZID=Europe/Amsterdam:20230319T163000
DTEND;TZID=Europe/Amsterdam:20230319T180000
DTSTAMP:20260421T080222
CREATED:20230209T111123Z
LAST-MODIFIED:20230317T213038Z
UID:3750-1679243400-1679248800@ngk-hoogezand-sappemeer.nl
SUMMARY:Ds. W.C. van Slooten
DESCRIPTION:De dienst is on-line of later te zien via kerkdienstmeebeleven\nU kunt de dienst ook beluisteren via  kerkomroep \n \nLiturgie\nWelkom\nZingen: Psalm 98: 1\, 4\nStil gebed\, votum en groet\nGeloofsbelijdenis\nZingen: Hemelhoog 479\nGebed\nSchriftlezing: Johannes 3: 22 – 30 (HSV)\nMoment en zingen met de kinderen: OTH 436 (combo) Wat een vriend\nVerkondiging\nZingen: Hemelhoog 629\nGebed\nLuisterlied: The Blood\nCollectedoelen Kerk en Zending en Hulpverlening\nZingen: Hemelhoog 649\nZegen \nU kunt uw bijdrage in de collecte overmaken via de Scipio-app of op NL 51 RABO 0329 1113 10 onder vermelding van “collecte on-line diensten”. De Commissie van Beheer zorgt dan voor de verdeling over de collectedoelen. \nKlik hier voor de liturgie met teksten\nEen goede dienst gewenst in verbondenheid
URL:https://ngk-hoogezand-sappemeer.nl/activiteit/ds-wim-kees-van-slooten/
LOCATION:De Ark\, Rembrandtlaan 194\, Hoogezand\, Groningen\, 9601 XD\, Nederland
CATEGORIES:Kerkdienst
END:VEVENT
END:VCALENDAR