BEGIN:VCALENDAR
VERSION:2.0
PRODID:-//NGK Hoogezand-Sappemeer - ECPv6.3.7//NONSGML v1.0//EN
CALSCALE:GREGORIAN
METHOD:PUBLISH
X-ORIGINAL-URL:https://ngk-hoogezand-sappemeer.nl
X-WR-CALDESC:Evenementen voor NGK Hoogezand-Sappemeer
REFRESH-INTERVAL;VALUE=DURATION:PT1H
X-Robots-Tag:noindex
X-PUBLISHED-TTL:PT1H
BEGIN:VTIMEZONE
TZID:Europe/Amsterdam
BEGIN:DAYLIGHT
TZOFFSETFROM:+0100
TZOFFSETTO:+0200
TZNAME:CEST
DTSTART:20230326T010000
END:DAYLIGHT
BEGIN:STANDARD
TZOFFSETFROM:+0200
TZOFFSETTO:+0100
TZNAME:CET
DTSTART:20231029T010000
END:STANDARD
END:VTIMEZONE
BEGIN:VEVENT
DTSTART;TZID=Europe/Amsterdam:20230312T100000
DTEND;TZID=Europe/Amsterdam:20230312T113000
DTSTAMP:20260421T080222
CREATED:20230209T110455Z
LAST-MODIFIED:20230310T144759Z
UID:3744-1678615200-1678620600@ngk-hoogezand-sappemeer.nl
SUMMARY:Ds. A.M. Pathuis - Themadienst Genade
DESCRIPTION:De dienst is on-line of later te zien via kerkdienstmeebeleven\nU kunt de dienst ook beluisteren via  kerkomroep \n \nLiturgie\nMededelingen\nZingen: Sela ‘Votum en groet’\nZingen: Opwekking 369\nGebed\nKindermoment\nKinderlied: ‘God kent jou vanaf het begin’\n(Kinderen naar kidsclub)\nIntroductie thema ‘Genade’ ’\nZingen: PvN Psalm 130\nOverdenking\nLezen: NBV21 Efeziërs 2: 1 – 5\nZingen: Opwekking 688\nOverdenking\nLezen: NBV21 Efeziërs 2: 5b – 10\nLuisterlied: Phil Wickham – ‘This is our God’\,\nDankgebed\nCollecte 1e kerk 2e Emeritering\n(kinderen kidsclub komen terug)\nZingen: Opwekking 820\nZingen: Lauren Daigle – ‘You say’\nZegen \nBegeleiding: Nanno Siertsema\nSchriftlezing: Tea Snip \nU kunt uw bijdrage in de collecte overmaken via de Scipio-app of op NL 51 RABO 0329 1113 10 onder vermelding van “collecte on-line diensten”. De Commissie van Beheer zorgt dan voor de verdeling over de collectedoelen. \nKlik hier voor de liturgie met teksten\nEen goede dienst gewenst in verbondenheid
URL:https://ngk-hoogezand-sappemeer.nl/activiteit/ds-a-m-pathuis-2/
LOCATION:De Ark\, Rembrandtlaan 194\, Hoogezand\, Groningen\, 9601 XD\, Nederland
CATEGORIES:Kerkdienst
END:VEVENT
BEGIN:VEVENT
DTSTART;TZID=Europe/Amsterdam:20230312T163000
DTEND;TZID=Europe/Amsterdam:20230312T180000
DTSTAMP:20260421T080222
CREATED:20230209T110540Z
LAST-MODIFIED:20230310T145127Z
UID:3746-1678638600-1678644000@ngk-hoogezand-sappemeer.nl
SUMMARY:Ds. H. van Noort
DESCRIPTION:De dienst is on-line of later te zien via kerkdienstmeebeleven\nU kunt de dienst ook beluisteren via  kerkomroep \n \nLiturgie\nZingen GK gezang 171: 1\nStilte\nVotum en groet\nZingen GK gezang 171: 2 en 3\nGebed\nKindmoment\nZingen Opwekking voor kinderen 281\nLezen Deuteronomium 6: 4 – 7\nLezen Mattheus 7: 13 – 29\nZingen GK Psalm 1: 1 en 2\nVerkondiging\nZingen GK gezang 91\nGeloofsbelijdenis\nGebed\nCollecte 1e kerk 2e Emeritering\nZingen Opwekking 343\nZegen \nU kunt uw bijdrage in de collecte overmaken via de Scipio-app of op NL 51 RABO 0329 1113 10 onder vermelding van “collecte on-line diensten”. De Commissie van Beheer zorgt dan voor de verdeling over de collectedoelen. \nKlik hier voor de liturgie met teksten\nEen goede dienst gewenst in verbondenheid
URL:https://ngk-hoogezand-sappemeer.nl/activiteit/ds-h-van-noort-21/
LOCATION:De Ark\, Rembrandtlaan 194\, Hoogezand\, Groningen\, 9601 XD\, Nederland
CATEGORIES:Kerkdienst
END:VEVENT
END:VCALENDAR