BEGIN:VCALENDAR
VERSION:2.0
PRODID:-//NGK Hoogezand-Sappemeer - ECPv6.3.7//NONSGML v1.0//EN
CALSCALE:GREGORIAN
METHOD:PUBLISH
X-ORIGINAL-URL:https://ngk-hoogezand-sappemeer.nl
X-WR-CALDESC:Evenementen voor NGK Hoogezand-Sappemeer
REFRESH-INTERVAL;VALUE=DURATION:PT1H
X-Robots-Tag:noindex
X-PUBLISHED-TTL:PT1H
BEGIN:VTIMEZONE
TZID:Europe/Amsterdam
BEGIN:DAYLIGHT
TZOFFSETFROM:+0100
TZOFFSETTO:+0200
TZNAME:CEST
DTSTART:20230326T010000
END:DAYLIGHT
BEGIN:STANDARD
TZOFFSETFROM:+0200
TZOFFSETTO:+0100
TZNAME:CET
DTSTART:20231029T010000
END:STANDARD
END:VTIMEZONE
BEGIN:VEVENT
DTSTART;TZID=Europe/Amsterdam:20230308T193000
DTEND;TZID=Europe/Amsterdam:20230308T210000
DTSTAMP:20260421T080223
CREATED:20230209T110405Z
LAST-MODIFIED:20230308T142331Z
UID:3742-1678303800-1678309200@ngk-hoogezand-sappemeer.nl
SUMMARY:Ds. A.M. Pathuis - Biddag
DESCRIPTION:De dienst is on-line of later te zien via kerkdienstmeebeleven\nU kunt de dienst ook beluisteren via  kerkomroep \n \nLiturgie\nVotum en groet\nZingen: GKB (2017) Psalm 24: 1\, 2\, 3\nGebed\nZingen: Liedboek 221\nLezen: NBV21 Matteüs 6: 25 – 34\nPreek\nZingen: PvN Psalm 16\nGebed\nAfgewisseld met het zingen van ‘Heer\, wees nabij\, de aarde heeft gebeefd’ vs. 1\, 2\, 3 (op de wijs van Liedboek 247)\nGebed afsluiten zingen: Liedboek 247: 3\, 4\nCollecte Diaconie: Noodhulp aardbevingenTurkije en Syrië\nZingen: Liedboek 978\nZegen\nBegeleiding: Jan Leemhuis\nSchriftlezing: Alco Huttenga \nU kunt uw bijdrage in de collecte overmaken via de Scipio-app of op NL 51 RABO 0329 1113 10 onder vermelding van “collecte on-line diensten”. De Commissie van Beheer zorgt dan voor de verdeling over de collectedoelen. \nKlik hier voor de liturgie met teksten\nEen goede dienst gewenst in verbondenheid
URL:https://ngk-hoogezand-sappemeer.nl/activiteit/biddag/
LOCATION:De Ark\, Rembrandtlaan 194\, Hoogezand\, Groningen\, 9601 XD\, Nederland
CATEGORIES:Kerkdienst
END:VEVENT
END:VCALENDAR