BEGIN:VCALENDAR
VERSION:2.0
PRODID:-//NGK Hoogezand-Sappemeer - ECPv6.3.7//NONSGML v1.0//EN
CALSCALE:GREGORIAN
METHOD:PUBLISH
X-ORIGINAL-URL:https://ngk-hoogezand-sappemeer.nl
X-WR-CALDESC:Evenementen voor NGK Hoogezand-Sappemeer
REFRESH-INTERVAL;VALUE=DURATION:PT1H
X-Robots-Tag:noindex
X-PUBLISHED-TTL:PT1H
BEGIN:VTIMEZONE
TZID:Europe/Amsterdam
BEGIN:DAYLIGHT
TZOFFSETFROM:+0100
TZOFFSETTO:+0200
TZNAME:CEST
DTSTART:20220327T010000
END:DAYLIGHT
BEGIN:STANDARD
TZOFFSETFROM:+0200
TZOFFSETTO:+0100
TZNAME:CET
DTSTART:20221030T010000
END:STANDARD
END:VTIMEZONE
BEGIN:VEVENT
DTSTART;TZID=Europe/Amsterdam:20221231T193000
DTEND;TZID=Europe/Amsterdam:20221231T210000
DTSTAMP:20260425T130751
CREATED:20221128T132858Z
LAST-MODIFIED:20221230T163059Z
UID:3611-1672515000-1672520400@ngk-hoogezand-sappemeer.nl
SUMMARY:Br. B.R. Munneke - Oudjaar
DESCRIPTION:De dienst is on-line of later te zien via kerkdienstmeebeleven\nU kunt de dienst ook beluisteren via  kerkomroep \n \nLiturgie\nVotum en groet\nZingen DNP 90: 1\, 2\nGebed\nZingen DNP 90: 4\, 6\nLezing: Psalm 90\nZingen PvN 16\nPreek over Psalm 90: 12\nAls luisterlied: Dietrich Bonhoeffer; Door goede machten trouw en stil omgeven\nGebed\, afgesloten met het avondgebed van Luther.\nCollecte 1e kerk 2e Zending en Hulpverlening\nZingen LB ’13 245: 1\nLuisterlied met Geloofsbelijdenis\nZingen Lied 416\nZegen \nBegeleiding: Jan Leemhuis\nSchriftlezing: Tonny Prins \nU kunt uw bijdrage in de collecte overmaken via de Scipio-app of op NL 51 RABO 0329 1113 10 onder vermelding van “collecte on-line diensten”. De Commissie van Beheer zorgt dan voor de verdeling over de collectedoelen. \nKlik hier voor de liturgie met teksten\nEen goede dienst gewenst in verbondenheid
URL:https://ngk-hoogezand-sappemeer.nl/activiteit/br-b-r-munneke-oudjaar-2/
LOCATION:De Ark\, Rembrandtlaan 194\, Hoogezand\, Groningen\, 9601 XD\, Nederland
CATEGORIES:Kerkdienst
END:VEVENT
END:VCALENDAR